BEGIN:VCALENDAR
VERSION:2.0
PRODID:-//NIA IMPACT Collaboratory - ECPv6.15.20//NONSGML v1.0//EN
CALSCALE:GREGORIAN
METHOD:PUBLISH
X-ORIGINAL-URL:https://impactcollaboratory.org
X-WR-CALDESC:Events for NIA IMPACT Collaboratory
REFRESH-INTERVAL;VALUE=DURATION:PT1H
X-Robots-Tag:noindex
X-PUBLISHED-TTL:PT1H
BEGIN:VTIMEZONE
TZID:America/New_York
BEGIN:DAYLIGHT
TZOFFSETFROM:-0500
TZOFFSETTO:-0400
TZNAME:EDT
DTSTART:20240310T070000
END:DAYLIGHT
BEGIN:STANDARD
TZOFFSETFROM:-0400
TZOFFSETTO:-0500
TZNAME:EST
DTSTART:20241103T060000
END:STANDARD
BEGIN:DAYLIGHT
TZOFFSETFROM:-0500
TZOFFSETTO:-0400
TZNAME:EDT
DTSTART:20250309T070000
END:DAYLIGHT
BEGIN:STANDARD
TZOFFSETFROM:-0400
TZOFFSETTO:-0500
TZNAME:EST
DTSTART:20251102T060000
END:STANDARD
BEGIN:DAYLIGHT
TZOFFSETFROM:-0500
TZOFFSETTO:-0400
TZNAME:EDT
DTSTART:20260308T070000
END:DAYLIGHT
BEGIN:STANDARD
TZOFFSETFROM:-0400
TZOFFSETTO:-0500
TZNAME:EST
DTSTART:20261101T060000
END:STANDARD
END:VTIMEZONE
BEGIN:VEVENT
DTSTART;VALUE=DATE:20250508
DTEND;VALUE=DATE:20250511
DTSTAMP:20260424T050243
CREATED:20250212T213443Z
LAST-MODIFIED:20250212T213443Z
UID:15803-1746662400-1746921599@impactcollaboratory.org
SUMMARY:The 2025 Annual Scientific Meeting of the American Geriatrics Society (AGS) | Chicago\, IL
DESCRIPTION:2025 Annual Scientific Meeting of the American Geriatrics Society (AGS) | Chicago\, IL |May 8 – 10 (pre-conference day: Wednesday\, May 7) \nThe AGS Annual Scientific Meeting is the premier educational event in geriatrics\, providing the latest information on clinical care\, research on aging\, and innovative models of care delivery. The 2025 Annual Meeting will address the educational needs of geriatrics professionals from all disciplines. Physicians\, nurses\, pharmacists\, physician associates\, social workers\, long-term care and managed care providers\, health care administrators\, and others can update their knowledge and skills through state-of-the-art educational sessions and research presentations. \nLearn more and register here: https://meeting.americangeriatrics.org/
URL:https://impactcollaboratory.org/event/the-2025-annual-scientific-meeting-of-the-american-geriatrics-society-ags-chicago-il/
CATEGORIES:interest
END:VEVENT
END:VCALENDAR