BEGIN:VCALENDAR
VERSION:2.0
PRODID:-//NIA IMPACT Collaboratory - ECPv6.15.20//NONSGML v1.0//EN
CALSCALE:GREGORIAN
METHOD:PUBLISH
X-WR-CALNAME:NIA IMPACT Collaboratory
X-ORIGINAL-URL:https://impactcollaboratory.org
X-WR-CALDESC:Events for NIA IMPACT Collaboratory
REFRESH-INTERVAL;VALUE=DURATION:PT1H
X-Robots-Tag:noindex
X-PUBLISHED-TTL:PT1H
BEGIN:VTIMEZONE
TZID:America/New_York
BEGIN:DAYLIGHT
TZOFFSETFROM:-0500
TZOFFSETTO:-0400
TZNAME:EDT
DTSTART:20240310T070000
END:DAYLIGHT
BEGIN:STANDARD
TZOFFSETFROM:-0400
TZOFFSETTO:-0500
TZNAME:EST
DTSTART:20241103T060000
END:STANDARD
BEGIN:DAYLIGHT
TZOFFSETFROM:-0500
TZOFFSETTO:-0400
TZNAME:EDT
DTSTART:20250309T070000
END:DAYLIGHT
BEGIN:STANDARD
TZOFFSETFROM:-0400
TZOFFSETTO:-0500
TZNAME:EST
DTSTART:20251102T060000
END:STANDARD
BEGIN:DAYLIGHT
TZOFFSETFROM:-0500
TZOFFSETTO:-0400
TZNAME:EDT
DTSTART:20260308T070000
END:DAYLIGHT
BEGIN:STANDARD
TZOFFSETFROM:-0400
TZOFFSETTO:-0500
TZNAME:EST
DTSTART:20261101T060000
END:STANDARD
END:VTIMEZONE
BEGIN:VEVENT
DTSTART;TZID=America/New_York:20251001T150000
DTEND;TZID=America/New_York:20251001T160000
DTSTAMP:20260423T182047
CREATED:20250918T223750Z
LAST-MODIFIED:20250918T230717Z
UID:16096-1759330800-1759334400@impactcollaboratory.org
SUMMARY:OAICs Aging initiative presents\, "Do Multiple Chronic Conditions Matter in the ED?
DESCRIPTION:Patients experiencing a medical emergency require rapid identification of the main problem\, accurate diagnosis\, and timely treatment. Providing this care in the fast-paced environment of the emergency department (ED) is challenging when older adults present with multiple chronic conditions (MCCs). Please join us as Drs. Seidenfeld and Jih discuss why MCCs matter in the ED.
URL:https://impactcollaboratory.org/event/oaics-aging-initiative-presents-do-multiple-chronic-conditions-matter-in-the-ed/
CATEGORIES:interest
ATTACH;FMTTYPE=image/jpeg:https://impactcollaboratory.org/wp-content/uploads/2025/09/Aging-Initiative_Do-MCCs-Matter_10012025_Flyer_FINAL_3.jpg
END:VEVENT
END:VCALENDAR