BEGIN:VCALENDAR
VERSION:2.0
PRODID:-//NIA IMPACT Collaboratory - ECPv6.15.20//NONSGML v1.0//EN
CALSCALE:GREGORIAN
METHOD:PUBLISH
X-ORIGINAL-URL:https://impactcollaboratory.org
X-WR-CALDESC:Events for NIA IMPACT Collaboratory
REFRESH-INTERVAL;VALUE=DURATION:PT1H
X-Robots-Tag:noindex
X-PUBLISHED-TTL:PT1H
BEGIN:VTIMEZONE
TZID:America/New_York
BEGIN:DAYLIGHT
TZOFFSETFROM:-0500
TZOFFSETTO:-0400
TZNAME:EDT
DTSTART:20240310T070000
END:DAYLIGHT
BEGIN:STANDARD
TZOFFSETFROM:-0400
TZOFFSETTO:-0500
TZNAME:EST
DTSTART:20241103T060000
END:STANDARD
BEGIN:DAYLIGHT
TZOFFSETFROM:-0500
TZOFFSETTO:-0400
TZNAME:EDT
DTSTART:20250309T070000
END:DAYLIGHT
BEGIN:STANDARD
TZOFFSETFROM:-0400
TZOFFSETTO:-0500
TZNAME:EST
DTSTART:20251102T060000
END:STANDARD
BEGIN:DAYLIGHT
TZOFFSETFROM:-0500
TZOFFSETTO:-0400
TZNAME:EDT
DTSTART:20260308T070000
END:DAYLIGHT
BEGIN:STANDARD
TZOFFSETFROM:-0400
TZOFFSETTO:-0500
TZNAME:EST
DTSTART:20261101T060000
END:STANDARD
END:VTIMEZONE
BEGIN:VEVENT
DTSTART;VALUE=DATE:20251104
DTEND;VALUE=DATE:20251106
DTSTAMP:20260423T164425
CREATED:20250918T230431Z
LAST-MODIFIED:20250918T230631Z
UID:16099-1762214400-1762387199@impactcollaboratory.org
SUMMARY:NIH Pragmatic Trials Collaboratory 2025 Virtual Workshop
DESCRIPTION:November 4th and 5th — Join the NIH Pragmatic Trials Collaboratory for virtual workshop Digging into Dilemmas of Pragmatic Clinical Trials! \nExperts\, including IMPACT Principal Investigator Vincent Mor\, PhD\, will discuss the state of healthcare delivery in the United States and the constraints on healthcare delivery systems that researchers must understand.  \nSpeakers will explore:   \n\nChallenges and emerging opportunities in pragmatic clinical trials \n\n\nPlatform trials as an emerging method \n\n\nWhat can be learned from pragmatic trials with null findings \n\n\nRole of pragmatic trials in a time of increasing use of artificial intelligence\n \n\nAll sessions are free and open to the public. Learn more and register today!   \n“Digging into Dilemmas of Pragmatic Clinical Trials.” 
URL:https://impactcollaboratory.org/event/nih-pragmatic-trials-collaboratory-2025-virtual-workshop/
CATEGORIES:interest
ATTACH;FMTTYPE=image/png:https://impactcollaboratory.org/wp-content/uploads/2025/09/2025-NIH-Workshop-Social-Graphic.png
END:VEVENT
END:VCALENDAR