BEGIN:VCALENDAR
VERSION:2.0
PRODID:-//NIA IMPACT Collaboratory - ECPv6.15.20//NONSGML v1.0//EN
CALSCALE:GREGORIAN
METHOD:PUBLISH
X-WR-CALNAME:NIA IMPACT Collaboratory
X-ORIGINAL-URL:https://impactcollaboratory.org
X-WR-CALDESC:Events for NIA IMPACT Collaboratory
REFRESH-INTERVAL;VALUE=DURATION:PT1H
X-Robots-Tag:noindex
X-PUBLISHED-TTL:PT1H
BEGIN:VTIMEZONE
TZID:America/New_York
BEGIN:DAYLIGHT
TZOFFSETFROM:-0500
TZOFFSETTO:-0400
TZNAME:EDT
DTSTART:20240310T070000
END:DAYLIGHT
BEGIN:STANDARD
TZOFFSETFROM:-0400
TZOFFSETTO:-0500
TZNAME:EST
DTSTART:20241103T060000
END:STANDARD
BEGIN:DAYLIGHT
TZOFFSETFROM:-0500
TZOFFSETTO:-0400
TZNAME:EDT
DTSTART:20250309T070000
END:DAYLIGHT
BEGIN:STANDARD
TZOFFSETFROM:-0400
TZOFFSETTO:-0500
TZNAME:EST
DTSTART:20251102T060000
END:STANDARD
BEGIN:DAYLIGHT
TZOFFSETFROM:-0500
TZOFFSETTO:-0400
TZNAME:EDT
DTSTART:20260308T070000
END:DAYLIGHT
BEGIN:STANDARD
TZOFFSETFROM:-0400
TZOFFSETTO:-0500
TZNAME:EST
DTSTART:20261101T060000
END:STANDARD
END:VTIMEZONE
BEGIN:VEVENT
DTSTART;TZID=America/New_York:20251214T100000
DTEND;TZID=America/New_York:20251214T180000
DTSTAMP:20260423T151040
CREATED:20251203T174151Z
LAST-MODIFIED:20251203T174151Z
UID:16827-1765706400-1765735200@impactcollaboratory.org
SUMMARY:Dissemination and Implementation in Embedded Pragmatic Trials | December 14\, 2025
DESCRIPTION:A December 14 workshop at the 18th Annual Conference on the Science of Dissemination and Implementation Health will introduce concepts in the design\, conduct\, and implementation of pragmatic clinical trials embedded in healthcare systems\, with a focus on methods relevant to health services researchers. \nRegister and learn more here to attend the “Dissemination and Implementation in Embedded Pragmatic Trials: Getting the Timing Right in Real-World Research” meeting only in Washington\, DC.
URL:https://impactcollaboratory.org/event/dissemination-and-implementation-in-embedded-pragmatic-trials-december-14-2025/
LOCATION:Washington\, DC
CATEGORIES:interest
END:VEVENT
END:VCALENDAR