BEGIN:VCALENDAR
VERSION:2.0
PRODID:-//NIA IMPACT Collaboratory - ECPv6.15.20//NONSGML v1.0//EN
CALSCALE:GREGORIAN
METHOD:PUBLISH
X-WR-CALNAME:NIA IMPACT Collaboratory
X-ORIGINAL-URL:https://impactcollaboratory.org
X-WR-CALDESC:Events for NIA IMPACT Collaboratory
REFRESH-INTERVAL;VALUE=DURATION:PT1H
X-Robots-Tag:noindex
X-PUBLISHED-TTL:PT1H
BEGIN:VTIMEZONE
TZID:America/New_York
BEGIN:DAYLIGHT
TZOFFSETFROM:-0500
TZOFFSETTO:-0400
TZNAME:EDT
DTSTART:20240310T070000
END:DAYLIGHT
BEGIN:STANDARD
TZOFFSETFROM:-0400
TZOFFSETTO:-0500
TZNAME:EST
DTSTART:20241103T060000
END:STANDARD
BEGIN:DAYLIGHT
TZOFFSETFROM:-0500
TZOFFSETTO:-0400
TZNAME:EDT
DTSTART:20250309T070000
END:DAYLIGHT
BEGIN:STANDARD
TZOFFSETFROM:-0400
TZOFFSETTO:-0500
TZNAME:EST
DTSTART:20251102T060000
END:STANDARD
BEGIN:DAYLIGHT
TZOFFSETFROM:-0500
TZOFFSETTO:-0400
TZNAME:EDT
DTSTART:20260308T070000
END:DAYLIGHT
BEGIN:STANDARD
TZOFFSETFROM:-0400
TZOFFSETTO:-0500
TZNAME:EST
DTSTART:20261101T060000
END:STANDARD
END:VTIMEZONE
BEGIN:VEVENT
DTSTART;VALUE=DATE:20251014
DTEND;VALUE=DATE:20251015
DTSTAMP:20260425T071500
CREATED:20251010T182201Z
LAST-MODIFIED:20251105T191224Z
UID:16235-1760400000-1760486399@impactcollaboratory.org
SUMMARY:Pilot Grant RFA Release
DESCRIPTION:The National Institute on Aging (NIA) Imbedded Pragmatic Alzheimer’s Disease (AD) and AD-Related Dementias (AD/ADRD) Clinical Trials (IMPACT) Collaboratory is pleased to announce a Request for Applications (RFA) for the 2025 Pilot Grants Program.
URL:https://impactcollaboratory.org/event/pilot-grant-rfa-release/
CATEGORIES:Event Grants,Pilot Grants
END:VEVENT
BEGIN:VEVENT
DTSTART;VALUE=DATE:20251020
DTEND;VALUE=DATE:20251021
DTSTAMP:20260425T071500
CREATED:20251010T182657Z
LAST-MODIFIED:20251105T191216Z
UID:16243-1760918400-1761004799@impactcollaboratory.org
SUMMARY:Demonstration Projects RFA Release
DESCRIPTION:
URL:https://impactcollaboratory.org/event/demonstration-projects-rfa-release/
CATEGORIES:Demonstration Projects,Event Grants
END:VEVENT
BEGIN:VEVENT
DTSTART;VALUE=DATE:20251023
DTEND;VALUE=DATE:20251024
DTSTAMP:20260425T071500
CREATED:20251010T182450Z
LAST-MODIFIED:20251105T191208Z
UID:16237-1761177600-1761263999@impactcollaboratory.org
SUMMARY:Pilot Grant Informational Webinar
DESCRIPTION:An optional informational webinar will be hosted to provide investigators with an overview of application details and an opportunity to ask questions. Pre-registration is required. \n Webinar date: Thursday\, October 23\, 2025\, at 1:00pm ET: Register here. \nThe webinar will be recorded and posted online at https://impactcollaboratory.org/pilot-grants-program/
URL:https://impactcollaboratory.org/event/pilot-grant-informational-webinar/
CATEGORIES:Event Grants,Pilot Grants,upcoming
END:VEVENT
BEGIN:VEVENT
DTSTART;TZID=America/New_York:20251030T120000
DTEND;TZID=America/New_York:20251030T130000
DTSTAMP:20260425T071500
CREATED:20251010T182824Z
LAST-MODIFIED:20251105T191157Z
UID:16245-1761825600-1761829200@impactcollaboratory.org
SUMMARY:Demonstration Project Informational Webinar
DESCRIPTION:An informational webinar will be hosted to provide investigators with an overview of application details and an opportunity to ask questions. Pre-registration is required. \nWebinar date: Thursday\, October 30\, 2025\, at 12:00PM ET: Register here for webinar. \nThe webinar will be recorded and posted online at https://impactcollaboratory.org/demonstration-grants-program/.
URL:https://impactcollaboratory.org/event/demonstration-project-informational-webinar/
CATEGORIES:Demonstration Projects,Event Grants,upcoming
END:VEVENT
END:VCALENDAR