BEGIN:VCALENDAR
VERSION:2.0
PRODID:-//NIA IMPACT Collaboratory - ECPv6.15.20//NONSGML v1.0//EN
CALSCALE:GREGORIAN
METHOD:PUBLISH
X-WR-CALNAME:NIA IMPACT Collaboratory
X-ORIGINAL-URL:https://impactcollaboratory.org
X-WR-CALDESC:Events for NIA IMPACT Collaboratory
REFRESH-INTERVAL;VALUE=DURATION:PT1H
X-Robots-Tag:noindex
X-PUBLISHED-TTL:PT1H
BEGIN:VTIMEZONE
TZID:America/New_York
BEGIN:DAYLIGHT
TZOFFSETFROM:-0500
TZOFFSETTO:-0400
TZNAME:EDT
DTSTART:20250309T070000
END:DAYLIGHT
BEGIN:STANDARD
TZOFFSETFROM:-0400
TZOFFSETTO:-0500
TZNAME:EST
DTSTART:20251102T060000
END:STANDARD
BEGIN:DAYLIGHT
TZOFFSETFROM:-0500
TZOFFSETTO:-0400
TZNAME:EDT
DTSTART:20260308T070000
END:DAYLIGHT
BEGIN:STANDARD
TZOFFSETFROM:-0400
TZOFFSETTO:-0500
TZNAME:EST
DTSTART:20261101T060000
END:STANDARD
BEGIN:DAYLIGHT
TZOFFSETFROM:-0500
TZOFFSETTO:-0400
TZNAME:EDT
DTSTART:20270314T070000
END:DAYLIGHT
BEGIN:STANDARD
TZOFFSETFROM:-0400
TZOFFSETTO:-0500
TZNAME:EST
DTSTART:20271107T060000
END:STANDARD
END:VTIMEZONE
BEGIN:VEVENT
DTSTART;VALUE=DATE:20260317
DTEND;VALUE=DATE:20260320
DTSTAMP:20260422T181442
CREATED:20260121T155623Z
LAST-MODIFIED:20260121T155652Z
UID:17108-1773705600-1773964799@impactcollaboratory.org
SUMMARY:2026 Dementia Care & Caregiving Research Summit
DESCRIPTION:The 2026 Dementia Care and Caregiving Research Summit\, hosted by the National Institute on Aging (NIA)\, will be held virtually on March 17-19\, 2026. Registration is now open. \nThe research summit builds on the progress of the previous Care Summits to review research progress\, highlight innovation and promising research\, and identify remaining unmet needs with input from the research community\, persons living with dementia (PLWD) and their care partners\, those who provide healthcare or services and supports to persons living with dementia\, and other interest holders. \nLearn more about the summit here.
URL:https://impactcollaboratory.org/event/2026-dementia-care-caregiving-research-summit/
CATEGORIES:interest
END:VEVENT
BEGIN:VEVENT
DTSTART;VALUE=DATE:20260326
DTEND;VALUE=DATE:20260327
DTSTAMP:20260422T181442
CREATED:20260303T143524Z
LAST-MODIFIED:20260320T141247Z
UID:17286-1774483200-1774569599@impactcollaboratory.org
SUMMARY:ASCENT Consortium Investigator in Residence Program
DESCRIPTION:Applications for the Investigator in Residence Program are now live. \nThis one-year program will provide early-stage investigators focused on serious illness care across any phase of the lifespan with career development and networking opportunities. Investigators in Residence will also receive travel funds to attend the ASCENT Consortium Annual Scientific Meeting\, June 29-30\, 2026\, in Bethesda\, Maryland. \nApply here by March 26\, 2026.
URL:https://impactcollaboratory.org/event/ascent-consortium-investigator-in-residence-program/
CATEGORIES:interest
END:VEVENT
END:VCALENDAR