BEGIN:VCALENDAR
VERSION:2.0
PRODID:-//NIA IMPACT Collaboratory - ECPv6.15.20//NONSGML v1.0//EN
CALSCALE:GREGORIAN
METHOD:PUBLISH
X-WR-CALNAME:NIA IMPACT Collaboratory
X-ORIGINAL-URL:https://impactcollaboratory.org
X-WR-CALDESC:Events for NIA IMPACT Collaboratory
REFRESH-INTERVAL;VALUE=DURATION:PT1H
X-Robots-Tag:noindex
X-PUBLISHED-TTL:PT1H
BEGIN:VTIMEZONE
TZID:America/New_York
BEGIN:DAYLIGHT
TZOFFSETFROM:-0500
TZOFFSETTO:-0400
TZNAME:EDT
DTSTART:20190310T070000
END:DAYLIGHT
BEGIN:STANDARD
TZOFFSETFROM:-0400
TZOFFSETTO:-0500
TZNAME:EST
DTSTART:20191103T060000
END:STANDARD
BEGIN:DAYLIGHT
TZOFFSETFROM:-0500
TZOFFSETTO:-0400
TZNAME:EDT
DTSTART:20200308T070000
END:DAYLIGHT
BEGIN:STANDARD
TZOFFSETFROM:-0400
TZOFFSETTO:-0500
TZNAME:EST
DTSTART:20201101T060000
END:STANDARD
BEGIN:DAYLIGHT
TZOFFSETFROM:-0500
TZOFFSETTO:-0400
TZNAME:EDT
DTSTART:20210314T070000
END:DAYLIGHT
BEGIN:STANDARD
TZOFFSETFROM:-0400
TZOFFSETTO:-0500
TZNAME:EST
DTSTART:20211107T060000
END:STANDARD
BEGIN:DAYLIGHT
TZOFFSETFROM:-0500
TZOFFSETTO:-0400
TZNAME:EDT
DTSTART:20220313T070000
END:DAYLIGHT
BEGIN:STANDARD
TZOFFSETFROM:-0400
TZOFFSETTO:-0500
TZNAME:EST
DTSTART:20221106T060000
END:STANDARD
END:VTIMEZONE
BEGIN:VEVENT
DTSTART;TZID=America/New_York:20210310T090000
DTEND;TZID=America/New_York:20210310T160000
DTSTAMP:20260423T084434
CREATED:20210210T013452Z
LAST-MODIFIED:20210210T013452Z
UID:4956-1615366800-1615392000@impactcollaboratory.org
SUMMARY:Pragmatic Trials in Long-Term Care: A Consensus Conference
DESCRIPTION:Virtually | March 10\, 2021 | 9:00 AM – 4:00 PM EST | funded by the National Institute of Aging and led by editors of three leading geriatrics journals — JAMDA (The Journal of Post-Acute and Long-Term Care Medicine)\, JAGS (The Journal of the American Geriatrics Society)\, and Geriatric Nursing – will identify priorities and best practices for pragmatic trials in long-term care\, with a focus on care for persons with dementia. \nExperts across the globe agree that we are at a tipping point to improve systems of long-term care for older adults; they also agree that pragmatic trials are the most promising strategy toward that end. However\, the focus of such trials\, the best methods with which to conduct them\, how best to share results\, and how best to promote uptake of evidence-proven practices\, are far from clear. \nSpeakers include internationally renowned research experts\, directors of national long-term care organizations\, and leaders of national associations and societies. IMPACT Member Participants include Joe Gaugler\, PhD\, David Gifford\, MD\, MPH\, Laura Hanson\, MD\, MPH\, Vince Mor\, PhD\, Kathleen Unroe\, MD\, MHA\, Sheryl Zimmerman\, PhD. \nTarget Audience: This conference is intended for providers\, researchers\, and policy makers who aim to promote better care in nursing homes\, assisted living communities\, and other residential settings that serve older adults. \nFor more details and registration\, visit: https://www.eventscribe.net/2021/PALTC21/aaStatic.asp?SFP=WUtSUUxCQk1ANjQ2Nw
URL:https://impactcollaboratory.org/event/pragmatic-trials-in-long-term-care-a-consensus-conference/
LOCATION:https://www.eventscribe.net/2021/PALTC21/aaStatic.asp?SFP=WUtSUUxCQk1ANjQ2Nw
CATEGORIES:interest
END:VEVENT
BEGIN:VEVENT
DTSTART;TZID=America/New_York:20210210T160000
DTEND;TZID=America/New_York:20210210T170000
DTSTAMP:20260423T084434
CREATED:20210104T211106Z
LAST-MODIFIED:20210204T143247Z
UID:4691-1612972800-1612976400@impactcollaboratory.org
SUMMARY:Brown School of Public Health 34th Annual Katz Lecture: Changing Practices in Long-Term Care One Stage at a Time and One Setting at a Time presented
DESCRIPTION:34th Annual Katz Lecture Featured Speaker:  \nSheryl Zimmerman\, PhD\,\nUniversity Kenan Distinguished Professor\nCo-Director\, Program on Aging\, Disability\, and Long-Term Care Cecil G. Sheps Center for Health Services Research\nDirector of Aging Research\, School of Social Work\nThe University of North Carolina at Chapel Hill \nEvent Details:\nChanging Practices in Long-Term Care One Stage at a Time…and One Setting at a Time\nWednesday\, February 10\, 2021 at 4pm ET \nRegistration required: https://events.brown.edu/biomed/view/event/event_id/201849
URL:https://impactcollaboratory.org/event/brown-school-of-public-health-34th-annual-katz-lecture-changing-practices-in-long-term-care-one-stage-at-a-time-and-one-setting-at-a-time-presented/
LOCATION:https://events.brown.edu/biomed/view/event/event_id/201849
CATEGORIES:interest
END:VEVENT
BEGIN:VEVENT
DTSTART;TZID=America/New_York:20210115T130000
DTEND;TZID=America/New_York:20210115T140000
DTSTAMP:20260423T084434
CREATED:20210108T175252Z
LAST-MODIFIED:20210108T175418Z
UID:4731-1610715600-1610719200@impactcollaboratory.org
SUMMARY:Webinar: The Challenges of Aging During COVID-19: Long Term Care\, Vaccination and Isolation
DESCRIPTION:SPEAKERS \nVincent Mor\, Brown University\nTricia Neuman\, Kaiser Family Foundation\nPaul Kaplan\, Florida Blue \nEvent Details and Registration:\nJanuary 15\, 2021 @ 1pm ET \nhttps://nihcm.org/events/the-challenges-of-aging-during-covid-19-long-term-care-vaccination-and-isolation
URL:https://impactcollaboratory.org/event/webinar-the-challenges-of-aging-during-covid-19-long-term-care-vaccination-and-isolation/
CATEGORIES:interest
END:VEVENT
BEGIN:VEVENT
DTSTART;TZID=America/New_York:20210113T121500
DTEND;TZID=America/New_York:20210113T124500
DTSTAMP:20260423T084434
CREATED:20210112T191946Z
LAST-MODIFIED:20210112T191946Z
UID:4746-1610540100-1610541900@impactcollaboratory.org
SUMMARY:National Advisory Council on Aging Open Session - Vince Mor\, PhD on "COVID in US Nursing Homes: The Power of Data"
DESCRIPTION:Tomorrow live videocast of Vince Mor\, PhD presenting at the National Advisory Council on Aging open session: “COVID in US Nursing Homes: The Power of Data” \nJoin the live videocast tomorrow\, January 13\, for this presentation at the open session from 12:15 to 12:45pm. \nSee full details here: https://www.nia.nih.gov/about/naca/national-advisory-council-aging-agenda-january-12-13-2021
URL:https://impactcollaboratory.org/event/national-advisory-council-on-aging-open-session-vince-mor-phd-on-covid-in-us-nursing-homes-the-power-of-data/
LOCATION:http://videocast.nih.gov/
CATEGORIES:interest
END:VEVENT
BEGIN:VEVENT
DTSTART;VALUE=DATE:20201215
DTEND;VALUE=DATE:20201218
DTSTAMP:20260423T084434
CREATED:20201124T194323Z
LAST-MODIFIED:20201124T194354Z
UID:4518-1607990400-1608249599@impactcollaboratory.org
SUMMARY:Academy Health 13th Annual Conference on the Science of Dissemination and Implementation in Health
DESCRIPTION:December 15-17\, 2020 Conference Theme:\nDissemination and Implementation Science in a Dynamic\, Diverse\, and Interconnected World: Meeting the Urgent Challenges of our Time. \n\nAs the global health workforce continues to respond to the COVID-19 pandemic\, the dissemination and implementation (D&I) science community\, perhaps now more than ever\, will be called upon to bridge the gap between new research\, practice\, and policy and to ensure that evidence is used to inform decisions that will improve the health of individuals and communities. \nWhile we will not be meeting face-to-face this year\, we’ll continue our work of strengthening the field now and in the future by addressing the challenges facing D&I science\, presenting research findings\, and identifying the next set of research priorities. \nNote: Registrants have access to sessions through January 2021. \nLearn more about the event and register here: https://www.academyhealth.org/events/site/13th-annual-conference-science-dissemination-and-implementation-health
URL:https://impactcollaboratory.org/event/academy-health-13th-annual-conference-on-the-science-of-dissemination-and-implementation-in-health/
CATEGORIES:interest
END:VEVENT
BEGIN:VEVENT
DTSTART;TZID=America/New_York:20201211T110000
DTEND;TZID=America/New_York:20201211T120000
DTSTAMP:20260423T084434
CREATED:20201207T200648Z
LAST-MODIFIED:20201207T200750Z
UID:4561-1607684400-1607688000@impactcollaboratory.org
SUMMARY:Seminar 12/10 @11am ET: A pragmatic trial for improving sleep & meaningful engagement in nursing home residents with dementia
DESCRIPTION:Brown University and Marcus Institute’s Joint Clinical Trials Seminar Series* presents “Evidence base for 40 Winks: A pragmatic trial for improving sleep & meaningful engagement in nursing home residents with dementia” \nThursday\, December 10 @11am ET \nA. Lynn Snow\, PhD\nUniversity of Alabama & Tuscaloosa VA Medical Center \nChristine W. Hartmann\, PhD\nUniversity of Massachusetts Lowell & VA Center for Healthcare Organization & Implementation Research \nDrs. Snow and Hartmann will introduce the LOCK sleep program for nursing home residents living with dementia and the series of studies through which LOCK was developed\, culminating in a new pragmatic trial\, 40 winks. \nJoin from PC\, Mac\, iOS\, or Android: https://brown.zoom.us/j/91998169415\nDial in: (877) 853 5247\nMeeting ID: 919 9816 9415 \n*The Joint Seminar Series on Clinical Trials in Aging is co-hosted by the Brown University Center for Long-Term Care Quality & Innovation (Q&I) and the Hebrew SeniorLife Interventional Studies in Aging Center (ISAC). Lectures focus on issues in the design and execution of clinical trials\, including trials currently in the field.
URL:https://impactcollaboratory.org/event/seminar-a-pragmatic-trial-for-improving-sleep-meaningful-engagement-in-nursing-home-residents-with-dementia/
LOCATION:https://brown.zoom.us/j/91998169415
CATEGORIES:interest
END:VEVENT
BEGIN:VEVENT
DTSTART;VALUE=DATE:20201026
DTEND;VALUE=DATE:20201029
DTSTAMP:20260423T084434
CREATED:20200831T162904Z
LAST-MODIFIED:20240619T162409Z
UID:3844-1603670400-1603929599@impactcollaboratory.org
SUMMARY:Fall Institute on Implementation Science Research\, Bringing Evidence to Real-World Settings to Promote Health Equity
DESCRIPTION:This meeting and grant writing workshop will be hosted by  IMPACT’s Laura Gitlin\, PhD\, and the Drexel University College of Nursing and Health Professions. The virtual conference is designed to provide a foundation in implementation science and the conduct of studies that result in high impact in real-world settings. Through readings\, lectures by leading experts and interactive small group sessions\, participants will gain information on how to design studies to evaluate implementation processes and prepare for dissemination and scaling of evidence into practice settings such as healthcare\, community-based organizations\, educational institutions and more. This virtual conference will provide attendees with opportunities to appraise their research through the lens of implementation science\, pragmatism and health equity integrating evidence into diverse settings. Participants will learn and discuss theories\, methodologies\, measures\, grant writing strategies and barriers and solutions for disseminating and implementing evidence into real-world settings. Join us for the opportunity to network and learn about the emerging area of implementation science and funding opportunities in this area. \nTo register and learn more\, visit: https://drexel.edu/research/news/announcements/2020/October/fall-institute/
URL:https://impactcollaboratory.org/event/fall-institute-on-implementation-science-research-bringing-evidence-to-real-world-settings-to-promote-health-equity/
CATEGORIES:interest
END:VEVENT
BEGIN:VEVENT
DTSTART;TZID=America/New_York:20200925T150000
DTEND;TZID=America/New_York:20200925T170000
DTSTAMP:20260423T084434
CREATED:20200911T204655Z
LAST-MODIFIED:20200911T205016Z
UID:3900-1601046000-1601053200@impactcollaboratory.org
SUMMARY:"Reflecting on the COVID-19 Pandemic: Examining Themes from Long Term Care – An International Virtual Town Hall" Session 1: The Built Environment – Go Big\, Go Small or Stay home?
DESCRIPTION:Session 1: The Built Environment – Go Big\, Go Small or Stay home? \nSeptember 25th 3:00 PM \nIn this session\, panelists will highlight emerging data and experiences that raise important questions about the kind of physical infrastructure needed for long term older adult care. Panelists include IMPACT Principal Investigator Vincent Mor\, PhD. \nFull details can be found here: https://rgps.on.ca/events/reflecting-on-the-covid-19-pandemic-examining-themes-from-long-term-care-an-international-virtual-town-hall/
URL:https://impactcollaboratory.org/event/reflecting-on-the-covid-19-pandemic-examining-themes-from-long-term-care-an-international-virtual-town-hall-session-1-the-built-environment-go-big-go-small-or-stay-home/
CATEGORIES:interest
END:VEVENT
BEGIN:VEVENT
DTSTART;TZID=America/New_York:20200813T133000
DTEND;TZID=America/New_York:20200813T170000
DTSTAMP:20260423T084434
CREATED:20200804T182112Z
LAST-MODIFIED:20200804T182246Z
UID:3737-1597325400-1597338000@impactcollaboratory.org
SUMMARY:NIA Summit Services Virtual Meeting 3
DESCRIPTION:The National Institute on Aging (NIA)\, in conjunction with the Department of Health and Human Services as part of the National Alzheimer’s Project Act (NAPA)\, planned to host the second National Research Summit on Care\, Services\, and Supports for Persons with Dementia and their Caregivers on March 24-25\, 2020. The in-person event was canceled per COVID-19 physical distancing guidance. In lieu of the in-person event\, the NIA is hosting a 2020 Dementia Care\, Caregiving\, and Services Research Summit Virtual Meeting Series in Summer 2020. This series will include research presentations\, panelist remarks\, moderated discussion (with live Q&A)\, and a presentation on the draft research gaps and opportunities. These draft gaps and opportunities\, developed by the Summit Steering Committee with input from stakeholder groups and organized into six themes\, are intended to identify important potential areas for future research in the fields of dementia care and caregiving. \nRead more information and register at this link: https://www.nia.nih.gov/2020-dementia-care-summit#Agendas 
URL:https://impactcollaboratory.org/event/nia-summit-services-virtual-meeting-3/
CATEGORIES:interest
END:VEVENT
BEGIN:VEVENT
DTSTART;VALUE=DATE:20200811
DTEND;VALUE=DATE:20200813
DTSTAMP:20260423T084434
CREATED:20200511T160958Z
LAST-MODIFIED:20200511T161041Z
UID:3201-1597104000-1597276799@impactcollaboratory.org
SUMMARY:Colorado Pragmatic Research in Health 2020 National Virtual Conference: Planning for Real World Impact
DESCRIPTION:AUDIENCE: Clinical and translational investigators\, including statisticians\, dissemination & implementation scientists\, health services and public health researchers\, and program evaluators \nTHEME: Methods\, models\, and measures for planning pragmatic research \n2020 TOPICS: Pragmatic trial planning using the PRECIS PRECIS-2\, pragmatic research approaches and study design\, rapid qualitative and mixed methods\, and stakeholder engagement. \nMore information: http://coprhcon.com/
URL:https://impactcollaboratory.org/event/colorado-pragmatic-research-in-health-2020-national-virtual-conference-planning-for-real-world-impact/
CATEGORIES:interest
END:VEVENT
BEGIN:VEVENT
DTSTART;VALUE=DATE:20200727
DTEND;VALUE=DATE:20200801
DTSTAMP:20260423T084434
CREATED:20200713T211458Z
LAST-MODIFIED:20200713T211458Z
UID:3646-1595808000-1596239999@impactcollaboratory.org
SUMMARY:Alzheimer's Association International Conference
DESCRIPTION:Alzheimer’s Association International Conference® 2020 (AAIC®)\, is the largest and most influential international meeting dedicated to advancing dementia science. \nEach year\, AAIC convenes the world’s leading basic scientists\, clinical researchers\, early career investigators\, clinicians\, students and the care research community to share research discoveries that will lead to methods of prevention and treatment\, and improvements in diagnosis for Alzheimer’s disease. Several IMPACT Collaboratory researchers will be presenting during the conference\, and a live panel session July 31 at 2p EST\, NIA-AA IMPACT Embedded Pragmatic Clinical Trials for the Improvement of Care for People Living with Dementia and their Care Partners.  \nThis year’s conference will be hosted on a cutting-edge virtual platform — free of charge. Register today for AAIC 2020.
URL:https://impactcollaboratory.org/event/alzheimers-association-international-conference/
CATEGORIES:interest
END:VEVENT
BEGIN:VEVENT
DTSTART;TZID=America/New_York:20200721T130000
DTEND;TZID=America/New_York:20200721T160000
DTSTAMP:20260423T084434
CREATED:20200720T192502Z
LAST-MODIFIED:20240619T143733Z
UID:3685-1595336400-1595347200@impactcollaboratory.org
SUMMARY:2020 National Research Summit on Care\, Services\, and Supports for Persons with Dementia and Their Caregivers
DESCRIPTION:IMPACT Collaboratory members are playing key roles in this year’s National Institute on Aging (NIA) “2020 National Research Summit on Care\, Services\, and Supports for Persons with Dementia and Their Caregivers.”  Held over 3 days\, the summit series provides an opportunity for researchers and stakeholders to discuss the current research environment\, gaps\, opportunities and priorities for future dementia care research. Each session includes research presentations\, panel discussions and moderated Q&As. \nLearn more about the virtual summit series and registration here.\nSee full series agenda here. \nEvent Details: Virtual Meeting 2 July 21 1-4pm EST includes presentations from multiple IMPACT members including: David Reuben\, MD\, Chris Callahan\, MD\, MACP\, Joshua Chodosh\, MD\, MSHS\, Sheryl Zimmerman\, PhD\, Kimberly Van Haitsma\, PhD. \n 
URL:https://impactcollaboratory.org/event/3685/
LOCATION:https://zoom.us/webinar/register/WN_Nw6qMClEQnmZDEJn1tPO4w
CATEGORIES:interest
END:VEVENT
BEGIN:VEVENT
DTSTART;TZID=America/New_York:20200612T130000
DTEND;TZID=America/New_York:20200612T140000
DTSTAMP:20260423T084434
CREATED:20200602T170653Z
LAST-MODIFIED:20200602T170907Z
UID:3402-1591966800-1591970400@impactcollaboratory.org
SUMMARY:Grand Rounds Rethinking Clinical Trials: Susan L. Mitchell MD\, MPH - "A Cluster Randomized Pragmatic Trial of an Advance Care Planning Video Intervention in Long-Stay Nursing Home Residents: Main findings from the PROVEN Trial
DESCRIPTION:The NIH HCS Collaboratory’s Grand Rounds Series will feature IMPACT Principal Investigator\, Susan L. Mitchell\, MD\, MPH on Friday\, June 12 at 1pm ET to give an update on “A Cluster Randomized Pragmatic Trial of an Advance Care Planning Video Intervention in Long-Stay Nursing Home Residents: Main findings from the PROVEN Trial.” \n  \nEvent Details:\nFriday\, June 12\, at 1pm ET \n  \nTo join the online meeting:\nGo to https://dukemed.webex.com/dukemed/j.php?MTID=m7516d59dab184670d6fc892b1955b4eb \nYou must log in to the URL first.\nClick ‘Audio Conference’\nChoose ‘I will call in’\, select the Toll number.\nDial in using the information from the dialog box that appears.\nBe certain to use the Access Code AND the Attendee ID. \nTroubleshooting:\nIf the URL above does not work\, go to dukemed.webex.com and enter:\nMeeting Number: 730 486 227\nMeeting Password: 1234 \nFor Audio ONLY:\nCall-in toll number (US/Canada): 1-650-479-3207\nAccess code: 730 486 227 \nNOTE: For Toll-free users\, the call-back (call me) services are also available.
URL:https://impactcollaboratory.org/event/grand-rounds-rethinking-clinical-trials-susan-l-mitchell-md-mph-a-cluster-randomized-pragmatic-trial-of-an-advance-care-planning-video-intervention-in-long-stay-nursing-home-residents-main-fin/
LOCATION:https://dukemed.webex.com/dukemed/j.php?MTID=m7516d59dab184670d6fc892b1955b4eb
CATEGORIES:interest
END:VEVENT
BEGIN:VEVENT
DTSTART;TZID=America/New_York:20200529T130000
DTEND;TZID=America/New_York:20200529T140000
DTSTAMP:20260423T084434
CREATED:20200429T181311Z
LAST-MODIFIED:20200506T185441Z
UID:3089-1590757200-1590760800@impactcollaboratory.org
SUMMARY:Experiences from the NIH Collaboratory PCTs 
DESCRIPTION:The NIH Health Care Systems Research Collaboratory is launching a special workshop series on its popular Grand Rounds program to explore challenges and opportunities in using electronic health records (EHRs) in pragmatic clinical trials. The series will highlight advances in digital health\, new approaches and evolving standards for EHRs\, and implications for researchers conducting pragmatic trials. \nMay 29\, 2020\, 1 p.m. ET: Experiences From the Collaboratory PCTs \nSpeakers: Jeffrey [Jerry] G. Jarvik\, MD\, MPH; Lynn DeBar\, PhD; Doug Zatzick\, MD; Vince Mor\, PhD \nModerator: Wendy Weber\, ND\, PhD\, MPH
URL:https://impactcollaboratory.org/event/experiences-from-the-collaboratory-pcts/
CATEGORIES:interest
END:VEVENT
BEGIN:VEVENT
DTSTART;TZID=America/New_York:20200519T110000
DTEND;TZID=America/New_York:20200519T120000
DTSTAMP:20260423T084434
CREATED:20200417T230624Z
LAST-MODIFIED:20240620T135820Z
UID:2955-1589886000-1589889600@impactcollaboratory.org
SUMMARY:So You Want to Design a Clinical Trial to Help People with Dementia and Their Caregivers - Here's Where to Start
DESCRIPTION:The Palliative Care Research Cooperative (PCRC) Group  IDC Webinar Series will feature Laura Hanson\, MD\, MPH\, the IMPACT Patient and Caregiver Reported Outcomes Core Leader who will present “So You Want to Design a Clinical Trial to Help People with Dementia and Their Caregivers – Here’s Where to Start” \nEvent Details: \nMay 19 @ 11:00 am – 12:00 pm ET \nRegistration closed.
URL:https://impactcollaboratory.org/event/so-you-want-to-design-a-clinical-trial-to-help-people-with-dementia-and-their-caregivers-heres-where-to-start/
CATEGORIES:interest
END:VEVENT
BEGIN:VEVENT
DTSTART;TZID=America/New_York:20200508T130000
DTEND;TZID=America/New_York:20200508T140000
DTSTAMP:20260423T084434
CREATED:20200429T180636Z
LAST-MODIFIED:20200429T180809Z
UID:3087-1588942800-1588946400@impactcollaboratory.org
SUMMARY:Real World Evidence: Contemporary Experience and Future Directions
DESCRIPTION:The NIH Health Care Systems Research Collaboratory is launching a special workshop series on its popular Grand Rounds program to explore challenges and opportunities in using electronic health records (EHRs) in pragmatic clinical trials. The series will highlight advances in digital health\, new approaches and evolving standards for EHRs\, and implications for researchers conducting pragmatic trials. \nMay 8\, 2020\, 1 p.m. ET: Real World Evidence: Contemporary Experience and Future Directions \nSpeakers: Jacqueline Corrigan-Curay\, JD\, MD; Joshua C. Denny\, MD\, MS\, FACMI \nModerator: Patrick J. Heagerty\, PhD
URL:https://impactcollaboratory.org/event/real-world-evidence-contemporary-experience-and-future-directions/
CATEGORIES:interest
END:VEVENT
BEGIN:VEVENT
DTSTART;TZID=America/New_York:20200508T120000
DTEND;TZID=America/New_York:20200508T130000
DTSTAMP:20260423T084434
CREATED:20200506T185025Z
LAST-MODIFIED:20200506T185335Z
UID:3165-1588939200-1588942800@impactcollaboratory.org
SUMMARY:COVID-19 Webinar Series Session 13 – Nursing Home Care
DESCRIPTION:Alliance For Health Policy has a  COVID-19 Webinar Series that synthesizes the information in the headlines to provide cohesive insight into the status of the response and remaining gaps in the system that must be addressed to limit the severity of the COVID-19 outbreak in the United States. \nOn Friday\, May 8 @ 12pm ET\, IMPACT Principal Investigator\, Vince Mor\, PhD will be a panelist for the series’ 13th session: Nursing Home Care. \n  \n\n*Register Here: https://register.gotowebinar.com/register/754302766666390029*
URL:https://impactcollaboratory.org/event/covid-19-webinar-series-session-13-nursing-home-care/
CATEGORIES:interest
END:VEVENT
BEGIN:VEVENT
DTSTART;TZID=America/New_York:20200501T130000
DTEND;TZID=America/New_York:20200501T140000
DTSTAMP:20260423T084434
CREATED:20200417T192727Z
LAST-MODIFIED:20200417T202446Z
UID:2926-1588338000-1588341600@impactcollaboratory.org
SUMMARY:Can the COVID-19 Crisis Lead to Reformation of the Evidence Generation Ecosystem?
DESCRIPTION:NIH Collaboratory Grand Rounds: Advances at the Intersection of Digital Health\, Electronic Health Records\, and Pragmatic Clinical Trials Keynote \nSpeaker:\n \nRobert Califf\, MD\, MACC\nHead of Strategy and Policy\nVerily Life Sciences and Google Health \nTopic: Advances at the Intersection of Digital Health\, Electronic Health Records and Pragmatic Clinical Trials: Keynote-Can the COVID-19 Crisis Lead to Reformation of the Evidence Generation Ecosystem?\nDate: Friday\, May 1\, 2020\, 1:00-2:00 p.m. ET \nGet all information on the NIH Collaboratory website here.
URL:https://impactcollaboratory.org/event/nih-collaboratory-grand-rounds-advances-at-the-intersection-of-digital-health-electronic-health-records-and-pragmatic-clinical-trials-keynote-can-the-covid-19-crisis-lead-to-reformation-of-the-evi/
CATEGORIES:interest
END:VEVENT
BEGIN:VEVENT
DTSTART;TZID=America/New_York:20200421T120000
DTEND;TZID=America/New_York:20200421T130000
DTSTAMP:20260423T084434
CREATED:20200417T230006Z
LAST-MODIFIED:20240619T192844Z
UID:2953-1587470400-1587474000@impactcollaboratory.org
SUMMARY:Palliative Care Research and COVID-19
DESCRIPTION:The Palliative Care Research Cooperative (PCRC) Group IDC Webinar Series will feature a presentation on Palliative Care Research and COVID-19 presented by Ashwin Kotwal\, MD\, MS and Alex Smith\, MD\, MPH. \nEvent Details: \nApril 21 @12:00-1:00 pm ET \nRegistration closed.
URL:https://impactcollaboratory.org/event/palliative-care-research-and-covid-19/
CATEGORIES:interest
END:VEVENT
BEGIN:VEVENT
DTSTART;TZID=America/New_York:20200415T100000
DTEND;TZID=America/New_York:20200415T170000
DTSTAMP:20260423T084434
CREATED:20200325T161425Z
LAST-MODIFIED:20240619T151726Z
UID:2789-1586944800-1586970000@impactcollaboratory.org
SUMMARY:Care Interventions for Individuals with Dementia and Their Caregivers: A Virtual Workshop
DESCRIPTION:National Academies of Sciences\, Engineering\, and Medicine will be hosting “Care Interventions for Individuals with Dementia and Their Caregivers: A Virtual Workshop” that will bring together key stakeholders and experts to provide input to the committee on a draft Agency for Healthcare Research and Quality (AHRQ) systematic review that examines existing evidence on care interventions that support individuals with dementia and their caregivers. This AHRQ systematic review will form the predominant basis of the National Academies committee’s report on which care interventions can be considered ready for broad implementation and dissemination. \nEvent Date: Wednesday\, April 15\, 2020 from 10am-5pm ET. \nEvent details.\nRegistration closed.
URL:https://impactcollaboratory.org/event/care-interventions-for-individuals-with-dementia-and-their-caregivers-a-virtual-workshop/
CATEGORIES:interest,Meetings
END:VEVENT
BEGIN:VEVENT
DTSTART;TZID=America/New_York:20200327T120000
DTEND;TZID=America/New_York:20200327T130000
DTSTAMP:20260423T084434
CREATED:20200326T132906Z
LAST-MODIFIED:20200326T134740Z
UID:2809-1585310400-1585314000@impactcollaboratory.org
SUMMARY:Living Textbook Grand Rounds Series March 27: Part 3-Tips for Putting Together a Successful PCT Grant Application
DESCRIPTION:Speaker:\n \nWendy Weber\, ND\, PhD\, MPH\nBranch Chief\, Clinical Research Branch\nDivision of Extramural Research\, NCCIH \nFor all Grand Round details\, go to: https://rethinkingclinicaltrials.org/event/living-textbook-grand-rounds-series-march-27-part-3-secrets-to-getting-your-pragmatic-trial-funded/ \n 
URL:https://impactcollaboratory.org/event/living-textbook-grand-rounds-series-march-27-part-3-tips-for-putting-together-a-successful-pct-grant-application/
CATEGORIES:interest
END:VEVENT
BEGIN:VEVENT
DTSTART;TZID=America/New_York:20200310T130000
DTEND;TZID=America/New_York:20200310T140000
DTSTAMP:20260423T084434
CREATED:20200227T203914Z
LAST-MODIFIED:20240619T193216Z
UID:2671-1583845200-1583848800@impactcollaboratory.org
SUMMARY:PCRC Investigator Development Center webinar series highlight
DESCRIPTION:March 10\, 2020 \n1:00pm-2:00pm Eastern time \nAb Brody\, PhD\, RN\, FAAN\, leader of the IMPACT Pilot Studies Core\, will be presenting “Conducting Palliative Care Trials with Persons Living with Dementia and their Caregivers: Key Decisions for Developing a Successful Trial” in PCRC’s Investigator Development Center (IDC) webinar series. \nLearn more by clicking here: https://palliativecareresearch.org/research/investigator-support-information/idc-webinar-series \nRegistration closed.
URL:https://impactcollaboratory.org/event/pcrc-investigator-development-center-webinar-series-highlight/
CATEGORIES:interest
END:VEVENT
END:VCALENDAR