BEGIN:VCALENDAR
VERSION:2.0
PRODID:-//NIA IMPACT Collaboratory - ECPv6.15.20//NONSGML v1.0//EN
CALSCALE:GREGORIAN
METHOD:PUBLISH
X-ORIGINAL-URL:https://impactcollaboratory.org
X-WR-CALDESC:Events for NIA IMPACT Collaboratory
REFRESH-INTERVAL;VALUE=DURATION:PT1H
X-Robots-Tag:noindex
X-PUBLISHED-TTL:PT1H
BEGIN:VTIMEZONE
TZID:America/New_York
BEGIN:DAYLIGHT
TZOFFSETFROM:-0500
TZOFFSETTO:-0400
TZNAME:EDT
DTSTART:20190310T070000
END:DAYLIGHT
BEGIN:STANDARD
TZOFFSETFROM:-0400
TZOFFSETTO:-0500
TZNAME:EST
DTSTART:20191103T060000
END:STANDARD
BEGIN:DAYLIGHT
TZOFFSETFROM:-0500
TZOFFSETTO:-0400
TZNAME:EDT
DTSTART:20200308T070000
END:DAYLIGHT
BEGIN:STANDARD
TZOFFSETFROM:-0400
TZOFFSETTO:-0500
TZNAME:EST
DTSTART:20201101T060000
END:STANDARD
BEGIN:DAYLIGHT
TZOFFSETFROM:-0500
TZOFFSETTO:-0400
TZNAME:EDT
DTSTART:20210314T070000
END:DAYLIGHT
BEGIN:STANDARD
TZOFFSETFROM:-0400
TZOFFSETTO:-0500
TZNAME:EST
DTSTART:20211107T060000
END:STANDARD
END:VTIMEZONE
BEGIN:VEVENT
DTSTART;TZID=America/New_York:20200327T120000
DTEND;TZID=America/New_York:20200327T130000
DTSTAMP:20260423T121937
CREATED:20200326T132906Z
LAST-MODIFIED:20200326T134740Z
UID:2809-1585310400-1585314000@impactcollaboratory.org
SUMMARY:Living Textbook Grand Rounds Series March 27: Part 3-Tips for Putting Together a Successful PCT Grant Application
DESCRIPTION:Speaker:\n \nWendy Weber\, ND\, PhD\, MPH\nBranch Chief\, Clinical Research Branch\nDivision of Extramural Research\, NCCIH \nFor all Grand Round details\, go to: https://rethinkingclinicaltrials.org/event/living-textbook-grand-rounds-series-march-27-part-3-secrets-to-getting-your-pragmatic-trial-funded/ \n 
URL:https://impactcollaboratory.org/event/living-textbook-grand-rounds-series-march-27-part-3-tips-for-putting-together-a-successful-pct-grant-application/
CATEGORIES:interest
END:VEVENT
BEGIN:VEVENT
DTSTART;TZID=America/New_York:20200310T130000
DTEND;TZID=America/New_York:20200310T140000
DTSTAMP:20260423T121937
CREATED:20200227T203914Z
LAST-MODIFIED:20240619T193216Z
UID:2671-1583845200-1583848800@impactcollaboratory.org
SUMMARY:PCRC Investigator Development Center webinar series highlight
DESCRIPTION:March 10\, 2020 \n1:00pm-2:00pm Eastern time \nAb Brody\, PhD\, RN\, FAAN\, leader of the IMPACT Pilot Studies Core\, will be presenting “Conducting Palliative Care Trials with Persons Living with Dementia and their Caregivers: Key Decisions for Developing a Successful Trial” in PCRC’s Investigator Development Center (IDC) webinar series. \nLearn more by clicking here: https://palliativecareresearch.org/research/investigator-support-information/idc-webinar-series \nRegistration closed.
URL:https://impactcollaboratory.org/event/pcrc-investigator-development-center-webinar-series-highlight/
CATEGORIES:interest
END:VEVENT
END:VCALENDAR