BEGIN:VCALENDAR
VERSION:2.0
PRODID:-//NIA IMPACT Collaboratory - ECPv6.15.20//NONSGML v1.0//EN
CALSCALE:GREGORIAN
METHOD:PUBLISH
X-ORIGINAL-URL:https://impactcollaboratory.org
X-WR-CALDESC:Events for NIA IMPACT Collaboratory
REFRESH-INTERVAL;VALUE=DURATION:PT1H
X-Robots-Tag:noindex
X-PUBLISHED-TTL:PT1H
BEGIN:VTIMEZONE
TZID:America/New_York
BEGIN:DAYLIGHT
TZOFFSETFROM:-0500
TZOFFSETTO:-0400
TZNAME:EDT
DTSTART:20190310T070000
END:DAYLIGHT
BEGIN:STANDARD
TZOFFSETFROM:-0400
TZOFFSETTO:-0500
TZNAME:EST
DTSTART:20191103T060000
END:STANDARD
BEGIN:DAYLIGHT
TZOFFSETFROM:-0500
TZOFFSETTO:-0400
TZNAME:EDT
DTSTART:20200308T070000
END:DAYLIGHT
BEGIN:STANDARD
TZOFFSETFROM:-0400
TZOFFSETTO:-0500
TZNAME:EST
DTSTART:20201101T060000
END:STANDARD
BEGIN:DAYLIGHT
TZOFFSETFROM:-0500
TZOFFSETTO:-0400
TZNAME:EDT
DTSTART:20210314T070000
END:DAYLIGHT
BEGIN:STANDARD
TZOFFSETFROM:-0400
TZOFFSETTO:-0500
TZNAME:EST
DTSTART:20211107T060000
END:STANDARD
END:VTIMEZONE
BEGIN:VEVENT
DTSTART;TZID=America/New_York:20200429T150000
DTEND;TZID=America/New_York:20200429T160000
DTSTAMP:20260425T132056
CREATED:20200420T132218Z
LAST-MODIFIED:20240619T152220Z
UID:2983-1588172400-1588176000@impactcollaboratory.org
SUMMARY:Career Development Awards Informational Webinar #1
DESCRIPTION:The IMPACT Collaboratory will fund two to three\, 2-year Career Development Awards (CDAs) to support the development of early-stage MD\, PhD\, or equivalent researchers who seek careers conducting embedded pragmatic clinical trials (ePCTs) for people living with dementia and their care partners. CDAs provide support for up to $100\,000 per year in direct costs and candidates are required to devote a minimum of 75% effort toward the goals of the CDA. The IMPACT Collaboratory will prioritize applications that address dementia care for people of all backgrounds and promote health equity. \nFull Applications are due July 15\, 2020. There is no letter of intent. For further details\, go to the IMPACT CDA Program webpage. \nTwo optional informational webinars will be held to provide additional information and answer questions from potential applicants. Registration is required and can be completed through the links below: \n• Informational Webinar #1 for IMPACT CDA  April 29\, 2020 03:00 PM Eastern Time. Registration closed.
URL:https://impactcollaboratory.org/event/career-development-awards-informational-webinar-1/
CATEGORIES:Meetings,upcoming
END:VEVENT
BEGIN:VEVENT
DTSTART;TZID=America/New_York:20200428T133000
DTEND;TZID=America/New_York:20200428T143000
DTSTAMP:20260425T132056
CREATED:20200420T125727Z
LAST-MODIFIED:20240619T200257Z
UID:2973-1588080600-1588084200@impactcollaboratory.org
SUMMARY:Pilot Grants Program Informational Webinar #1
DESCRIPTION:The IMPACT Collaboratory will fund up to five 1-year non-renewable pilot grant awards for up to $175\,000 in direct costs. Letters of intent are required and due May 29\, 2020. Full proposal applications are by invitation only and will be due September 4\, 2020. For further details\, please see the on the IMPACT Pilot Grant Program page. \nIn response to the coronavirus disease (COVID-2019) outbreak\, the IMPACT Collaboratory will prioritize applications proposing pilot ePCTs of telemedicine\, telehealth\, and remote technologies interventions aimed at improving health care\, unmet needs\, quality of life and/or health outcomes for people living with dementia and/or their care partners for this award cycle. Applications for pilot ePCTs testing other types of non-pharmacological interventions in this population will also be considered. \nInformational Webinar #1 for IMPACT Pilot Grant RFA is April 28\, 2020 01:30 PM Eastern Time. Registration closed. \n 
URL:https://impactcollaboratory.org/event/pilot-grants-program-informational-webinar/
CATEGORIES:Meetings,upcoming
END:VEVENT
BEGIN:VEVENT
DTSTART;TZID=America/New_York:20200415T100000
DTEND;TZID=America/New_York:20200415T170000
DTSTAMP:20260425T132056
CREATED:20200325T161425Z
LAST-MODIFIED:20240619T151726Z
UID:2789-1586944800-1586970000@impactcollaboratory.org
SUMMARY:Care Interventions for Individuals with Dementia and Their Caregivers: A Virtual Workshop
DESCRIPTION:National Academies of Sciences\, Engineering\, and Medicine will be hosting “Care Interventions for Individuals with Dementia and Their Caregivers: A Virtual Workshop” that will bring together key stakeholders and experts to provide input to the committee on a draft Agency for Healthcare Research and Quality (AHRQ) systematic review that examines existing evidence on care interventions that support individuals with dementia and their caregivers. This AHRQ systematic review will form the predominant basis of the National Academies committee’s report on which care interventions can be considered ready for broad implementation and dissemination. \nEvent Date: Wednesday\, April 15\, 2020 from 10am-5pm ET. \nEvent details.\nRegistration closed.
URL:https://impactcollaboratory.org/event/care-interventions-for-individuals-with-dementia-and-their-caregivers-a-virtual-workshop/
CATEGORIES:interest,Meetings
END:VEVENT
BEGIN:VEVENT
DTSTART;VALUE=DATE:20200128
DTEND;VALUE=DATE:20200130
DTSTAMP:20260425T132056
CREATED:20191209T183408Z
LAST-MODIFIED:20191224T141547Z
UID:1816-1580169600-1580342399@impactcollaboratory.org
SUMMARY:Steering Committee and Business Planning: Year 1 Meeting 1
DESCRIPTION:Members of the NIA IMPACT Collaboratory Steering Committee will gather to discuss the project and plan for the upcoming year. \nLocation: Bethesda\, MD
URL:https://impactcollaboratory.org/event/nia-impact-collaboratory-steering-team-and-business-planning-meeting/
CATEGORIES:Meetings
END:VEVENT
END:VCALENDAR