BEGIN:VCALENDAR
VERSION:2.0
PRODID:-//NIA IMPACT Collaboratory - ECPv6.15.20//NONSGML v1.0//EN
CALSCALE:GREGORIAN
METHOD:PUBLISH
X-ORIGINAL-URL:https://impactcollaboratory.org
X-WR-CALDESC:Events for NIA IMPACT Collaboratory
REFRESH-INTERVAL;VALUE=DURATION:PT1H
X-Robots-Tag:noindex
X-PUBLISHED-TTL:PT1H
BEGIN:VTIMEZONE
TZID:America/New_York
BEGIN:DAYLIGHT
TZOFFSETFROM:-0500
TZOFFSETTO:-0400
TZNAME:EDT
DTSTART:20210314T070000
END:DAYLIGHT
BEGIN:STANDARD
TZOFFSETFROM:-0400
TZOFFSETTO:-0500
TZNAME:EST
DTSTART:20211107T060000
END:STANDARD
BEGIN:DAYLIGHT
TZOFFSETFROM:-0500
TZOFFSETTO:-0400
TZNAME:EDT
DTSTART:20220313T070000
END:DAYLIGHT
BEGIN:STANDARD
TZOFFSETFROM:-0400
TZOFFSETTO:-0500
TZNAME:EST
DTSTART:20221106T060000
END:STANDARD
BEGIN:DAYLIGHT
TZOFFSETFROM:-0500
TZOFFSETTO:-0400
TZNAME:EDT
DTSTART:20230312T070000
END:DAYLIGHT
BEGIN:STANDARD
TZOFFSETFROM:-0400
TZOFFSETTO:-0500
TZNAME:EST
DTSTART:20231105T060000
END:STANDARD
END:VTIMEZONE
BEGIN:VEVENT
DTSTART;TZID=America/New_York:20220613T080000
DTEND;TZID=America/New_York:20220613T170000
DTSTAMP:20260425T222950
CREATED:20220531T134024Z
LAST-MODIFIED:20240619T192613Z
UID:10215-1655107200-1655139600@impactcollaboratory.org
SUMMARY:New RFA Released: Career Development Awards Cycle 4
DESCRIPTION:Notice of Intent (NOI) to Publish a New Funding Opportunity Announcement for IMPACT Career Development Awards \nRFA Release: Anticipated June 13\, 2022\nInformational Webinar:  June 29\, 2022 at 2pm ET.  Registration closed.\nApplications Due:  September 15\, 2022 @ 5pm ET \nCareer Development Award\nWe are pleased to inform the community that the NIA IMPACT Collaboratory plans to publish a Request for Applications (RFA) for Career Development Awards (CDA) Program. In this cycle\, the IMPACT Collaboratory plans to fund up to two CDAs. These two-year awards support the development of early-stage MD\, PhD\, or equivalent researchers who seek careers conducting ePCTs for people living with AD/ADRD and their care partners. Each award will provide $100\,000 annually in direct costs with an indirect cost rate capped at 8%. \n\nCDA RFA Cycle 4\n$100k per year in direct costs for 2 years; up to 10k per year project funds\nGoal: Mentored training grant for early-stage investigators to gain skills needed to conduct ePCTs for dementia care\nInformational Webinar:  June 29\, 2022 at 2pm ET. Registration closed.\nApplications Due: September 15\, 2022 at 5pm ET (note this is a Thursday)\nLearn more about CDA awardees
URL:https://impactcollaboratory.org/event/new-rfa-released-career-development-awards-cycle-4/
CATEGORIES:Event Grants,upcoming
END:VEVENT
BEGIN:VEVENT
DTSTART;TZID=America/New_York:20220616T120000
DTEND;TZID=America/New_York:20220616T130000
DTSTAMP:20260425T222950
CREATED:20220531T133655Z
LAST-MODIFIED:20220531T133655Z
UID:10212-1655380800-1655384400@impactcollaboratory.org
SUMMARY:Grand Rounds: Update on Two IMPACT Pilot Studies
DESCRIPTION:Join us for Grand Rounds on June 16\, 2022 from 12-1pm ET. Pilot Study Awardees\, Jennifer Gabbard\, MD\, and Ariel Green\, MD\, MPH\, PhD\, to present updates on their pilot studies. \nThursday\, June 16\, 2022\n12pm – 1pm ET \nJennifer Gabbard\, MD\nWake Forest School of Medicine\nUsing Telemedicine to Improve Engagement in Advance Care Planning in Patients with Cognitive Impairment or Unrecognized Dementia \nAriel Green\, MD\, MPH\, PhD\nJohns Hopkins University School of Medicine\nALIGN: Aligning Medications with What Matters Most \nZOOM DETAILS\nJoin from PC\, Mac\, iOS or Android: https://hebrewseniorlife.zoom.us/j/97344810673 \nDial-In:  +1 312 626 6799 (US Toll) or  +1 470 250 9358 (US Toll) \nMeeting ID:  973 4481 0673
URL:https://impactcollaboratory.org/event/grand-rounds-update-on-two-impact-pilot-studies/
LOCATION:https://hebrewseniorlife.zoom.us/j/97344810673
CATEGORIES:Grand Rounds,upcoming
END:VEVENT
BEGIN:VEVENT
DTSTART;VALUE=DATE:20220617
DTEND;VALUE=DATE:20220618
DTSTAMP:20260425T222950
CREATED:20220201T100048Z
LAST-MODIFIED:20220201T025915Z
UID:7601-1655424000-1655510399@impactcollaboratory.org
SUMMARY:APPLICATION DEADLINE: Pilot Grant Cycle 4A Full Applications Due @ 5pm ET
DESCRIPTION:Pilot Grants Program Cycle 4A Applications selected for further consideration will be invited to submit a full proposal due June 17\, 2022 @ 5pm ET. \n  \n\nFunding Details \nIn this cycle\, the IMPACT Collaboratory will fund up to five 1-year awards for pilot pragmatic clinical trials (ePCTs) that test non-pharmacological interventions embedded in health care system(s) for people living with AD/ADRD and their care partners. Pilot Studies will be funded for up to $175\,000 in direct costs for a maximum of 12-months. For more information\, please see our Pilot Grants Program page. \nThe goal of the pilot projects is to generate the preliminary data necessary to design and conduct a future full-scale Stage IV effectiveness ePCT (based on the NIH Stage Model) funded through other grant mechanisms (NIH or other sources) \nThe IMPACT Collaboratory will consider all applications for pilot ePCTs that evaluate non-pharmacological interventions to improve the care of people living with AD/ADRD and their care partners. This grant cycle will prioritize applications for interventions in these populations that aim to: \n\nImprove care through behavioral economics “nudge” interventions;\nReduce inequities in health care;\nReduce potentially inappropriate medications through de-prescribing; or\nImprove care in emergency departments.
URL:https://impactcollaboratory.org/event/application-deadline-pilot-grant-cycle-4a-full-applications-due-5pm-et/
CATEGORIES:Event Grants,upcoming
END:VEVENT
BEGIN:VEVENT
DTSTART;TZID=America/New_York:20220629T140000
DTEND;TZID=America/New_York:20220629T150000
DTSTAMP:20260425T222950
CREATED:20220613T121825Z
LAST-MODIFIED:20240619T163848Z
UID:10280-1656511200-1656514800@impactcollaboratory.org
SUMMARY:Informational Webinar: Career Development Award RFA Cycle 4
DESCRIPTION:We are pleased to announce that the IMPACT Collaboratory released a new Request for Applications (RFA) on June 13\, 2022. \n\nCDA RFA Cycle 4\nUp to $220k over 2 years in direct costs; includes up to 20k total for project funds\nGoal: Mentored training grant for early-career investigators to gain skills needed to conduct ePCTs for dementia care; mid-career investigators eligible with prior approval\nInformational Webinar:  June 29\, 2022 at 2pm ET. Registration closed.\nApplications Due: September 15\, 2022 at 5pm ET (note this is a Thursday)\nLearn more about CDA awardees\n\nApplications must be submitted online through the Brown University UFunds system at: https://ufunds.brown.edu/. The online grant application will open on June 20\, 2022 at 9:00 AM ET. Applications may be submitted no later than September 15\, 2022 at 5:00 PM ET. \nAn optional informational webinar will be hosted to provide investigators with an overview of application details. Investigators will have the opportunity to ask questions. Pre-registration is required using the link below. \n\nWednesday\, June 29\, 2022 at 2:00 pm ET: Registration closed.\n\nThe informational webinar will be recorded and posted online at https://impactcollaboratory.org/grants-and-training/career-development-awards/cda/.
URL:https://impactcollaboratory.org/event/informational-webinar-career-development-award-rfa-cycle-4/
CATEGORIES:Event Grants,upcoming
END:VEVENT
END:VCALENDAR