BEGIN:VCALENDAR
VERSION:2.0
PRODID:-//NIA IMPACT Collaboratory - ECPv6.15.20//NONSGML v1.0//EN
CALSCALE:GREGORIAN
METHOD:PUBLISH
X-ORIGINAL-URL:https://impactcollaboratory.org
X-WR-CALDESC:Events for NIA IMPACT Collaboratory
REFRESH-INTERVAL;VALUE=DURATION:PT1H
X-Robots-Tag:noindex
X-PUBLISHED-TTL:PT1H
BEGIN:VTIMEZONE
TZID:America/New_York
BEGIN:DAYLIGHT
TZOFFSETFROM:-0500
TZOFFSETTO:-0400
TZNAME:EDT
DTSTART:20220313T070000
END:DAYLIGHT
BEGIN:STANDARD
TZOFFSETFROM:-0400
TZOFFSETTO:-0500
TZNAME:EST
DTSTART:20221106T060000
END:STANDARD
BEGIN:DAYLIGHT
TZOFFSETFROM:-0500
TZOFFSETTO:-0400
TZNAME:EDT
DTSTART:20230312T070000
END:DAYLIGHT
BEGIN:STANDARD
TZOFFSETFROM:-0400
TZOFFSETTO:-0500
TZNAME:EST
DTSTART:20231105T060000
END:STANDARD
BEGIN:DAYLIGHT
TZOFFSETFROM:-0500
TZOFFSETTO:-0400
TZNAME:EDT
DTSTART:20240310T070000
END:DAYLIGHT
BEGIN:STANDARD
TZOFFSETFROM:-0400
TZOFFSETTO:-0500
TZNAME:EST
DTSTART:20241103T060000
END:STANDARD
END:VTIMEZONE
BEGIN:VEVENT
DTSTART;TZID=America/New_York:20230119T120000
DTEND;TZID=America/New_York:20230119T130000
DTSTAMP:20260425T124026
CREATED:20221115T170041Z
LAST-MODIFIED:20221115T173519Z
UID:11275-1674129600-1674133200@impactcollaboratory.org
SUMMARY:Grand Rounds: Adaptation of Behavioral Interventions and FRAME
DESCRIPTION:Join us for IMPACT Grand Rounds on Thursday\, January 19 at 12pm ET. Dr. Shannon Wiltsey Stirman\, PhD will be presenting on the “Adaptation of Behavioral Interventions and FRAME.” \nZoom Conferencing\nJoin from PC\, Mac\, iOS or Android: https://hebrewseniorlife.zoom.us/j/97344810673\nDial-In:  +1 312 626 6799 (US Toll) or  +1 470 250 9358 (US Toll)\nMeeting ID:  973 4481 0673
URL:https://impactcollaboratory.org/event/grand-rounds-adaptation-of-behavioral-interventions-and-frame/
LOCATION:https://hebrewseniorlife.zoom.us/j/86937720056 
CATEGORIES:Grand Rounds,upcoming
END:VEVENT
BEGIN:VEVENT
DTSTART;VALUE=DATE:20230120
DTEND;VALUE=DATE:20230121
DTSTAMP:20260425T124026
CREATED:20221011T171025Z
LAST-MODIFIED:20221011T171025Z
UID:11042-1674172800-1674259199@impactcollaboratory.org
SUMMARY:Application Deadline: Pilot Grant Full Proposals Due @ 5pm (invitation only)
DESCRIPTION:We are pleased to announce that the IMPACT Collaboratory published a new Request for Applications (RFA) on August 1\, 2022. \n\nPilot Grants Cycle 4B RFA\n$175k in direct costs for 1 year\nGoal: Pilot study to prepare for an embedded pragmatic clinical trial (ePCT) of a non-pharmacological interventions for dementia care\nInformational Webinar: Recording available here.\nRequired Letter of Intent (LOI) was due Thursday\, September 15\, 2022 at 5pm ET\nApplication Deadline (invitation only): January 20\, 2023 @ 5pm ET\nLearn more about Pilot Grant Awardees
URL:https://impactcollaboratory.org/event/application-deadline-pilot-grant-full-proposals-due-5pm-invitation-only/
CATEGORIES:Event Grants,upcoming
END:VEVENT
BEGIN:VEVENT
DTSTART;VALUE=DATE:20230127
DTEND;VALUE=DATE:20230128
DTSTAMP:20260425T124026
CREATED:20221011T171418Z
LAST-MODIFIED:20221212T155652Z
UID:11044-1674777600-1674863999@impactcollaboratory.org
SUMMARY:New Application Deadline: Demonstration Project Full Proposals Due @ 5pm (invitation only)
DESCRIPTION:We are pleased to announce that the IMPACT Collaboratory published a new Request for Applications (RFA) on August 1\, 2022. Please note this deadline was extended in December 2022. \n\nDemonstration Projects Cycle 3\n$500k in total direct costs for 18 months\nGoal: Full-scale ePCT in health care systems of non-pharmacological interventions for dementia care\nLetter of Intent Due (by email): September 30\, 2022* at 5pm ET *LOI deadline was extended to September 30\, 2022\nApplication Deadline: January 27\, 2022 @ 5pm ET\nLearn more about previous awardees here.
URL:https://impactcollaboratory.org/event/application-deadline-demonstration-project-full-proposals-due-5pm-invitation-only/
CATEGORIES:Event Grants,upcoming
END:VEVENT
END:VCALENDAR