BEGIN:VCALENDAR
VERSION:2.0
PRODID:-//NIA IMPACT Collaboratory - ECPv6.15.20//NONSGML v1.0//EN
CALSCALE:GREGORIAN
METHOD:PUBLISH
X-ORIGINAL-URL:https://impactcollaboratory.org
X-WR-CALDESC:Events for NIA IMPACT Collaboratory
REFRESH-INTERVAL;VALUE=DURATION:PT1H
X-Robots-Tag:noindex
X-PUBLISHED-TTL:PT1H
BEGIN:VTIMEZONE
TZID:America/New_York
BEGIN:DAYLIGHT
TZOFFSETFROM:-0500
TZOFFSETTO:-0400
TZNAME:EDT
DTSTART:20220313T070000
END:DAYLIGHT
BEGIN:STANDARD
TZOFFSETFROM:-0400
TZOFFSETTO:-0500
TZNAME:EST
DTSTART:20221106T060000
END:STANDARD
BEGIN:DAYLIGHT
TZOFFSETFROM:-0500
TZOFFSETTO:-0400
TZNAME:EDT
DTSTART:20230312T070000
END:DAYLIGHT
BEGIN:STANDARD
TZOFFSETFROM:-0400
TZOFFSETTO:-0500
TZNAME:EST
DTSTART:20231105T060000
END:STANDARD
BEGIN:DAYLIGHT
TZOFFSETFROM:-0500
TZOFFSETTO:-0400
TZNAME:EDT
DTSTART:20240310T070000
END:DAYLIGHT
BEGIN:STANDARD
TZOFFSETFROM:-0400
TZOFFSETTO:-0500
TZNAME:EST
DTSTART:20241103T060000
END:STANDARD
END:VTIMEZONE
BEGIN:VEVENT
DTSTART;TZID=America/New_York:20230214T120000
DTEND;TZID=America/New_York:20230214T130000
DTSTAMP:20260425T113516
CREATED:20230130T110044Z
LAST-MODIFIED:20240619T190533Z
UID:11585-1676376000-1676379600@impactcollaboratory.org
SUMMARY:Informational Webinar: Pilot Grants Program RFA Cycle 5A
DESCRIPTION:We are pleased to announce that the IMPACT Collaboratory published a new Pilot Grants Program Request for Applications (RFA) on January 30\, 2023. \n\nPilot Grants Cycle 5A RFA\n$200k in direct costs for 1 year\nGoal: Pilot study to prepare for an embedded pragmatic clinical trial (ePCT) of a non-pharmacological interventions for dementia care\nInformational Webinar: Tuesday\, February 14\, 2023\, at 12:00pm ET: Registration closed.\nRequired Letter of Intent (LOI) due by Friday\, March 3\, 2023 at 5pm ET\nFull Proposals Due June 16\, 2023 @ 5pm ET (invitation only)\nLearn more about Pilot Grant Awardees
URL:https://impactcollaboratory.org/event/informational-webinar-pilot-grants-program-rfa-cycle-5a/
CATEGORIES:Event Grants,upcoming
END:VEVENT
BEGIN:VEVENT
DTSTART;TZID=America/New_York:20230216T120000
DTEND;TZID=America/New_York:20230216T130000
DTSTAMP:20260425T113516
CREATED:20230130T175721Z
LAST-MODIFIED:20230130T180822Z
UID:11599-1676548800-1676552400@impactcollaboratory.org
SUMMARY:Grand Rounds: Fan Li\, PhD | Methods for Designing Cluster Randomized Trials to Detect Treatment Effect Heterogeneity
DESCRIPTION:Join us for IMPACT Grand Rounds on Thursday\, February 16 at 12pm ET with Dr. Li who will be presenting on the “Methods for Designing Cluster Randomized Trials to Detect Treatment Effect Heterogeneity.” \nFan Li\, PhD\, is an assistant professor in the Department of Biostatistics at Yale School of Public Health\, and faculty member in the Center for Methods in Implementation and Prevention Science and the Yale Center for Analytical Sciences. He received his Ph.D. in biostatistics from Duke University in May 2019\, and joined the Yale Biostatistics faculty in July 2019. His main expertise is in the development of methods for designing and analyzing pragmatic cluster randomized trials\, causal inference for randomized trials and observational studies\, and techniques for improving internal and external validity for treatment comparison under different study designs. He is the Principal Investigator of a Patient-Centered Outcomes Research Institute (PCORI)-funded methods award that investigates new study planning methods and software for testing treatment effect heterogeneity in cluster randomized trials. His research has also been supported by several additional PCORI-funded and NIH-funded awards. Dr. Li is currently an Executive Committee member of the Design and Statistics Core at the NIA IMPACT Collaboratory. Since 2013\, he has also been a member of the Biostatistics and Study Design Core at the NIH Pragmatic Trials Collaboratory and contributed to the application of new statistical methods to funded Demonstration Projects. \nZoom Conferencing\nJoin from PC\, Mac\, iOS or Android: https://hebrewseniorlife.zoom.us/j/97344810673\nDial-In:  +1 312 626 6799 (US Toll) or  +1 470 250 9358 (US Toll)\nMeeting ID:  973 4481 0673 \nPDF Flyer: IMPACT GR_Fan Li_2/16/2023_FINAL
URL:https://impactcollaboratory.org/event/grand-rounds-methods-for-designing-cluster-randomized-trials-to-detect-treatment-effect-heterogeneity/
LOCATION:https://hebrewseniorlife.zoom.us/j/86937720056 
CATEGORIES:Grand Rounds,upcoming
END:VEVENT
END:VCALENDAR