BEGIN:VCALENDAR
VERSION:2.0
PRODID:-//NIA IMPACT Collaboratory - ECPv6.15.20//NONSGML v1.0//EN
CALSCALE:GREGORIAN
METHOD:PUBLISH
X-ORIGINAL-URL:https://impactcollaboratory.org
X-WR-CALDESC:Events for NIA IMPACT Collaboratory
REFRESH-INTERVAL;VALUE=DURATION:PT1H
X-Robots-Tag:noindex
X-PUBLISHED-TTL:PT1H
BEGIN:VTIMEZONE
TZID:America/New_York
BEGIN:DAYLIGHT
TZOFFSETFROM:-0500
TZOFFSETTO:-0400
TZNAME:EDT
DTSTART:20220313T070000
END:DAYLIGHT
BEGIN:STANDARD
TZOFFSETFROM:-0400
TZOFFSETTO:-0500
TZNAME:EST
DTSTART:20221106T060000
END:STANDARD
BEGIN:DAYLIGHT
TZOFFSETFROM:-0500
TZOFFSETTO:-0400
TZNAME:EDT
DTSTART:20230312T070000
END:DAYLIGHT
BEGIN:STANDARD
TZOFFSETFROM:-0400
TZOFFSETTO:-0500
TZNAME:EST
DTSTART:20231105T060000
END:STANDARD
BEGIN:DAYLIGHT
TZOFFSETFROM:-0500
TZOFFSETTO:-0400
TZNAME:EDT
DTSTART:20240310T070000
END:DAYLIGHT
BEGIN:STANDARD
TZOFFSETFROM:-0400
TZOFFSETTO:-0500
TZNAME:EST
DTSTART:20241103T060000
END:STANDARD
END:VTIMEZONE
BEGIN:VEVENT
DTSTART;TZID=America/New_York:20230303T170000
DTEND;TZID=America/New_York:20230303T170000
DTSTAMP:20260425T071521
CREATED:20230130T110039Z
LAST-MODIFIED:20240619T150241Z
UID:11583-1677862800-1677862800@impactcollaboratory.org
SUMMARY:Application Deadline: Pilot Grant Letter of Intent Due @ 5pm ET (required)
DESCRIPTION:We are pleased to announce that the IMPACT Collaboratory published a new Pilot Grants Program Request for Applications (RFA) on January 30\, 2023. \n\nPilot Grants Cycle 5A RFA\n$200k in direct costs for 1 year\nGoal: Pilot study to prepare for an embedded pragmatic clinical trial (ePCT) of a non-pharmacological interventions for dementia care\nInformational Webinar: Tuesday\, February 14\, 2023\, at 12:00pm ET: Registration closed.\nRequired Letter of Intent (LOI) due by Friday\, March 3\, 2023 at 5pm ET\nFull Proposals Due June 16\, 2023 @ 5pm ET (invitation only)\nLearn more about Pilot Grant Awardees
URL:https://impactcollaboratory.org/event/application-deadline-pilot-grant-letter-of-intent-due-5pm-et-required/
CATEGORIES:Event Grants,upcoming
END:VEVENT
BEGIN:VEVENT
DTSTART;TZID=America/New_York:20230313T080000
DTEND;TZID=America/New_York:20230313T170000
DTSTAMP:20260425T071521
CREATED:20221108T144813Z
LAST-MODIFIED:20240619T150015Z
UID:11241-1678694400-1678726800@impactcollaboratory.org
SUMMARY:Application Deadline: HCS Scholars Cycle 3 Full Applications due by 5pm ET (invitation only)
DESCRIPTION:We are pleased to announce that the IMPACT Collaboratory published a new Request for Applications (RFA) for the HCS Scholars Program on November 8\, 2022. \n\nHCS Scholars RFA Cycle 3\n$120k in direct costs for 12 months\nGoal: For investigators to partner with healthcare systems to develop research projects aimed at improving care for people living with dementia and their care partners\nInformational Webinar: Tuesday\, November 15\, 2022 @ 1pm ET. Registration closed.\nLetter of Intent (Required): due by December 19\, 2022 @ 5pm ET\nFull Applications (Invitation Only): due by March 13\, 2023 @ 5pm ET\nLearn more about previous HCS Scholar awardees\n\n 
URL:https://impactcollaboratory.org/event/application-deadline-hcs-scholars-cycle-3-full-applications-due-by-5pm-et-invitation-only/
CATEGORIES:Event Grants,upcoming
END:VEVENT
BEGIN:VEVENT
DTSTART;TZID=America/New_York:20230316T120000
DTEND;TZID=America/New_York:20230316T130000
DTSTAMP:20260425T071521
CREATED:20230223T165135Z
LAST-MODIFIED:20230404T194005Z
UID:11710-1678968000-1678971600@impactcollaboratory.org
SUMMARY:Grand Rounds: Eleanor Murray\, PhD | Causal Inference in Pragmatic Trials
DESCRIPTION:Join us for IMPACT Grand Rounds on Thursday\, March 16 at 12pm ET with Dr. Murray who will be presenting on the “Causal Inference in Pragmatic Trials.” \nEleanor (Ellie) Murray\, PhD\, is an assistant professor of Epidemiology at Boston University School of Public Health with expertise in causal inference. Her work focuses on improving methods for evidence-based decision-making and human-data interaction\, as well as improving the translation of methodological advances into practical applied work. Application areas include HIV\, HPV\, cancer\, cardiovascular disease\, reproductive health research\, tuberculosis research\, access to care\, psychiatric disorders\, musculoskeletal disorders\, social and environmental epidemiology\, and maternal and adolescent health. Dr Murray also conducts meta-research evaluating bias in existing research. She has an ScD in Epidemiology and MSc in Biostatistics from Harvard TH Chan School of Public Health\, where she also did her postdoctoral fellowship in the Program on Causal Inference\, an MPH in Epidemiology from Columbia Mailman School of Public Health\, and a BSc in Biology from McGill University. Dr Murray is the co-host of the podcast Casual Inference\, an Associate Editor for Social Media at the American Journal of Epidemiology\, and a science communicator under the handle @epiellie on Twitter. \nZoom Conferencing\nJoin from PC\, Mac\, iOS or Android: https://hebrewseniorlife.zoom.us/j/97344810673\nDial-In:  +1 312 626 6799 (US Toll) or  +1 470 250 9358 (US Toll)\nMeeting ID:  973 4481 0673 \nPDF Flyer: IMPACT GR__Murray_3/16/2023_Final
URL:https://impactcollaboratory.org/event/grand-rounds-eleanor-murray-phd-casual-inference-in-pragmatic-trials/
LOCATION:https://hebrewseniorlife.zoom.us/j/86937720056 
CATEGORIES:Grand Rounds,upcoming
END:VEVENT
END:VCALENDAR