BEGIN:VCALENDAR
VERSION:2.0
PRODID:-//NIA IMPACT Collaboratory - ECPv6.15.20//NONSGML v1.0//EN
CALSCALE:GREGORIAN
METHOD:PUBLISH
X-WR-CALNAME:NIA IMPACT Collaboratory
X-ORIGINAL-URL:https://impactcollaboratory.org
X-WR-CALDESC:Events for NIA IMPACT Collaboratory
REFRESH-INTERVAL;VALUE=DURATION:PT1H
X-Robots-Tag:noindex
X-PUBLISHED-TTL:PT1H
BEGIN:VTIMEZONE
TZID:America/New_York
BEGIN:DAYLIGHT
TZOFFSETFROM:-0500
TZOFFSETTO:-0400
TZNAME:EDT
DTSTART:20230312T070000
END:DAYLIGHT
BEGIN:STANDARD
TZOFFSETFROM:-0400
TZOFFSETTO:-0500
TZNAME:EST
DTSTART:20231105T060000
END:STANDARD
BEGIN:DAYLIGHT
TZOFFSETFROM:-0500
TZOFFSETTO:-0400
TZNAME:EDT
DTSTART:20240310T070000
END:DAYLIGHT
BEGIN:STANDARD
TZOFFSETFROM:-0400
TZOFFSETTO:-0500
TZNAME:EST
DTSTART:20241103T060000
END:STANDARD
BEGIN:DAYLIGHT
TZOFFSETFROM:-0500
TZOFFSETTO:-0400
TZNAME:EDT
DTSTART:20250309T070000
END:DAYLIGHT
BEGIN:STANDARD
TZOFFSETFROM:-0400
TZOFFSETTO:-0500
TZNAME:EST
DTSTART:20251102T060000
END:STANDARD
END:VTIMEZONE
BEGIN:VEVENT
DTSTART;TZID=America/New_York:20240118T120000
DTEND;TZID=America/New_York:20240118T130000
DTSTAMP:20260424T145208
CREATED:20240103T152941Z
LAST-MODIFIED:20240103T153106Z
UID:13737-1705579200-1705582800@impactcollaboratory.org
SUMMARY:Grand Rounds: Ellen McCreedy\, PhD\, Tina Sadarangani\, PhD\, RN & Sheryl Zimmerman\, PhD | Strategies to implement ePCTs in home and community-based settings – issues and successes in Assisted Living and Adult Day Centers
DESCRIPTION:Join us for IMPACT Grand Rounds on Thursday\, January 18 at 12pm ET with Drs. McCreedy\, Sadarangani\, and Zimmerman who will be presenting on “Strategies to implement ePCTs in home and community-based settings – issues and successes in Assisted Living and Adult Day Centers.” \nEllen McCreedy\, PhD\nAssistant Professor\nBrown University School of Public Health \nTina Sadarangani\, PhD\, RN\nAssistant Professor\nNYU Rory Meyers College of Nursing \nSheryl Zimmerman\, PhD\nUniversity Distinguished Professor\nUniversity of North Carolina at Chapel Hill \n  \nZoom Conferencing\nJoin from PC\, Mac\, iOS or Android: https://hebrewseniorlife.zoom.us/j/97344810673\nDial-In:  +1 312 626 6799 (US Toll) or  +1 470 250 9358 (US Toll)\nMeeting ID:  973 4481 0673 \nPDF Flyer: IMPACT GR | McCreedy\, Sadarangani & Zimmerman – 01.18.24\n*For print/downloadable purposes only.
URL:https://impactcollaboratory.org/event/grand-rounds-ellen-mccreedy-phd-tina-sadarangani-phd-rn-sheryl-zimmerman-phd-strategies-to-implement-epcts-in-home-and-community-based-settings-issues-and-successes-in-assisted-liv/
LOCATION:https://hebrewseniorlife.zoom.us/j/86937720056 
CATEGORIES:Grand Rounds,upcoming
END:VEVENT
BEGIN:VEVENT
DTSTART;VALUE=DATE:20240124
DTEND;VALUE=DATE:20240126
DTSTAMP:20260424T145208
CREATED:20240117T205751Z
LAST-MODIFIED:20240117T205751Z
UID:13814-1706054400-1706227199@impactcollaboratory.org
SUMMARY:IMPACT 4th Annual Training Workshop for Accepted Applicants
DESCRIPTION:The IMPACT Collaboratory will hold its fourth annual virtual Training Workshop on January 24-25\, 2024 entitled Building Skills to Conduct Embedded Pragmatic Clinical Trials (ePCTs) among People Living with Dementia (PLWD) and their Care Partners. This 1.5-day virtual workshop features all new material to build a foundation in practical aspects of designing and conducting ePCTs in Alzheimer’s disease (AD) and AD-related dementias (ADRD). The workshop will include a combination of activities including: panel discussions\, small group sessions\, and networking opportunities with experts in the field. \nEarly to mid-stage researchers who seek to develop competence in designing and conducting ePCTs of non-pharmacological interventions embedded in health care systems for PLWD and care partners were encouraged to apply for the workshop in 2023. \nWednesday\, January 24th\, 2024  |  11:00am – 3:30pm ET\nThursday\, January 25th\, 2024  |  11:00am – 5:00pm ET \nFind the working agenda and more information about the workshop on our website at impactcollaboratory.org/training-workshop. \nEmail IMPACTcollaboratory@hsl.harvard.edu with questions regarding this opportunity.
URL:https://impactcollaboratory.org/event/impact-4th-annual-training-workshop-for-accepted-applicants/
LOCATION:Virtual
CATEGORIES:upcoming
END:VEVENT
END:VCALENDAR