BEGIN:VCALENDAR
VERSION:2.0
PRODID:-//NIA IMPACT Collaboratory - ECPv6.15.20//NONSGML v1.0//EN
CALSCALE:GREGORIAN
METHOD:PUBLISH
X-WR-CALNAME:NIA IMPACT Collaboratory
X-ORIGINAL-URL:https://impactcollaboratory.org
X-WR-CALDESC:Events for NIA IMPACT Collaboratory
REFRESH-INTERVAL;VALUE=DURATION:PT1H
X-Robots-Tag:noindex
X-PUBLISHED-TTL:PT1H
BEGIN:VTIMEZONE
TZID:America/New_York
BEGIN:DAYLIGHT
TZOFFSETFROM:-0500
TZOFFSETTO:-0400
TZNAME:EDT
DTSTART:20240310T070000
END:DAYLIGHT
BEGIN:STANDARD
TZOFFSETFROM:-0400
TZOFFSETTO:-0500
TZNAME:EST
DTSTART:20241103T060000
END:STANDARD
BEGIN:DAYLIGHT
TZOFFSETFROM:-0500
TZOFFSETTO:-0400
TZNAME:EDT
DTSTART:20250309T070000
END:DAYLIGHT
BEGIN:STANDARD
TZOFFSETFROM:-0400
TZOFFSETTO:-0500
TZNAME:EST
DTSTART:20251102T060000
END:STANDARD
BEGIN:DAYLIGHT
TZOFFSETFROM:-0500
TZOFFSETTO:-0400
TZNAME:EDT
DTSTART:20260308T070000
END:DAYLIGHT
BEGIN:STANDARD
TZOFFSETFROM:-0400
TZOFFSETTO:-0500
TZNAME:EST
DTSTART:20261101T060000
END:STANDARD
END:VTIMEZONE
BEGIN:VEVENT
DTSTART;TZID=America/New_York:20250515T120000
DTEND;TZID=America/New_York:20250515T130000
DTSTAMP:20260423T094827
CREATED:20250422T170458Z
LAST-MODIFIED:20250613T160014Z
UID:15899-1747310400-1747314000@impactcollaboratory.org
SUMMARY:IMPACT Grand Rounds | Bridging Research and Practice: An Update from Real World Data Scholars
DESCRIPTION:Join us for Grand Rounds on May 15th at noon ET for “Bridging Research and Practice: An Update from Real World Data Scholars.” Jinying Chen\, PhD\, Kenneth Lam\, MD\, MAS\, Lindsay White\, PhD\, and Yongkang Zhang\, PhD\, MS\, will discuss their Long-Term Care Data Cooperative projects. \nZoom Conferencing \nJoin from PC\, Mac\, iOS or Android: https://hebrewseniorlife.zoom.us/j/82975236412 \nDial-In:  +1 646 518 9805 US (New York)  or  +1 213 338 8477 US (Los Angeles) \nMeeting ID:  829 7523 6412 \nFlyer: IMPACT GR_May15_2025_RWDscholars_FINAL \n  \nGrand Rounds recordings are posted here: https://impactcollaboratory.org/learning-resources/grand-rounds/
URL:https://impactcollaboratory.org/event/impact-grand-rounds-bridging-research-and-practice-an-update-from-real-world-data-scholars/
LOCATION:https://hebrewseniorlife.zoom.us/j/82975236412
CATEGORIES:Grand Rounds,upcoming
END:VEVENT
END:VCALENDAR