BEGIN:VCALENDAR
VERSION:2.0
PRODID:-//NIA IMPACT Collaboratory - ECPv6.15.20//NONSGML v1.0//EN
CALSCALE:GREGORIAN
METHOD:PUBLISH
X-WR-CALNAME:NIA IMPACT Collaboratory
X-ORIGINAL-URL:https://impactcollaboratory.org
X-WR-CALDESC:Events for NIA IMPACT Collaboratory
REFRESH-INTERVAL;VALUE=DURATION:PT1H
X-Robots-Tag:noindex
X-PUBLISHED-TTL:PT1H
BEGIN:VTIMEZONE
TZID:America/New_York
BEGIN:DAYLIGHT
TZOFFSETFROM:-0500
TZOFFSETTO:-0400
TZNAME:EDT
DTSTART:20240310T070000
END:DAYLIGHT
BEGIN:STANDARD
TZOFFSETFROM:-0400
TZOFFSETTO:-0500
TZNAME:EST
DTSTART:20241103T060000
END:STANDARD
BEGIN:DAYLIGHT
TZOFFSETFROM:-0500
TZOFFSETTO:-0400
TZNAME:EDT
DTSTART:20250309T070000
END:DAYLIGHT
BEGIN:STANDARD
TZOFFSETFROM:-0400
TZOFFSETTO:-0500
TZNAME:EST
DTSTART:20251102T060000
END:STANDARD
BEGIN:DAYLIGHT
TZOFFSETFROM:-0500
TZOFFSETTO:-0400
TZNAME:EDT
DTSTART:20260308T070000
END:DAYLIGHT
BEGIN:STANDARD
TZOFFSETFROM:-0400
TZOFFSETTO:-0500
TZNAME:EST
DTSTART:20261101T060000
END:STANDARD
END:VTIMEZONE
BEGIN:VEVENT
DTSTART;TZID=America/New_York:20250605T130000
DTEND;TZID=America/New_York:20250605T140000
DTSTAMP:20260423T082632
CREATED:20250527T150713Z
LAST-MODIFIED:20250527T150753Z
UID:15956-1749128400-1749132000@impactcollaboratory.org
SUMMARY:LTC Data Cooperative | Ask & Explore: Office Hours for Interested Researchers
DESCRIPTION:Are you considering applying to the  Long-Term Care (LTC) Data Cooperative? Have a research proposal you’d like to discuss? \nJoin our new Ask & Explore: Office Hours for Interested Researchers series to: \n Discuss research ideas\n Get questions answered\n Receive expert guidance from the panel of experts: \n\nStephanie Kissam\, MPH\, Executive Director\, Long-Term Care Data Cooperative\nElizabeth White\, APRN\, PhD\, Assistant Professor\, Health Services\, Policy & Practice\, Brown University School of Public Health\nAmy Recker\, MPH\, Project Director\, Brown University School of Public Health\n\nHow to prepare:\nExplore LTC Data Coop training materials ahead of the session. These resources provide essential insights into utilizing the LTC Data Cooperative effectively. \nRegister NOW to secure your spot!
URL:https://impactcollaboratory.org/event/ltc-data-coop-ask-explore/
LOCATION:https://hebrewseniorlife.zoom.us/meeting/register/SxLn8B_iQWCyD-GpGPywAw
CATEGORIES:upcoming
END:VEVENT
BEGIN:VEVENT
DTSTART;TZID=America/New_York:20250612T120000
DTEND;TZID=America/New_York:20250612T130000
DTSTAMP:20260423T082632
CREATED:20250527T133608Z
LAST-MODIFIED:20250613T155854Z
UID:15938-1749729600-1749733200@impactcollaboratory.org
SUMMARY:IMPACT Grand Rounds: Jennifer Sullivan\, PhD | Meta-Lessons Learned from IMPACT Pilot and Demonstration Projects Implementation
DESCRIPTION:Join us on June 12\, 2025 from 12pm – 1pm ET for IMPACT Grand Rounds. Dr. Sullivan will discuss “Meta-Lessons Learned from IMPACT Pilot and Demonstration Projects Implementation”. \nJennifer Sullivan\, PhD \nAssociate Professor\, Health Services Policy and Practice Department\,  \nBrown University School of Public Health \n  \nAssociate Director & Investigator\, \nThe Transformative Health Systems Research to Improve Veteran Equity and Independence Center for Innovation in Long Term Services and Support (THRIVE COIN) \nVA Providence Healthcare System \n  \nZoom Conferencing \nJoin from PC\, Mac\, iOS or Android: https://hebrewseniorlife.zoom.us/j/82975236412 \nDial-In:  +1 646 518 9805 US (New York)  or  +1 213 338 8477 US (Los Angeles) \nMeeting ID:  829 7523 6412 \nFlyer: IMPACT GR_Jun12_2025_Sullivan_FINAL \n  \nGrand Rounds recordings are posted here: https://impactcollaboratory.org/learning-resources/grand-rounds/
URL:https://impactcollaboratory.org/event/impact-grand-rounds-implementation-work-with-impact-pilots-and-demos/
LOCATION:https://hebrewseniorlife.zoom.us/j/82975236412
CATEGORIES:Grand Rounds,upcoming
END:VEVENT
END:VCALENDAR