BEGIN:VCALENDAR
VERSION:2.0
PRODID:-//NIA IMPACT Collaboratory - ECPv6.15.20//NONSGML v1.0//EN
CALSCALE:GREGORIAN
METHOD:PUBLISH
X-ORIGINAL-URL:https://impactcollaboratory.org
X-WR-CALDESC:Events for NIA IMPACT Collaboratory
REFRESH-INTERVAL;VALUE=DURATION:PT1H
X-Robots-Tag:noindex
X-PUBLISHED-TTL:PT1H
BEGIN:VTIMEZONE
TZID:America/New_York
BEGIN:DAYLIGHT
TZOFFSETFROM:-0500
TZOFFSETTO:-0400
TZNAME:EDT
DTSTART:20240310T070000
END:DAYLIGHT
BEGIN:STANDARD
TZOFFSETFROM:-0400
TZOFFSETTO:-0500
TZNAME:EST
DTSTART:20241103T060000
END:STANDARD
BEGIN:DAYLIGHT
TZOFFSETFROM:-0500
TZOFFSETTO:-0400
TZNAME:EDT
DTSTART:20250309T070000
END:DAYLIGHT
BEGIN:STANDARD
TZOFFSETFROM:-0400
TZOFFSETTO:-0500
TZNAME:EST
DTSTART:20251102T060000
END:STANDARD
BEGIN:DAYLIGHT
TZOFFSETFROM:-0500
TZOFFSETTO:-0400
TZNAME:EDT
DTSTART:20260308T070000
END:DAYLIGHT
BEGIN:STANDARD
TZOFFSETFROM:-0400
TZOFFSETTO:-0500
TZNAME:EST
DTSTART:20261101T060000
END:STANDARD
END:VTIMEZONE
BEGIN:VEVENT
DTSTART;TZID=America/New_York:20250911T130000
DTEND;TZID=America/New_York:20250911T140000
DTSTAMP:20260423T041138
CREATED:20250610T163225Z
LAST-MODIFIED:20250610T163225Z
UID:16007-1757595600-1757599200@impactcollaboratory.org
SUMMARY:LTC Data Cooperative | Ask & Explore: Office Hours for Interested Researchers
DESCRIPTION:Are you considering applying to the  Long-Term Care (LTC) Data Cooperative? Have a research proposal you’d like to discuss? \nJoin our new Ask & Explore: Office Hours for Interested Researchers series to: \n Discuss research ideas\n Get questions answered\n Receive expert guidance from the panel of experts: \n\nStephanie Kissam\, MPH\, Executive Director\, Long-Term Care Data Cooperative\nElizabeth White\, APRN\, PhD\, Assistant Professor\, Health Services\, Policy & Practice\, Brown University School of Public Health\nAmy Recker\, MPH\, Project Director\, Brown University School of Public Health\n\nHow to prepare:\nExplore LTC Data Coop training materials ahead of the session. These resources provide essential insights into utilizing the LTC Data Cooperative effectively. \nRegister NOW to secure your spot!
URL:https://impactcollaboratory.org/event/ltc-data-cooperative-ask-explore-office-hours-for-interested-researchers-7/
LOCATION:https://hebrewseniorlife.zoom.us/meeting/register/M8RTpUuUS8Kzogxv9l2xcA
CATEGORIES:upcoming
END:VEVENT
END:VCALENDAR