BEGIN:VCALENDAR
VERSION:2.0
PRODID:-//NIA IMPACT Collaboratory - ECPv6.15.20//NONSGML v1.0//EN
CALSCALE:GREGORIAN
METHOD:PUBLISH
X-ORIGINAL-URL:https://impactcollaboratory.org
X-WR-CALDESC:Events for NIA IMPACT Collaboratory
REFRESH-INTERVAL;VALUE=DURATION:PT1H
X-Robots-Tag:noindex
X-PUBLISHED-TTL:PT1H
BEGIN:VTIMEZONE
TZID:America/New_York
BEGIN:DAYLIGHT
TZOFFSETFROM:-0500
TZOFFSETTO:-0400
TZNAME:EDT
DTSTART:20210314T070000
END:DAYLIGHT
BEGIN:STANDARD
TZOFFSETFROM:-0400
TZOFFSETTO:-0500
TZNAME:EST
DTSTART:20211107T060000
END:STANDARD
BEGIN:DAYLIGHT
TZOFFSETFROM:-0500
TZOFFSETTO:-0400
TZNAME:EDT
DTSTART:20220313T070000
END:DAYLIGHT
BEGIN:STANDARD
TZOFFSETFROM:-0400
TZOFFSETTO:-0500
TZNAME:EST
DTSTART:20221106T060000
END:STANDARD
BEGIN:DAYLIGHT
TZOFFSETFROM:-0500
TZOFFSETTO:-0400
TZNAME:EDT
DTSTART:20230312T070000
END:DAYLIGHT
BEGIN:STANDARD
TZOFFSETFROM:-0400
TZOFFSETTO:-0500
TZNAME:EST
DTSTART:20231105T060000
END:STANDARD
END:VTIMEZONE
BEGIN:VEVENT
DTSTART;TZID=America/New_York:20220830T150000
DTEND;TZID=America/New_York:20220830T160000
DTSTAMP:20260425T223432
CREATED:20220713T211249Z
LAST-MODIFIED:20240619T185901Z
UID:10521-1661871600-1661875200@impactcollaboratory.org
SUMMARY:Informational Webinar: Pilot Grant Cycle 4B RFA
DESCRIPTION:The IMPACT Collaboratory is pleased to announce plans to publish a new Request for Applications (RFA) for Pilot Grants on August 1\, 2022.  \n\n\nPilot Grants Program \n\nPilot Grants Cycle 4B RFA\n$175k in direct costs for 1 year\nGoal: Pilot study to prepare for an embedded pragmatic clinical trial\n(ePCT) of a non-pharmacological interventions for dementia care\nInformational Webinar: August 30\, 2022 @ 3pm ET. Registration closed.\nRequired Letter of Intent (LOI) due by September 15\, 2022 at 5pm ET\nLearn more about Pilot Grant Awardees\n\n 
URL:https://impactcollaboratory.org/event/informational-webinar-pilot-grant-cycle-4b-rfa/
CATEGORIES:Event Grants,upcoming
END:VEVENT
END:VCALENDAR