BEGIN:VCALENDAR
VERSION:2.0
PRODID:-//NIA IMPACT Collaboratory - ECPv6.15.20//NONSGML v1.0//EN
CALSCALE:GREGORIAN
METHOD:PUBLISH
X-ORIGINAL-URL:https://impactcollaboratory.org
X-WR-CALDESC:Events for NIA IMPACT Collaboratory
REFRESH-INTERVAL;VALUE=DURATION:PT1H
X-Robots-Tag:noindex
X-PUBLISHED-TTL:PT1H
BEGIN:VTIMEZONE
TZID:America/New_York
BEGIN:DAYLIGHT
TZOFFSETFROM:-0500
TZOFFSETTO:-0400
TZNAME:EDT
DTSTART:20210314T070000
END:DAYLIGHT
BEGIN:STANDARD
TZOFFSETFROM:-0400
TZOFFSETTO:-0500
TZNAME:EST
DTSTART:20211107T060000
END:STANDARD
BEGIN:DAYLIGHT
TZOFFSETFROM:-0500
TZOFFSETTO:-0400
TZNAME:EDT
DTSTART:20220313T070000
END:DAYLIGHT
BEGIN:STANDARD
TZOFFSETFROM:-0400
TZOFFSETTO:-0500
TZNAME:EST
DTSTART:20221106T060000
END:STANDARD
BEGIN:DAYLIGHT
TZOFFSETFROM:-0500
TZOFFSETTO:-0400
TZNAME:EDT
DTSTART:20230312T070000
END:DAYLIGHT
BEGIN:STANDARD
TZOFFSETFROM:-0400
TZOFFSETTO:-0500
TZNAME:EST
DTSTART:20231105T060000
END:STANDARD
END:VTIMEZONE
BEGIN:VEVENT
DTSTART;VALUE=DATE:20220915
DTEND;VALUE=DATE:20220916
DTSTAMP:20260425T210919
CREATED:20220907T142310Z
LAST-MODIFIED:20220907T143516Z
UID:10856-1663200000-1663286399@impactcollaboratory.org
SUMMARY:LOI DEADLINE: Pilot Grant Cycle 4B Letters of Intent Due @ 5pm ET
DESCRIPTION:We are pleased to announce that the IMPACT Collaboratory published a new Request for Applications (RFA) for the Pilot Grant Program \n\nPilot Grant RFA Cycle 4B (released August 1\, 2022)\n$175k in direct costs for 1 year\nGoal: Pilot study to prepare for an embedded pragmatic clinical trial (ePCT) of a non-pharmacological interventions for dementia care\nInformational Webinar: Recording available here.\nRequired Letter of Intent (LOI) due by Thursday\, September 15\, 2022 at 5pm ET\nLearn more about Pilot Grant Awardees
URL:https://impactcollaboratory.org/event/application-deadline-pilot-grant-cycle-4b-full-applications-due-5pm-et/
CATEGORIES:Event Grants,upcoming
END:VEVENT
BEGIN:VEVENT
DTSTART;TZID=America/New_York:20220915T080000
DTEND;TZID=America/New_York:20220915T170000
DTSTAMP:20260425T210919
CREATED:20220613T122414Z
LAST-MODIFIED:20240626T155627Z
UID:10283-1663228800-1663261200@impactcollaboratory.org
SUMMARY:APPLICATION DEADLINE: Career Development Awards Full Proposals Due
DESCRIPTION:We are pleased to announce that the IMPACT Collaboratory released a new Request for Applications (RFA) on June 13\, 2022. \n\nCDA RFA Cycle 4\nUp to $220k over 2 years in direct costs; includes up to 20k total for project funds\nGoal: Mentored training grant for early-career investigators to gain skills needed to conduct ePCTs for dementia care; mid-career investigators eligible with prior approval\nInformational Webinar\nApplications Due: September 15\, 2022 at 5pm ET (note this is a Thursday)\nLearn more about CDA awardees\n\nApplications must be submitted online through the Brown University UFunds system at: https://ufunds.brown.edu/. The online grant application will open on June 20\, 2022 at 9:00 AM ET. Applications may be submitted no later than September 15\, 2022 at 5:00 PM ET. \nRequired materials and resources for the application are available here: https://impactcollaboratory.org/grants-and-training/career-development-awards/cda-required-materials-and-resources/. \nAccess to UFunds: UFunds can be accessed either with a Brown University email address or with a Gmail address that has been granted rights to the system. The PI may request Gmail access\, or someone else may request permission to submit on behalf of a PI. UFunds is not a multi-user environment. If the PI needs more than one person to work on the application in UFunds\, contact Faye_Dvorchak@brown.edu to discuss a possible workaround prior to requesting access in UFunds. If you were granted access to UFunds previously\, your credentials are still active. \nNew users to UFunds must first request access using a Gmail address here: https://tinyurl.com/UFundsAccess. You will receive an email at your Gmail address once access to the UFunds system has been granted. Please note that the registration process can take up to 2 business days\, so applicants are strongly encouraged to request access as early as possible.
URL:https://impactcollaboratory.org/event/application-deadline-career-development-awards-full-proposals-due/
CATEGORIES:Event Grants,upcoming
END:VEVENT
BEGIN:VEVENT
DTSTART;TZID=America/New_York:20220915T120000
DTEND;TZID=America/New_York:20220915T130000
DTSTAMP:20260425T210919
CREATED:20220802T171804Z
LAST-MODIFIED:20220802T171804Z
UID:10649-1663243200-1663246800@impactcollaboratory.org
SUMMARY:Grand Rounds: Kristi Williams\, PhD\, RN | CHATO design\, pilot testing and update on current implementation and results
DESCRIPTION:Please join us for Grand Rounds on September 15th\, 2022 at 12pm ET. Dr. Williams will be presenting on “CHATO design\, pilot testing and update on current implementation and results.” \nKristine Williams\, PhD\, RN\, is a nurse gerontologist whose program of research includes multiple contributions leading to improved nursing care for older adults by enhancing nurse-patient communication\, providing cognitive training to improve self-care for older adults\, and by using technology to link family caregivers of persons with dementia to expert in-home guidance using video telehealth technology. She has used clinical trials to develop and test innovative interventions directly applicable to care settings that improve outcomes for older adults and their families across long term service and support settings. Dr. Williams has received continuous NIH funding since an R03 in 2005 followed by multiple K12\, CTSA\, R21\, R34\, R61 and R01 studies. In addition\, Dr. Williams has collaborated with other scientists as a co-investigator or consultant on over 15 studies. \nIMPACT Grand Rounds Flyer__Williams_20220915 \nZoom Details \nJoin from PC\, Mac\, iOS or Android: https://hebrewseniorlife.zoom.us/j/97344810673 \nDial-In:  +1 312 626 6799 (US Toll) or  +1 470 250 9358 (US Toll) \nMeeting ID:  973 4481 0673
URL:https://impactcollaboratory.org/event/grand-rounds-kristi-williams-phd-rn-chato-design-pilot-testing-and-update-on-current-implementation-and-results/
LOCATION:https://hebrewseniorlife.zoom.us/j/97344810673
CATEGORIES:Grand Rounds,upcoming
END:VEVENT
END:VCALENDAR