BEGIN:VCALENDAR
VERSION:2.0
PRODID:-//NIA IMPACT Collaboratory - ECPv6.15.20//NONSGML v1.0//EN
CALSCALE:GREGORIAN
METHOD:PUBLISH
X-WR-CALNAME:NIA IMPACT Collaboratory
X-ORIGINAL-URL:https://impactcollaboratory.org
X-WR-CALDESC:Events for NIA IMPACT Collaboratory
REFRESH-INTERVAL;VALUE=DURATION:PT1H
X-Robots-Tag:noindex
X-PUBLISHED-TTL:PT1H
BEGIN:VTIMEZONE
TZID:America/New_York
BEGIN:DAYLIGHT
TZOFFSETFROM:-0500
TZOFFSETTO:-0400
TZNAME:EDT
DTSTART:20210314T070000
END:DAYLIGHT
BEGIN:STANDARD
TZOFFSETFROM:-0400
TZOFFSETTO:-0500
TZNAME:EST
DTSTART:20211107T060000
END:STANDARD
BEGIN:DAYLIGHT
TZOFFSETFROM:-0500
TZOFFSETTO:-0400
TZNAME:EDT
DTSTART:20220313T070000
END:DAYLIGHT
BEGIN:STANDARD
TZOFFSETFROM:-0400
TZOFFSETTO:-0500
TZNAME:EST
DTSTART:20221106T060000
END:STANDARD
BEGIN:DAYLIGHT
TZOFFSETFROM:-0500
TZOFFSETTO:-0400
TZNAME:EDT
DTSTART:20230312T070000
END:DAYLIGHT
BEGIN:STANDARD
TZOFFSETFROM:-0400
TZOFFSETTO:-0500
TZNAME:EST
DTSTART:20231105T060000
END:STANDARD
END:VTIMEZONE
BEGIN:VEVENT
DTSTART;VALUE=DATE:20220930
DTEND;VALUE=DATE:20221001
DTSTAMP:20260425T181403
CREATED:20220907T143151Z
LAST-MODIFIED:20220907T143539Z
UID:10858-1664496000-1664582399@impactcollaboratory.org
SUMMARY:LOI DEADLINE *Extended*: Demonstration Projects Letters of Intent (by email) Due @ 5pm ET
DESCRIPTION:We are pleased to announce that the IMPACT Collaboratory published a new Request for Applications (RFA) for the Demonstration Projects Program \n\nDemonstration Projects Cycle 3 RFA (Released August 1\, 2022)\n$500k in total direct costs for 18 months\nGoal: Full-scale ePCT in health care systems of non-pharmacological interventions for dementia care\nLetter of Intent Due (by email): September 16\, 2022 September 30\, 2022* at 5pm ET *LOI deadline extended to September 30\, 2022\nLearn more about previous awardees here.
URL:https://impactcollaboratory.org/event/application-deadline-extended-demonstration-projects-full-applications-due-5pm-et/
CATEGORIES:Event Grants,upcoming
END:VEVENT
END:VCALENDAR