BEGIN:VCALENDAR
VERSION:2.0
PRODID:-//NIA IMPACT Collaboratory - ECPv6.15.20//NONSGML v1.0//EN
CALSCALE:GREGORIAN
METHOD:PUBLISH
X-WR-CALNAME:NIA IMPACT Collaboratory
X-ORIGINAL-URL:https://impactcollaboratory.org
X-WR-CALDESC:Events for NIA IMPACT Collaboratory
REFRESH-INTERVAL;VALUE=DURATION:PT1H
X-Robots-Tag:noindex
X-PUBLISHED-TTL:PT1H
BEGIN:VTIMEZONE
TZID:America/New_York
BEGIN:DAYLIGHT
TZOFFSETFROM:-0500
TZOFFSETTO:-0400
TZNAME:EDT
DTSTART:20210314T070000
END:DAYLIGHT
BEGIN:STANDARD
TZOFFSETFROM:-0400
TZOFFSETTO:-0500
TZNAME:EST
DTSTART:20211107T060000
END:STANDARD
BEGIN:DAYLIGHT
TZOFFSETFROM:-0500
TZOFFSETTO:-0400
TZNAME:EDT
DTSTART:20220313T070000
END:DAYLIGHT
BEGIN:STANDARD
TZOFFSETFROM:-0400
TZOFFSETTO:-0500
TZNAME:EST
DTSTART:20221106T060000
END:STANDARD
BEGIN:DAYLIGHT
TZOFFSETFROM:-0500
TZOFFSETTO:-0400
TZNAME:EDT
DTSTART:20230312T070000
END:DAYLIGHT
BEGIN:STANDARD
TZOFFSETFROM:-0400
TZOFFSETTO:-0500
TZNAME:EST
DTSTART:20231105T060000
END:STANDARD
END:VTIMEZONE
BEGIN:VEVENT
DTSTART;TZID=America/New_York:20221115T130000
DTEND;TZID=America/New_York:20221115T140000
DTSTAMP:20260425T170022
CREATED:20221108T144827Z
LAST-MODIFIED:20240619T164721Z
UID:11228-1668517200-1668520800@impactcollaboratory.org
SUMMARY:Informational Webinar: HCS Scholars RFA Cycle 3
DESCRIPTION:We are pleased to announce that the IMPACT Collaboratory published a new Request for Applications (RFA) for the HCS Scholars Program on November 8\, 2022. An optional informational webinar to provide investigators with an overview of application details and an opportunity to ask questions. Pre-registration is required using the link below. \n\nHCS Scholars RFA Cycle 3\n$120k in direct costs for 12 months\nGoal: For investigators to partner with healthcare systems to develop research projects aimed at improving care for people living with dementia and their care partners\nInformational Webinar: Tuesday\, November 15\, 2022 @ 1pm ET. Registration closed.\nLetter of Intent (Required): due by December 19\, 2022 @ 5pm ET\nFull Applications (Invitation Only): due by March 13\, 2023 @ 5pm ET\nLearn more about previous HCS Scholar awardees
URL:https://impactcollaboratory.org/event/informational-webinar-health-care-scholars-cycle-3/
LOCATION:https://hebrewseniorlife.zoom.us/webinar/register/WN_r30zrJqdQi2WTb1vOl-XZQ
CATEGORIES:Event Grants,upcoming
END:VEVENT
END:VCALENDAR