BEGIN:VCALENDAR
VERSION:2.0
PRODID:-//NIA IMPACT Collaboratory - ECPv6.15.20//NONSGML v1.0//EN
CALSCALE:GREGORIAN
METHOD:PUBLISH
X-ORIGINAL-URL:https://impactcollaboratory.org
X-WR-CALDESC:Events for NIA IMPACT Collaboratory
REFRESH-INTERVAL;VALUE=DURATION:PT1H
X-Robots-Tag:noindex
X-PUBLISHED-TTL:PT1H
BEGIN:VTIMEZONE
TZID:America/New_York
BEGIN:DAYLIGHT
TZOFFSETFROM:-0500
TZOFFSETTO:-0400
TZNAME:EDT
DTSTART:20210314T070000
END:DAYLIGHT
BEGIN:STANDARD
TZOFFSETFROM:-0400
TZOFFSETTO:-0500
TZNAME:EST
DTSTART:20211107T060000
END:STANDARD
BEGIN:DAYLIGHT
TZOFFSETFROM:-0500
TZOFFSETTO:-0400
TZNAME:EDT
DTSTART:20220313T070000
END:DAYLIGHT
BEGIN:STANDARD
TZOFFSETFROM:-0400
TZOFFSETTO:-0500
TZNAME:EST
DTSTART:20221106T060000
END:STANDARD
BEGIN:DAYLIGHT
TZOFFSETFROM:-0500
TZOFFSETTO:-0400
TZNAME:EDT
DTSTART:20230312T070000
END:DAYLIGHT
BEGIN:STANDARD
TZOFFSETFROM:-0400
TZOFFSETTO:-0500
TZNAME:EST
DTSTART:20231105T060000
END:STANDARD
END:VTIMEZONE
BEGIN:VEVENT
DTSTART;TZID=America/New_York:20221117T120000
DTEND;TZID=America/New_York:20221117T130000
DTSTAMP:20260425T165444
CREATED:20221011T151329Z
LAST-MODIFIED:20221011T151329Z
UID:11037-1668686400-1668690000@impactcollaboratory.org
SUMMARY:Grand Rounds: Charles Weijer\, MD\, PhD to present on "Addressing vulnerability in cluster randomized trials involving people living with dementia in nursing homes"
DESCRIPTION:Join us for Grand Rounds on November 17\, 2022 at 12pm ET. Dr. Weijer will present on “Addressing vulnerability in cluster randomized trials involving people living with dementia in nursing homes.” \nThursday\, November 17\, 2022\n12:00 – 1:00 pm ET \nCharles Weijer\, MD\, PhD\nProfessor of Medicine\, Epidemiology & Biostatistics\, and Philosophy \nDr. Weijer is a leading expert in the ethics of randomized controlled trials. From 2008 to 2013 Charles co-led a collaboration that produced the first international ethics guidelines for cluster randomized trials. His current work explores ethical issues in pragmatic randomized controlled trials that evaluate health interventions in real-world conditions to better inform patients\, health providers and health systems managers. Charles led the writing team for the World Health Organization guidance on “Ethical Considerations for Health Policy and Systems Research\,” published in 2019. In 2020\, he served on the WHO Working Group for Guidance on Human Challenge Studies in COVID-19. He is currently a member of the Peruvian National Academy of Medicine Committee on Clinical Trials in Lower- and Middle-Income Countries. Charles held the Canada Research Chair in Bioethics from 2005 to 2019\, and\, in 2016\, he was elected to the Royal Society of Canada. \nZoom Conferencing \nJoin from PC\, Mac\, iOS or Android: https://hebrewseniorlife.zoom.us/j/97344810673 \nDial-In:  +1 312 626 6799 (US Toll) or  +1 470 250 9358 (US Toll) \nMeeting ID:  973 4481 0673 \nIMPACT GR Flyer__Weijer_20221117_Final
URL:https://impactcollaboratory.org/event/grand-rounds-charles-weijer-md-phd-to-present-on-addressing-vulnerability-in-cluster-randomized-trials-involving-people-living-with-dementia-in-nursing-homes/
LOCATION:https://hebrewseniorlife.zoom.us/j/97344810673
CATEGORIES:Grand Rounds,upcoming
END:VEVENT
END:VCALENDAR