BEGIN:VCALENDAR
VERSION:2.0
PRODID:-//NIA IMPACT Collaboratory - ECPv6.15.20//NONSGML v1.0//EN
CALSCALE:GREGORIAN
METHOD:PUBLISH
X-WR-CALNAME:NIA IMPACT Collaboratory
X-ORIGINAL-URL:https://impactcollaboratory.org
X-WR-CALDESC:Events for NIA IMPACT Collaboratory
REFRESH-INTERVAL;VALUE=DURATION:PT1H
X-Robots-Tag:noindex
X-PUBLISHED-TTL:PT1H
BEGIN:VTIMEZONE
TZID:America/New_York
BEGIN:DAYLIGHT
TZOFFSETFROM:-0500
TZOFFSETTO:-0400
TZNAME:EDT
DTSTART:20210314T070000
END:DAYLIGHT
BEGIN:STANDARD
TZOFFSETFROM:-0400
TZOFFSETTO:-0500
TZNAME:EST
DTSTART:20211107T060000
END:STANDARD
BEGIN:DAYLIGHT
TZOFFSETFROM:-0500
TZOFFSETTO:-0400
TZNAME:EDT
DTSTART:20220313T070000
END:DAYLIGHT
BEGIN:STANDARD
TZOFFSETFROM:-0400
TZOFFSETTO:-0500
TZNAME:EST
DTSTART:20221106T060000
END:STANDARD
BEGIN:DAYLIGHT
TZOFFSETFROM:-0500
TZOFFSETTO:-0400
TZNAME:EDT
DTSTART:20230312T070000
END:DAYLIGHT
BEGIN:STANDARD
TZOFFSETFROM:-0400
TZOFFSETTO:-0500
TZNAME:EST
DTSTART:20231105T060000
END:STANDARD
END:VTIMEZONE
BEGIN:VEVENT
DTSTART;TZID=America/New_York:20221207T120000
DTEND;TZID=America/New_York:20221207T130000
DTSTAMP:20260425T153729
CREATED:20221117T163709Z
LAST-MODIFIED:20240620T135921Z
UID:11283-1670414400-1670418000@impactcollaboratory.org
SUMMARY:Special Webinar: Introducing the Long-Term Care Data Cooperative
DESCRIPTION:The IMPACT Collaboratory will host a special webinar event featuring leaders from the Long-Term Care (LTC) Data Cooperative\, who will provide an introduction and overview to this powerful new resource. The webinar will be December 7 from 12:00 pm- 1:00 pm EST and will feature IMPACT’s Vince Mor\, PhD\, David Dore\, PharmD\, PhD\, from Exponent\, and David Gifford\, MD\, MPH from the American Health Care Association (AHCA).  Participants will learn more about the Data Cooperative\, its membership\, how to join\, and options for data access. \nRegistration closed. \n 
URL:https://impactcollaboratory.org/event/special-webinar-introducing-the-long-term-care-data-cooperative/
CATEGORIES:upcoming
END:VEVENT
END:VCALENDAR