BEGIN:VCALENDAR
VERSION:2.0
PRODID:-//NIA IMPACT Collaboratory - ECPv6.15.20//NONSGML v1.0//EN
CALSCALE:GREGORIAN
METHOD:PUBLISH
X-ORIGINAL-URL:https://impactcollaboratory.org
X-WR-CALDESC:Events for NIA IMPACT Collaboratory
REFRESH-INTERVAL;VALUE=DURATION:PT1H
X-Robots-Tag:noindex
X-PUBLISHED-TTL:PT1H
BEGIN:VTIMEZONE
TZID:America/New_York
BEGIN:DAYLIGHT
TZOFFSETFROM:-0500
TZOFFSETTO:-0400
TZNAME:EDT
DTSTART:20210314T070000
END:DAYLIGHT
BEGIN:STANDARD
TZOFFSETFROM:-0400
TZOFFSETTO:-0500
TZNAME:EST
DTSTART:20211107T060000
END:STANDARD
BEGIN:DAYLIGHT
TZOFFSETFROM:-0500
TZOFFSETTO:-0400
TZNAME:EDT
DTSTART:20220313T070000
END:DAYLIGHT
BEGIN:STANDARD
TZOFFSETFROM:-0400
TZOFFSETTO:-0500
TZNAME:EST
DTSTART:20221106T060000
END:STANDARD
BEGIN:DAYLIGHT
TZOFFSETFROM:-0500
TZOFFSETTO:-0400
TZNAME:EDT
DTSTART:20230312T070000
END:DAYLIGHT
BEGIN:STANDARD
TZOFFSETFROM:-0400
TZOFFSETTO:-0500
TZNAME:EST
DTSTART:20231105T060000
END:STANDARD
END:VTIMEZONE
BEGIN:VEVENT
DTSTART;TZID=America/New_York:20221215T120000
DTEND;TZID=America/New_York:20221215T130000
DTSTAMP:20260425T170620
CREATED:20221114T165153Z
LAST-MODIFIED:20221114T165153Z
UID:11271-1671105600-1671109200@impactcollaboratory.org
SUMMARY:Grand Rounds: Enrolling and retaining people living with dementia in a pragmatic trial of spinal versus general anesthesia for hip fracture surgery: the REGAIN experience
DESCRIPTION:Join us for IMPACT Grand Rounds on Thursday\, December 15 at 12pm ET. Drs. Mark Neuman\, MD\, MSc and Justin Clapp\, PhD\, MPH to present on “Enrolling and retaining people living with dementia in a pragmatic trial of spinal versus general anesthesia for hip fracture surgery: the REGAIN experience.” \nZoom Conferencing\nJoin from PC\, Mac\, iOS or Android: https://hebrewseniorlife.zoom.us/j/97344810673\nDial-In:  +1 312 626 6799 (US Toll) or  +1 470 250 9358 (US Toll)\nMeeting ID:  973 4481 0673 \nIMPACT GR Flyer_REGAIN_20221215_Final
URL:https://impactcollaboratory.org/event/grand-rounds-enrolling-and-retaining-people-living-with-dementia-in-a-pragmatic-trial-of-spinal-versus-general-anesthesia-for-hip-fracture-surgery-the-regain-experience/
LOCATION:https://hebrewseniorlife.zoom.us/j/97344810673
CATEGORIES:Grand Rounds,upcoming
END:VEVENT
END:VCALENDAR