BEGIN:VCALENDAR
VERSION:2.0
PRODID:-//NIA IMPACT Collaboratory - ECPv6.15.20//NONSGML v1.0//EN
CALSCALE:GREGORIAN
METHOD:PUBLISH
X-WR-CALNAME:NIA IMPACT Collaboratory
X-ORIGINAL-URL:https://impactcollaboratory.org
X-WR-CALDESC:Events for NIA IMPACT Collaboratory
REFRESH-INTERVAL;VALUE=DURATION:PT1H
X-Robots-Tag:noindex
X-PUBLISHED-TTL:PT1H
BEGIN:VTIMEZONE
TZID:America/New_York
BEGIN:DAYLIGHT
TZOFFSETFROM:-0500
TZOFFSETTO:-0400
TZNAME:EDT
DTSTART:20210314T070000
END:DAYLIGHT
BEGIN:STANDARD
TZOFFSETFROM:-0400
TZOFFSETTO:-0500
TZNAME:EST
DTSTART:20211107T060000
END:STANDARD
BEGIN:DAYLIGHT
TZOFFSETFROM:-0500
TZOFFSETTO:-0400
TZNAME:EDT
DTSTART:20220313T070000
END:DAYLIGHT
BEGIN:STANDARD
TZOFFSETFROM:-0400
TZOFFSETTO:-0500
TZNAME:EST
DTSTART:20221106T060000
END:STANDARD
BEGIN:DAYLIGHT
TZOFFSETFROM:-0500
TZOFFSETTO:-0400
TZNAME:EDT
DTSTART:20230312T070000
END:DAYLIGHT
BEGIN:STANDARD
TZOFFSETFROM:-0400
TZOFFSETTO:-0500
TZNAME:EST
DTSTART:20231105T060000
END:STANDARD
END:VTIMEZONE
BEGIN:VEVENT
DTSTART;TZID=America/New_York:20221219T170000
DTEND;TZID=America/New_York:20221219T170000
DTSTAMP:20260425T153728
CREATED:20221108T144814Z
LAST-MODIFIED:20240619T192351Z
UID:11230-1671469200-1671469200@impactcollaboratory.org
SUMMARY:APPLICATION DEADLINE: HCS Scholars Cycle 3 Letter of Intent due by 5pm
DESCRIPTION:We are pleased to announce that the IMPACT Collaboratory published a new Request for Applications (RFA) for the HCS Scholars Program on November 8\, 2022. Applicants interested in the Health Care Scholars Program are required to submit a Letter of Intent (LOI). LOIs are accepted on a rolling basis through December 19\, 2022 at 5:00pm. \n\nHCS Scholars RFA Cycle 3\n$120k in direct costs for 12 months\nGoal: For investigators to partner with healthcare systems to develop research projects aimed at improving care for people living with dementia and their care partners\nInformational Webinar: Tuesday\, November 15\, 2022 @ 1pm ET. Registration closed.\nLetter of Intent (Required): due by December 19\, 2022 @ 5pm ET\nFull Applications (Invitation Only): due by March 13\, 2023 @ 5pm ET\nLearn more about previous HCS Scholar awardees
URL:https://impactcollaboratory.org/event/letters-of-intent-due-for-health-care-scholars-cycle-3/
CATEGORIES:Event Grants,upcoming
END:VEVENT
END:VCALENDAR