BEGIN:VCALENDAR
VERSION:2.0
PRODID:-//NIA IMPACT Collaboratory - ECPv6.15.20//NONSGML v1.0//EN
CALSCALE:GREGORIAN
METHOD:PUBLISH
X-ORIGINAL-URL:https://impactcollaboratory.org
X-WR-CALDESC:Events for NIA IMPACT Collaboratory
REFRESH-INTERVAL;VALUE=DURATION:PT1H
X-Robots-Tag:noindex
X-PUBLISHED-TTL:PT1H
BEGIN:VTIMEZONE
TZID:America/New_York
BEGIN:DAYLIGHT
TZOFFSETFROM:-0500
TZOFFSETTO:-0400
TZNAME:EDT
DTSTART:20220313T070000
END:DAYLIGHT
BEGIN:STANDARD
TZOFFSETFROM:-0400
TZOFFSETTO:-0500
TZNAME:EST
DTSTART:20221106T060000
END:STANDARD
BEGIN:DAYLIGHT
TZOFFSETFROM:-0500
TZOFFSETTO:-0400
TZNAME:EDT
DTSTART:20230312T070000
END:DAYLIGHT
BEGIN:STANDARD
TZOFFSETFROM:-0400
TZOFFSETTO:-0500
TZNAME:EST
DTSTART:20231105T060000
END:STANDARD
BEGIN:DAYLIGHT
TZOFFSETFROM:-0500
TZOFFSETTO:-0400
TZNAME:EDT
DTSTART:20240310T070000
END:DAYLIGHT
BEGIN:STANDARD
TZOFFSETFROM:-0400
TZOFFSETTO:-0500
TZNAME:EST
DTSTART:20241103T060000
END:STANDARD
END:VTIMEZONE
BEGIN:VEVENT
DTSTART;TZID=America/New_York:20230316T120000
DTEND;TZID=America/New_York:20230316T130000
DTSTAMP:20260425T112023
CREATED:20230223T165135Z
LAST-MODIFIED:20230404T194005Z
UID:11710-1678968000-1678971600@impactcollaboratory.org
SUMMARY:Grand Rounds: Eleanor Murray\, PhD | Causal Inference in Pragmatic Trials
DESCRIPTION:Join us for IMPACT Grand Rounds on Thursday\, March 16 at 12pm ET with Dr. Murray who will be presenting on the “Causal Inference in Pragmatic Trials.” \nEleanor (Ellie) Murray\, PhD\, is an assistant professor of Epidemiology at Boston University School of Public Health with expertise in causal inference. Her work focuses on improving methods for evidence-based decision-making and human-data interaction\, as well as improving the translation of methodological advances into practical applied work. Application areas include HIV\, HPV\, cancer\, cardiovascular disease\, reproductive health research\, tuberculosis research\, access to care\, psychiatric disorders\, musculoskeletal disorders\, social and environmental epidemiology\, and maternal and adolescent health. Dr Murray also conducts meta-research evaluating bias in existing research. She has an ScD in Epidemiology and MSc in Biostatistics from Harvard TH Chan School of Public Health\, where she also did her postdoctoral fellowship in the Program on Causal Inference\, an MPH in Epidemiology from Columbia Mailman School of Public Health\, and a BSc in Biology from McGill University. Dr Murray is the co-host of the podcast Casual Inference\, an Associate Editor for Social Media at the American Journal of Epidemiology\, and a science communicator under the handle @epiellie on Twitter. \nZoom Conferencing\nJoin from PC\, Mac\, iOS or Android: https://hebrewseniorlife.zoom.us/j/97344810673\nDial-In:  +1 312 626 6799 (US Toll) or  +1 470 250 9358 (US Toll)\nMeeting ID:  973 4481 0673 \nPDF Flyer: IMPACT GR__Murray_3/16/2023_Final
URL:https://impactcollaboratory.org/event/grand-rounds-eleanor-murray-phd-casual-inference-in-pragmatic-trials/
LOCATION:https://hebrewseniorlife.zoom.us/j/86937720056 
CATEGORIES:Grand Rounds,upcoming
END:VEVENT
END:VCALENDAR