BEGIN:VCALENDAR
VERSION:2.0
PRODID:-//NIA IMPACT Collaboratory - ECPv6.15.20//NONSGML v1.0//EN
CALSCALE:GREGORIAN
METHOD:PUBLISH
X-ORIGINAL-URL:https://impactcollaboratory.org
X-WR-CALDESC:Events for NIA IMPACT Collaboratory
REFRESH-INTERVAL;VALUE=DURATION:PT1H
X-Robots-Tag:noindex
X-PUBLISHED-TTL:PT1H
BEGIN:VTIMEZONE
TZID:America/New_York
BEGIN:DAYLIGHT
TZOFFSETFROM:-0500
TZOFFSETTO:-0400
TZNAME:EDT
DTSTART:20220313T070000
END:DAYLIGHT
BEGIN:STANDARD
TZOFFSETFROM:-0400
TZOFFSETTO:-0500
TZNAME:EST
DTSTART:20221106T060000
END:STANDARD
BEGIN:DAYLIGHT
TZOFFSETFROM:-0500
TZOFFSETTO:-0400
TZNAME:EDT
DTSTART:20230312T070000
END:DAYLIGHT
BEGIN:STANDARD
TZOFFSETFROM:-0400
TZOFFSETTO:-0500
TZNAME:EST
DTSTART:20231105T060000
END:STANDARD
BEGIN:DAYLIGHT
TZOFFSETFROM:-0500
TZOFFSETTO:-0400
TZNAME:EDT
DTSTART:20240310T070000
END:DAYLIGHT
BEGIN:STANDARD
TZOFFSETFROM:-0400
TZOFFSETTO:-0500
TZNAME:EST
DTSTART:20241103T060000
END:STANDARD
END:VTIMEZONE
BEGIN:VEVENT
DTSTART;TZID=America/New_York:20230518T120000
DTEND;TZID=America/New_York:20230518T130000
DTSTAMP:20260425T063402
CREATED:20230509T204247Z
LAST-MODIFIED:20230509T210634Z
UID:12215-1684411200-1684414800@impactcollaboratory.org
SUMMARY:Grand Rounds: Deborah Barnes\, PhD & Sascha Dublin\, MD\, PhD | eRADAR: An embedded\, pragmatic trial using electronic health record data for targeted dementia screening
DESCRIPTION:Join us for IMPACT Grand Rounds on Thursday\, May 18 at 12pm ET with Drs. Barnes and Dublin who will be presenting on the “eRADAR: An embedded\, pragmatic trial using electronic health record data for targeted dementia screening.” \nDeborah Barnes\, PhD\nProfessor\, Psychiatry and Behavioral Sciences\nEpidemiology & Biostatistics\nUniversity of California\, San Francisco \nSascha Dublin\, MD\, PhD\nSenior Investigator\, Kaiser Permanente Washington Health Research Institute\nPhysician\, Washington Permanente Medical Group\, Internal Medicine\nAffiliate Associate Professor\, Kaiser Permanente Bernard J. Tyson School of Medicine \n  \nZoom Conferencing\nJoin from PC\, Mac\, iOS or Android: https://hebrewseniorlife.zoom.us/j/97344810673\nDial-In:  +1 312 626 6799 (US Toll) or  +1 470 250 9358 (US Toll)\nMeeting ID:  973 4481 0673 \nPDF Flyer: IMPACT GR_Barnes & Dublin_5.18.23
URL:https://impactcollaboratory.org/event/grand-rounds-deborah-barnes-phd-sascha-dublin-md-phd-eradar-an-embedded-pragmatic-trial-using-electronic-health-record-data-targeted-dementia-screening/
LOCATION:https://hebrewseniorlife.zoom.us/j/97344810673
CATEGORIES:Grand Rounds,upcoming
END:VEVENT
END:VCALENDAR