BEGIN:VCALENDAR
VERSION:2.0
PRODID:-//NIA IMPACT Collaboratory - ECPv6.15.20//NONSGML v1.0//EN
CALSCALE:GREGORIAN
METHOD:PUBLISH
X-ORIGINAL-URL:https://impactcollaboratory.org
X-WR-CALDESC:Events for NIA IMPACT Collaboratory
REFRESH-INTERVAL;VALUE=DURATION:PT1H
X-Robots-Tag:noindex
X-PUBLISHED-TTL:PT1H
BEGIN:VTIMEZONE
TZID:America/New_York
BEGIN:DAYLIGHT
TZOFFSETFROM:-0500
TZOFFSETTO:-0400
TZNAME:EDT
DTSTART:20220313T070000
END:DAYLIGHT
BEGIN:STANDARD
TZOFFSETFROM:-0400
TZOFFSETTO:-0500
TZNAME:EST
DTSTART:20221106T060000
END:STANDARD
BEGIN:DAYLIGHT
TZOFFSETFROM:-0500
TZOFFSETTO:-0400
TZNAME:EDT
DTSTART:20230312T070000
END:DAYLIGHT
BEGIN:STANDARD
TZOFFSETFROM:-0400
TZOFFSETTO:-0500
TZNAME:EST
DTSTART:20231105T060000
END:STANDARD
BEGIN:DAYLIGHT
TZOFFSETFROM:-0500
TZOFFSETTO:-0400
TZNAME:EDT
DTSTART:20240310T070000
END:DAYLIGHT
BEGIN:STANDARD
TZOFFSETFROM:-0400
TZOFFSETTO:-0500
TZNAME:EST
DTSTART:20241103T060000
END:STANDARD
END:VTIMEZONE
BEGIN:VEVENT
DTSTART;TZID=America/New_York:20230823T113000
DTEND;TZID=America/New_York:20230823T123000
DTSTAMP:20260425T081536
CREATED:20230811T182503Z
LAST-MODIFIED:20240619T164633Z
UID:12958-1692790200-1692793800@impactcollaboratory.org
SUMMARY:Informational Webinar: HCS Scholars Program 2023 RFA Cycle 4
DESCRIPTION:We are pleased to announce that the IMPACT Collaboratory published a new Request for Applications (RFA) for the HCS Scholars Program on August 15\, 2023 \n\n\n\nHCS Scholars 2023 RFA Cycle 4\n$120k in direct costs for 12 months\nGoal: For investigators to partner with healthcare systems to develop research projects aimed at improving care for people living with dementia and their care partners\nInformational Webinar: Wednesday\, August 23\, 2023 @ 11:30am ET. Registration closed.\nLetter of Intent (Required): due by September 26\, 2023 @ 5pm ET\nFull Applications (Invitation Only): due by November 29\, 2023 @ 5pm ET\nLearn more about previous HCS Scholar awardees
URL:https://impactcollaboratory.org/event/informational-webinar-hcs-scholars-program-2023-rfa-cycle-4/
CATEGORIES:Event Grants,upcoming
END:VEVENT
END:VCALENDAR