BEGIN:VCALENDAR
VERSION:2.0
PRODID:-//NIA IMPACT Collaboratory - ECPv6.15.20//NONSGML v1.0//EN
CALSCALE:GREGORIAN
METHOD:PUBLISH
X-ORIGINAL-URL:https://impactcollaboratory.org
X-WR-CALDESC:Events for NIA IMPACT Collaboratory
REFRESH-INTERVAL;VALUE=DURATION:PT1H
X-Robots-Tag:noindex
X-PUBLISHED-TTL:PT1H
BEGIN:VTIMEZONE
TZID:America/New_York
BEGIN:DAYLIGHT
TZOFFSETFROM:-0500
TZOFFSETTO:-0400
TZNAME:EDT
DTSTART:20230312T070000
END:DAYLIGHT
BEGIN:STANDARD
TZOFFSETFROM:-0400
TZOFFSETTO:-0500
TZNAME:EST
DTSTART:20231105T060000
END:STANDARD
BEGIN:DAYLIGHT
TZOFFSETFROM:-0500
TZOFFSETTO:-0400
TZNAME:EDT
DTSTART:20240310T070000
END:DAYLIGHT
BEGIN:STANDARD
TZOFFSETFROM:-0400
TZOFFSETTO:-0500
TZNAME:EST
DTSTART:20241103T060000
END:STANDARD
BEGIN:DAYLIGHT
TZOFFSETFROM:-0500
TZOFFSETTO:-0400
TZNAME:EDT
DTSTART:20250309T070000
END:DAYLIGHT
BEGIN:STANDARD
TZOFFSETFROM:-0400
TZOFFSETTO:-0500
TZNAME:EST
DTSTART:20251102T060000
END:STANDARD
END:VTIMEZONE
BEGIN:VEVENT
DTSTART;TZID=America/New_York:20240215T120000
DTEND;TZID=America/New_York:20240215T130000
DTSTAMP:20260424T182324
CREATED:20240124T214655Z
LAST-MODIFIED:20240201T170825Z
UID:13876-1707998400-1708002000@impactcollaboratory.org
SUMMARY:Grand Rounds: Fischer\, MD\, Hanson\, MD\, MPH\, Lum\, MD\, PhD & Ramirez-Gomez\, MD | Cultural adaptation of ADRD clinical trials for Latino participants
DESCRIPTION:Join us for IMPACT Grand Rounds on Thursday\, February 15 at 12pm ET with Drs. Fischer\, Hanson\, Lum\, and Ramirez-Gomez who will be presenting on “Cultural adaptation of ADRD clinical trials for Latino participants.” \nStacy Fischer\, MD\nDiscussant \nLaura Hanson\, MD\, MPH\nPresenter \nHillary Lum\, MD\, PhD\nPresenter \nLilliana Ramirez-Gomez\, MD\nPresenter \n  \nZoom Conferencing\nJoin from PC\, Mac\, iOS or Android: https://hebrewseniorlife.zoom.us/j/97344810673\nDial-In:  +1 312 626 6799 (US Toll) or  +1 470 250 9358 (US Toll)\nMeeting ID:  973 4481 0673 \nPDF Flyer: IMPACT GR | Fischer\, Hanson\, Lum\, & Ramirez-Gomez – 02.15.24\n*For print/downloadable purposes only.
URL:https://impactcollaboratory.org/event/grand-rounds-fischer-md-hanson-md-mph-lum-md-phd-ramirez-gomez-md-cultural-adaptation-of-ardr-clinical-trials-for-latino-participants/
LOCATION:https://hebrewseniorlife.zoom.us/j/86937720056 
CATEGORIES:Grand Rounds,upcoming
END:VEVENT
END:VCALENDAR