BEGIN:VCALENDAR
VERSION:2.0
PRODID:-//NIA IMPACT Collaboratory - ECPv6.15.20//NONSGML v1.0//EN
CALSCALE:GREGORIAN
METHOD:PUBLISH
X-WR-CALNAME:NIA IMPACT Collaboratory
X-ORIGINAL-URL:https://impactcollaboratory.org
X-WR-CALDESC:Events for NIA IMPACT Collaboratory
REFRESH-INTERVAL;VALUE=DURATION:PT1H
X-Robots-Tag:noindex
X-PUBLISHED-TTL:PT1H
BEGIN:VTIMEZONE
TZID:America/New_York
BEGIN:DAYLIGHT
TZOFFSETFROM:-0500
TZOFFSETTO:-0400
TZNAME:EDT
DTSTART:20230312T070000
END:DAYLIGHT
BEGIN:STANDARD
TZOFFSETFROM:-0400
TZOFFSETTO:-0500
TZNAME:EST
DTSTART:20231105T060000
END:STANDARD
BEGIN:DAYLIGHT
TZOFFSETFROM:-0500
TZOFFSETTO:-0400
TZNAME:EDT
DTSTART:20240310T070000
END:DAYLIGHT
BEGIN:STANDARD
TZOFFSETFROM:-0400
TZOFFSETTO:-0500
TZNAME:EST
DTSTART:20241103T060000
END:STANDARD
BEGIN:DAYLIGHT
TZOFFSETFROM:-0500
TZOFFSETTO:-0400
TZNAME:EDT
DTSTART:20250309T070000
END:DAYLIGHT
BEGIN:STANDARD
TZOFFSETFROM:-0400
TZOFFSETTO:-0500
TZNAME:EST
DTSTART:20251102T060000
END:STANDARD
END:VTIMEZONE
BEGIN:VEVENT
DTSTART;VALUE=DATE:20240402
DTEND;VALUE=DATE:20240403
DTSTAMP:20260424T083512
CREATED:20240201T154039Z
LAST-MODIFIED:20240201T154704Z
UID:13993-1712016000-1712102399@impactcollaboratory.org
SUMMARY:IMPACT Scientific Conference Pre-Conference Business Meeting
DESCRIPTION:The IMPACT Collaboratory 2024 Scientific Conference on embedded Pragmatic Clinical Trials (ePCTs) in Dementia is an annual event to disseminate knowledge\, promote research development\, and engage partners to improve the care and health outcomes of people living with dementia (PLWD) and their care partners. \nPlease note that the Pre-Conference Business Meeting is open to IMPACT Collaboratory members only.
URL:https://impactcollaboratory.org/event/impact-scientific-conference-pre-conference-business-meeting/
LOCATION:The Bethesdan Hotel\, Tapestry Collection by Hilton\, 8120 Wisconsin Avenue\, Bethesda\, MD\, 20814
CATEGORIES:upcoming
END:VEVENT
END:VCALENDAR