BEGIN:VCALENDAR
VERSION:2.0
PRODID:-//NIA IMPACT Collaboratory - ECPv6.15.20//NONSGML v1.0//EN
CALSCALE:GREGORIAN
METHOD:PUBLISH
X-ORIGINAL-URL:https://impactcollaboratory.org
X-WR-CALDESC:Events for NIA IMPACT Collaboratory
REFRESH-INTERVAL;VALUE=DURATION:PT1H
X-Robots-Tag:noindex
X-PUBLISHED-TTL:PT1H
BEGIN:VTIMEZONE
TZID:America/New_York
BEGIN:DAYLIGHT
TZOFFSETFROM:-0500
TZOFFSETTO:-0400
TZNAME:EDT
DTSTART:20230312T070000
END:DAYLIGHT
BEGIN:STANDARD
TZOFFSETFROM:-0400
TZOFFSETTO:-0500
TZNAME:EST
DTSTART:20231105T060000
END:STANDARD
BEGIN:DAYLIGHT
TZOFFSETFROM:-0500
TZOFFSETTO:-0400
TZNAME:EDT
DTSTART:20240310T070000
END:DAYLIGHT
BEGIN:STANDARD
TZOFFSETFROM:-0400
TZOFFSETTO:-0500
TZNAME:EST
DTSTART:20241103T060000
END:STANDARD
BEGIN:DAYLIGHT
TZOFFSETFROM:-0500
TZOFFSETTO:-0400
TZNAME:EDT
DTSTART:20250309T070000
END:DAYLIGHT
BEGIN:STANDARD
TZOFFSETFROM:-0400
TZOFFSETTO:-0500
TZNAME:EST
DTSTART:20251102T060000
END:STANDARD
END:VTIMEZONE
BEGIN:VEVENT
DTSTART;TZID=America/New_York:20240403T090000
DTEND;TZID=America/New_York:20240404T130000
DTSTAMP:20260424T083918
CREATED:20231205T153043Z
LAST-MODIFIED:20231205T162303Z
UID:13563-1712134800-1712235600@impactcollaboratory.org
SUMMARY:NIA IMPACT 2024 Scientific Conference on Embedded Pragmatic Clinical Trials (ePCTs) in Dementia
DESCRIPTION:The interactive forum features research efforts from IMPACT and the broader research community.  Participants gather to discuss and advance the understanding of ePCTs\, review emerging insights and highlight advances in research to improve care for people living with dementia (PLWD).  The hybrid event will be held in Bethesda\, MD and via Zoom April 3-4\, 2024.  The event is free and open to the public. \nJoin to experience… \n\ndiscussions about exciting advances in ePCTs to improve the care and health outcomes of PLWD and their care partners\,\ndynamic poster sessions displaying cutting-edge research in dementia care\, and\nopportunities to interact and network with investigators conducting ePCTs in dementia care.\n\nVisit the meeting website to learn more! \nAdvance registration is free and required for all participants. \nIn-person registration closes: March 10\, 2024 \nVirtual registration closes: April 4\, 2024
URL:https://impactcollaboratory.org/event/nia-impact-2024-scientific-conference-on-embedded-pragmatic-clinical-trials-epcts-in-dementia/
LOCATION:The Bethesdan Hotel\, Tapestry Collection by Hilton\, 8120 Wisconsin Avenue\, Bethesda\, MD\, 20814
CATEGORIES:upcoming
END:VEVENT
END:VCALENDAR