BEGIN:VCALENDAR
VERSION:2.0
PRODID:-//NIA IMPACT Collaboratory - ECPv6.15.20//NONSGML v1.0//EN
CALSCALE:GREGORIAN
METHOD:PUBLISH
X-WR-CALNAME:NIA IMPACT Collaboratory
X-ORIGINAL-URL:https://impactcollaboratory.org
X-WR-CALDESC:Events for NIA IMPACT Collaboratory
REFRESH-INTERVAL;VALUE=DURATION:PT1H
X-Robots-Tag:noindex
X-PUBLISHED-TTL:PT1H
BEGIN:VTIMEZONE
TZID:America/New_York
BEGIN:DAYLIGHT
TZOFFSETFROM:-0500
TZOFFSETTO:-0400
TZNAME:EDT
DTSTART:20230312T070000
END:DAYLIGHT
BEGIN:STANDARD
TZOFFSETFROM:-0400
TZOFFSETTO:-0500
TZNAME:EST
DTSTART:20231105T060000
END:STANDARD
BEGIN:DAYLIGHT
TZOFFSETFROM:-0500
TZOFFSETTO:-0400
TZNAME:EDT
DTSTART:20240310T070000
END:DAYLIGHT
BEGIN:STANDARD
TZOFFSETFROM:-0400
TZOFFSETTO:-0500
TZNAME:EST
DTSTART:20241103T060000
END:STANDARD
BEGIN:DAYLIGHT
TZOFFSETFROM:-0500
TZOFFSETTO:-0400
TZNAME:EDT
DTSTART:20250309T070000
END:DAYLIGHT
BEGIN:STANDARD
TZOFFSETFROM:-0400
TZOFFSETTO:-0500
TZNAME:EST
DTSTART:20251102T060000
END:STANDARD
END:VTIMEZONE
BEGIN:VEVENT
DTSTART;TZID=America/New_York:20240516T120000
DTEND;TZID=America/New_York:20240516T130000
DTSTAMP:20260424T083505
CREATED:20240423T155740Z
LAST-MODIFIED:20240509T183826Z
UID:14382-1715860800-1715864400@impactcollaboratory.org
SUMMARY:IMPACT Grand Rounds: Epstein-Lubow\, Saffer\, & Lees-Haggerty | The Guiding and Improved Dementia Experience (GUIDE) Model: A CMS payment model test to support people living with dementia and their family caregivers
DESCRIPTION:Gary Epstein-Lubow\, MD\, leader of the IMPACT Engaging Partners Team and Distinguished Medical Scholar at Education Development Center\, Tonya Saffer\, MPH\, Director of the Division of Healthcare Payment Models\, Centers for Medicare & Medicaid Services\, and Kristin Lees-Haggerty\, PhD\, Project Director for the National Collaboratory to Address Elder Mistreatment\, Education Development Center\, will present at IMPACT Grand Rounds on “The Guiding and Improved Dementia Experience (GUIDE) Model: A CMS payment model test to support people living with dementia and their family caregivers.” \nMay 16\, 2024\n12pm – 1pm ET \nZoom Conferencing\nJoin from PC\, Mac\, iOS or Android: https://hebrewseniorlife.zoom.us/j/97344810673\nDial-In:  +1 312 626 6799 (US Toll) or  +1 470 250 9358 (US Toll)\nMeeting ID:  973 4481 0673 \nSee flyer here.
URL:https://impactcollaboratory.org/event/impact-grand-rounds-gary-epstein-lubow-md-the-guiding-and-improved-dementia-experience-guide-model-a-cms-payment-model-test-to-support-people-living-with-dementia-and-their-family-caregivers/
LOCATION:https://hebrewseniorlife.zoom.us/j/97344810673
CATEGORIES:Grand Rounds,upcoming
END:VEVENT
END:VCALENDAR