BEGIN:VCALENDAR
VERSION:2.0
PRODID:-//NIA IMPACT Collaboratory - ECPv6.15.20//NONSGML v1.0//EN
CALSCALE:GREGORIAN
METHOD:PUBLISH
X-WR-CALNAME:NIA IMPACT Collaboratory
X-ORIGINAL-URL:https://impactcollaboratory.org
X-WR-CALDESC:Events for NIA IMPACT Collaboratory
REFRESH-INTERVAL;VALUE=DURATION:PT1H
X-Robots-Tag:noindex
X-PUBLISHED-TTL:PT1H
BEGIN:VTIMEZONE
TZID:America/New_York
BEGIN:DAYLIGHT
TZOFFSETFROM:-0500
TZOFFSETTO:-0400
TZNAME:EDT
DTSTART:20230312T070000
END:DAYLIGHT
BEGIN:STANDARD
TZOFFSETFROM:-0400
TZOFFSETTO:-0500
TZNAME:EST
DTSTART:20231105T060000
END:STANDARD
BEGIN:DAYLIGHT
TZOFFSETFROM:-0500
TZOFFSETTO:-0400
TZNAME:EDT
DTSTART:20240310T070000
END:DAYLIGHT
BEGIN:STANDARD
TZOFFSETFROM:-0400
TZOFFSETTO:-0500
TZNAME:EST
DTSTART:20241103T060000
END:STANDARD
BEGIN:DAYLIGHT
TZOFFSETFROM:-0500
TZOFFSETTO:-0400
TZNAME:EDT
DTSTART:20250309T070000
END:DAYLIGHT
BEGIN:STANDARD
TZOFFSETFROM:-0400
TZOFFSETTO:-0500
TZNAME:EST
DTSTART:20251102T060000
END:STANDARD
END:VTIMEZONE
BEGIN:VEVENT
DTSTART;TZID=America/New_York:20241017T120000
DTEND;TZID=America/New_York:20241017T130000
DTSTAMP:20260423T225032
CREATED:20240702T212812Z
LAST-MODIFIED:20240926T145830Z
UID:15164-1729166400-1729170000@impactcollaboratory.org
SUMMARY:IMPACT Grand Rounds: Maggie Ramirez\, PhD & Rafael Samper-Ternent\, MD | "Using Pilot Studies to Inform ePCTs in Hispanic/Latino People Living with Dementia and their Care Partners"
DESCRIPTION:Join us for Grand Rounds on October 17\, 2024 at 12pm ET. Drs. Maggie Ramirez\, PhD & Rafael Samper-Ternent\, MD\, will discuss “Using Pilot Studies to Inform ePCTs in Hispanic/Latino People Living with Dementia and their Care Partners”. \nGrand Rounds Flyer: IMPACT GR_Oct17_2024_Ramirez_Samper-Ternent_FINAL \n  \nZoom Details \nhttps://hebrewseniorlife.zoom.us/j/82975236412 \nOr One tap mobile : \n+16465189805\,\,82975236412# US (New York) \n+16468769923\,\,82975236412# US (New York)
URL:https://impactcollaboratory.org/event/impact-grand-rounds-maggie-ramirez-phd-rafael-samper-ternent-md-topic-conducting-epcts-in-latino-care-partners-of-people-living-with-dementia/
LOCATION:https://hebrewseniorlife.zoom.us/j/82975236412
CATEGORIES:Grand Rounds,upcoming
END:VEVENT
END:VCALENDAR