BEGIN:VCALENDAR
VERSION:2.0
PRODID:-//NIA IMPACT Collaboratory - ECPv6.15.20//NONSGML v1.0//EN
CALSCALE:GREGORIAN
METHOD:PUBLISH
X-ORIGINAL-URL:https://impactcollaboratory.org
X-WR-CALDESC:Events for NIA IMPACT Collaboratory
REFRESH-INTERVAL;VALUE=DURATION:PT1H
X-Robots-Tag:noindex
X-PUBLISHED-TTL:PT1H
BEGIN:VTIMEZONE
TZID:America/New_York
BEGIN:DAYLIGHT
TZOFFSETFROM:-0500
TZOFFSETTO:-0400
TZNAME:EDT
DTSTART:20240310T070000
END:DAYLIGHT
BEGIN:STANDARD
TZOFFSETFROM:-0400
TZOFFSETTO:-0500
TZNAME:EST
DTSTART:20241103T060000
END:STANDARD
BEGIN:DAYLIGHT
TZOFFSETFROM:-0500
TZOFFSETTO:-0400
TZNAME:EDT
DTSTART:20250309T070000
END:DAYLIGHT
BEGIN:STANDARD
TZOFFSETFROM:-0400
TZOFFSETTO:-0500
TZNAME:EST
DTSTART:20251102T060000
END:STANDARD
BEGIN:DAYLIGHT
TZOFFSETFROM:-0500
TZOFFSETTO:-0400
TZNAME:EDT
DTSTART:20260308T070000
END:DAYLIGHT
BEGIN:STANDARD
TZOFFSETFROM:-0400
TZOFFSETTO:-0500
TZNAME:EST
DTSTART:20261101T060000
END:STANDARD
END:VTIMEZONE
BEGIN:VEVENT
DTSTART;TZID=America/New_York:20250417T120000
DTEND;TZID=America/New_York:20250417T130000
DTSTAMP:20260423T131033
CREATED:20250324T171530Z
LAST-MODIFIED:20250324T171530Z
UID:15869-1744891200-1744894800@impactcollaboratory.org
SUMMARY:IMPACT Grand Rounds: Katherine Possin\, PhD | Augmenting Nurse Support and EHR Integration for the Pragmatic Trial of the TabCAT Brain Health Assessment
DESCRIPTION:Join us for Grand Rounds on March 20th at noon ET. Dr. Possin will discuss “Augmenting Nurse Support and Electronic Health Record (EHR) Integration for the Pragmatic Trial of the TabCAT Brain Health Assessment (TabCAT-BHA)” \nZoom Conferencing \nJoin from PC\, Mac\, iOS or Android: https://hebrewseniorlife.zoom.us/j/82975236412 \nDial-In:  +1 646 518 9805 US (New York)  or  +1 213 338 8477 US (Los Angeles) \nMeeting ID:  829 7523 6412 \nFlyer: IMPACT GR_Apr17_2025_Possin_FINAL
URL:https://impactcollaboratory.org/event/impact-grand-rounds-katherine-possin-phd-augmenting-nurse-support-and-ehr-integration-for-the-pragmatic-trial-of-the-tabcat-brain-health-assessment/
LOCATION:https://hebrewseniorlife.zoom.us/j/82975236412
CATEGORIES:Grand Rounds,upcoming
END:VEVENT
END:VCALENDAR