BEGIN:VCALENDAR
VERSION:2.0
PRODID:-//NIA IMPACT Collaboratory - ECPv6.15.20//NONSGML v1.0//EN
CALSCALE:GREGORIAN
METHOD:PUBLISH
X-WR-CALNAME:NIA IMPACT Collaboratory
X-ORIGINAL-URL:https://impactcollaboratory.org
X-WR-CALDESC:Events for NIA IMPACT Collaboratory
REFRESH-INTERVAL;VALUE=DURATION:PT1H
X-Robots-Tag:noindex
X-PUBLISHED-TTL:PT1H
BEGIN:VTIMEZONE
TZID:America/New_York
BEGIN:DAYLIGHT
TZOFFSETFROM:-0500
TZOFFSETTO:-0400
TZNAME:EDT
DTSTART:20250309T070000
END:DAYLIGHT
BEGIN:STANDARD
TZOFFSETFROM:-0400
TZOFFSETTO:-0500
TZNAME:EST
DTSTART:20251102T060000
END:STANDARD
BEGIN:DAYLIGHT
TZOFFSETFROM:-0500
TZOFFSETTO:-0400
TZNAME:EDT
DTSTART:20260308T070000
END:DAYLIGHT
BEGIN:STANDARD
TZOFFSETFROM:-0400
TZOFFSETTO:-0500
TZNAME:EST
DTSTART:20261101T060000
END:STANDARD
BEGIN:DAYLIGHT
TZOFFSETFROM:-0500
TZOFFSETTO:-0400
TZNAME:EDT
DTSTART:20270314T070000
END:DAYLIGHT
BEGIN:STANDARD
TZOFFSETFROM:-0400
TZOFFSETTO:-0500
TZNAME:EST
DTSTART:20271107T060000
END:STANDARD
END:VTIMEZONE
BEGIN:VEVENT
DTSTART;TZID=America/New_York:20260521T120000
DTEND;TZID=America/New_York:20260521T130000
DTSTAMP:20260422T183620
CREATED:20260417T160919Z
LAST-MODIFIED:20260417T163740Z
UID:17652-1779364800-1779368400@impactcollaboratory.org
SUMMARY:Grand Rounds: Stephanie Morain\, PhD\, MPH
DESCRIPTION:Join us for the IMPACT Grand Rounds on Thursday\, May 21\, at 12 p.m. ET\, with Stephanie Morain\, PhD\, MPH\, who will be presenting\, “ePCTs and Health Systems’ Ethical Obligations.” \nStephanie Morain\, PhD\, MPH is Associate Professor of Health Policy & Management\, Johns Hopkins Bloomberg School of Public Health\, Dracopoulos Rising Professor of Bioethics\, Berman Institute of Bioethics \n Zoom Conferencing \nJoin from PC\, Mac\, iOS or Android: https://hebrewseniorlife.zoom.us/j/86937720056  \nDial-In:  +1 646 518 9805 US (New York)  or  +1 213 338 8477 US (Los Angeles) \nMeeting ID: 869 3772 0056 \nEvent Flyer: Flyer_May Grand Rounds_Morain_4.16.26
URL:https://impactcollaboratory.org/event/grand-rounds-stephanie-morain-phd-mph/
CATEGORIES:Grand Rounds,upcoming
END:VEVENT
END:VCALENDAR