BEGIN:VCALENDAR
VERSION:2.0
PRODID:-//NIA IMPACT Collaboratory - ECPv6.15.20//NONSGML v1.0//EN
CALSCALE:GREGORIAN
METHOD:PUBLISH
X-WR-CALNAME:NIA IMPACT Collaboratory
X-ORIGINAL-URL:https://impactcollaboratory.org
X-WR-CALDESC:Events for NIA IMPACT Collaboratory
REFRESH-INTERVAL;VALUE=DURATION:PT1H
X-Robots-Tag:noindex
X-PUBLISHED-TTL:PT1H
BEGIN:VTIMEZONE
TZID:America/New_York
BEGIN:DAYLIGHT
TZOFFSETFROM:-0500
TZOFFSETTO:-0400
TZNAME:EDT
DTSTART:20190310T070000
END:DAYLIGHT
BEGIN:STANDARD
TZOFFSETFROM:-0400
TZOFFSETTO:-0500
TZNAME:EST
DTSTART:20191103T060000
END:STANDARD
BEGIN:DAYLIGHT
TZOFFSETFROM:-0500
TZOFFSETTO:-0400
TZNAME:EDT
DTSTART:20200308T070000
END:DAYLIGHT
BEGIN:STANDARD
TZOFFSETFROM:-0400
TZOFFSETTO:-0500
TZNAME:EST
DTSTART:20201101T060000
END:STANDARD
BEGIN:DAYLIGHT
TZOFFSETFROM:-0500
TZOFFSETTO:-0400
TZNAME:EDT
DTSTART:20210314T070000
END:DAYLIGHT
BEGIN:STANDARD
TZOFFSETFROM:-0400
TZOFFSETTO:-0500
TZNAME:EST
DTSTART:20211107T060000
END:STANDARD
END:VTIMEZONE
BEGIN:VEVENT
DTSTART;TZID=America/New_York:20200908T160000
DTEND;TZID=America/New_York:20200908T170000
DTSTAMP:20260423T171441
CREATED:20200817T132914Z
LAST-MODIFIED:20240619T195623Z
UID:3802-1599580800-1599584400@impactcollaboratory.org
SUMMARY:Pilot Grant Informational Webinar #2
DESCRIPTION:This optional informational webinar will provide investigators with an overview of application details and support that the IMPACT Collaboratory can provide to assist with proposal development (e.g.\, trial design\, measurement\, data extraction\, etc.). Investigators will have the opportunity to ask questions. Registration closed.
URL:https://impactcollaboratory.org/event/pilot-grant-informational-webinar-2/
CATEGORIES:upcoming
END:VEVENT
BEGIN:VEVENT
DTSTART;TZID=America/New_York:20200826T140000
DTEND;TZID=America/New_York:20200826T150000
DTSTAMP:20260423T171441
CREATED:20200817T132848Z
LAST-MODIFIED:20240619T195528Z
UID:3798-1598450400-1598454000@impactcollaboratory.org
SUMMARY:Pilot Grant Funding Informational Webinar #1
DESCRIPTION:This optional informational webinar will provide investigators with an overview of application details and support that the IMPACT Collaboratory can provide to assist with proposal development (e.g.\, trial design\, measurement\, data extraction\, etc.). Investigators will have the opportunity to ask questions. Registration closed.
URL:https://impactcollaboratory.org/event/pilot-grant-funding-informational-webinar-1/
CATEGORIES:upcoming
END:VEVENT
BEGIN:VEVENT
DTSTART;TZID=America/New_York:20200716T120000
DTEND;TZID=America/New_York:20200716T130000
DTSTAMP:20260423T171441
CREATED:20200708T163420Z
LAST-MODIFIED:20200814T162800Z
UID:3623-1594900800-1594904400@impactcollaboratory.org
SUMMARY:IMPACT Grand Rounds: Breaking the Cycle: Health Care Systems Interactions for Impactful Results
DESCRIPTION:Members of the IMPACT Collaboratory Health Care Systems Core\, Leah Hanson\, PhD\, Eric Larson\, MD\, MPH\, David Reuben\, MD\, and Jeff Williamson\, MD\, MHS will present on “Breaking the Cycle: Health Care Systems Interactions for Impactful Results.” \nWebinar Date and Time \nThursday\, July 16\, 2020 from 12:00 – 1:00 pm ET \nSpeakers \nWebinar Link \nPlease click the link below to join the webinar:\nhttps://hebrewseniorlife.zoom.us/j/97344810673 \nOr iPhone one-tap :\nUS: +13126266799\,\,97344810673# or +14702509358\,\,97344810673#\nOr Telephone:\nDial(for higher quality\, dial a number based on your current location):\nUS: +1 312 626 6799 or +1 470 250 9358 or +1 470 381 2552 or +1 646 518 9805 \nWebinar ID: 973 4481 0673\nInternational numbers available: https://hebrewseniorlife.zoom.us/u/ac4bYFtynq
URL:https://impactcollaboratory.org/event/impact-grand-rounds-breaking-the-cycle-health-care-systems-interactions-for-impactful-results/
LOCATION:https://hebrewseniorlife.zoom.us/j/97344810673
CATEGORIES:upcoming
END:VEVENT
BEGIN:VEVENT
DTSTART;TZID=America/New_York:20200618T120000
DTEND;TZID=America/New_York:20200618T130000
DTSTAMP:20260423T171441
CREATED:20200512T162433Z
LAST-MODIFIED:20200609T183433Z
UID:3215-1592481600-1592485200@impactcollaboratory.org
SUMMARY:IMPACT Grand Round: Finding Pragmatic and Relevant Outcomes for AD/ADRD ePCTs
DESCRIPTION:On behalf of the IMPACT Collaboratory Patient and Caregiver Reported Outcomes (PCRO) Core\, Laura Hanson\, MD\, MPH (Core Leader) and Sheryl Zimmerman\, PhD (Executive Committee Member) will present on “Finding Pragmatic and Relevant Outcomes for AD/ADRD ePCTs” on June 18\, 2020 at 12pm ET. \n  \nZoom Details: \nJoin from PC\, Mac\, iOS or Android: https://hebrewseniorlife.zoom.us/j/5479652617\nDial-In: +1 646 876 9923 (US Toll) or +1 669 900 6833 (US Toll)\nMeeting ID: 547 965 2617
URL:https://impactcollaboratory.org/event/impact-grand-round-finding-pragmatic-and-relevant-outcomes-for-ad-adrd-epcts/
LOCATION:https://hebrewseniorlife.zoom.us/j/5479652617
CATEGORIES:Grand Rounds,upcoming
END:VEVENT
BEGIN:VEVENT
DTSTART;TZID=America/New_York:20200611T121000
DTEND;TZID=America/New_York:20200611T131000
DTSTAMP:20260423T171441
CREATED:20200522T160921Z
LAST-MODIFIED:20200611T141828Z
UID:3305-1591877400-1591881000@impactcollaboratory.org
SUMMARY:Special IMPACT Grand Rounds: COVID-19 Among Older Persons in Health Care Systems: Pragmatic Responses to the Crisis
DESCRIPTION:Please join us for our second special IMPACT Grand Rounds centered around the COVID-19 crisis on Thursday\, June 11 @ 12:10pm ET. \nSpeakers: \nLewis A. Lipsitz\, MD\, Hinda and Arthur Marcus Institute for Aging Research\, Hebrew SeniorLife;\nJames Rudolph\, MD\, Brown University;\nElizabeth White\, PhD\, ARPN\, Brown University \nZoom Details: \nJoin from PC\, Mac\, Linux\, iOS or Android: https://hebrewseniorlife.zoom.us/j/5479652617 \nOr iPhone one-tap (US Toll):  +13126266799\,\,5479652617#  or +14702509358\,\,5479652617# \n Meeting ID: 547 965 2617 \nOr Telephone: \nDial:\n+1 312 626 6799 (US Toll)\n+1 470 250 9358 (US Toll)\n+1 470 381 2552 (US Toll)\n+1 646 518 9805 (US Toll)\n+1 646 876 9923 (US Toll)\n+1 651 372 8299 (US Toll)\n+1 786 635 1003 (US Toll)\n+1 267 831 0333 (US Toll)\n+1 301 715 8592 (US Toll)\n+1 253 215 8782 (US Toll)\n+1 346 248 7799 (US Toll)\n+1 602 753 0140 (US Toll)\n+1 669 219 2599 (US Toll)\n+1 669 900 6833 (US Toll)\n+1 720 928 9299 (US Toll)\n+1 971 247 1195 (US Toll)\n+1 206 337 9723 (US Toll)\n+1 213 338 8477 (US Toll) \nMeeting ID: 547 965 2617
URL:https://impactcollaboratory.org/event/special-impact-grand-rounds-covid-19-among-older-persons-in-health-care-systems-pragmatic-responses-to-the-crisis/
LOCATION:https://hebrewseniorlife.zoom.us/j/5479652617
CATEGORIES:Grand Rounds,upcoming
END:VEVENT
BEGIN:VEVENT
DTSTART;TZID=America/New_York:20200521T120000
DTEND;TZID=America/New_York:20200521T130000
DTSTAMP:20260423T171441
CREATED:20200421T134625Z
LAST-MODIFIED:20200513T203657Z
UID:3004-1590062400-1590066000@impactcollaboratory.org
SUMMARY:IMPACT Grand Rounds: Stakeholder Engagement in ePCTs for People Living with Dementia
DESCRIPTION:Thursday\, May 21\, 2020\n12:00 – 1:00 pm EST \nEllen Tambor\, MA is a Research Director at the non-profit Center for Medical Technology Policy (CMTP). Since joining the organization in 2011\, she has led multiple projects with the consistent goal of effectively engaging patients\, clinicians\, and other stakeholders in the research process. Key projects during her time at CMTP have included co-leading the Stakeholder Engagement Core for the NIH Healthcare Systems Research Collaboratory and designing and implementing a plan for patient and clinician engagement in the Chicago Area Patient-Centered Outcomes Research Network (CAPriCORN). She also led a PCORI-funded project aimed at improving the engagement of front-line clinicians in patient-centered outcomes research. Before coming to CMTP\, Ellen was a research associate in the Johns Hopkins University Bloomberg School of Public Health\, Department of Health Policy and Management\, where she conducted social science research in genetics and public policy studies. She holds an MA in psychology from Wake Forest University. \nZoom Conferencing \nJoin from PC\, Mac\, iOS or Android: https://hebrewseniorlife.zoom.us/j/5479652617     \nDial-In:    +1 646 876 9923 (US Toll) or +1 669 900 6833 (US Toll) \nMeeting ID:  547 965 2617 \n  \n  \n  \n 
URL:https://impactcollaboratory.org/event/impact-grand-rounds-stakeholder-engagement-in-epcts-for-people-living-with-dementia/
CATEGORIES:Grand Rounds,upcoming
END:VEVENT
BEGIN:VEVENT
DTSTART;TZID=America/New_York:20200520T130000
DTEND;TZID=America/New_York:20200520T140000
DTSTAMP:20260423T171441
CREATED:20200420T133325Z
LAST-MODIFIED:20240619T152553Z
UID:2985-1589979600-1589983200@impactcollaboratory.org
SUMMARY:Career Development Awards Informational Webinar #2
DESCRIPTION:Webinar on May 20\, 2020 @ 1:00 PM Eastern Time.\nThe IMPACT Collaboratory will fund two to three\, 2-year Career Development Awards (CDAs) to support the development of early-stage MD\, PhD\, or equivalent researchers who seek careers conducting embedded pragmatic clinical trials (ePCTs) for people living with dementia and their care partners. CDAs provide support for up to $100\,000 per year in direct costs and candidates are required to devote a minimum of 75% effort toward the goals of the CDA. The IMPACT Collaboratory will prioritize applications that address dementia care for people of all backgrounds and promote health equity. \nFull Applications are due July 15\, 2020. There is no letter of intent. For further details\, go to the IMPACT CDA Program webpage. \nRegistration closed.
URL:https://impactcollaboratory.org/event/career-development-awards-informational-webinar-2/
CATEGORIES:Meetings,upcoming
END:VEVENT
BEGIN:VEVENT
DTSTART;TZID=America/New_York:20200507T120000
DTEND;TZID=America/New_York:20200507T130000
DTSTAMP:20260423T171441
CREATED:20200417T202029Z
LAST-MODIFIED:20200424T193223Z
UID:2932-1588852800-1588856400@impactcollaboratory.org
SUMMARY:IMPACT Special Grand Rounds: COVID-19 in Nursing Homes: Pragmatic Research Responses to the Crisis
DESCRIPTION:In response to the coronavirus disease (COVID-2019) outbreak\, the IMPACT Collaboratory will hold an additional Grand Rounds on May 7th at 12pm ET to address “COVID-19 in Nursing Homes: Pragmatic Research Responses to the Crisis.” \nWebinar Date and Time\nThursday\, May 7 at 12:00 noon ET \nSpeakers\n \nDavid C. Grabowski\, PhD\nProfessor of Health Care Policy\nDepartment of Health Care Policy\,\nHarvard Medical School \n  \n  \n \nSusan Mitchell\, MD\, MPH\nIMPACT Principal Investigator\nProfessor of Medicine\, Harvard Medical School\nSenior Scientist\, Hebrew SeniorLife’s Hinda and Arthur Marcus Institute for Aging Research \n  \n  \n \nVince Mor\, PhD\nIMPACT Principal Investigator\nFlorence Pirce Grant University Professor; Professor of Health Services\, Policy and Practice Brown University School of Public Health \n  \n  \nZoom Details: Join from PC\, Mac\, Linux\, iOS or Android: https://hebrewseniorlife.zoom.us/j/5479652617 \nOr iPhone one-tap (US Toll):  +16468769923\,\,5479652617#  or +13126266799\,\,5479652617# \nOr Telephone (dial options):  +1 646 876 9923 (US Toll); +1 312 626 6799 (US Toll); +1 669 900 6833 (US Toll); +1 253 215 8782 (US Toll); +1 301 715 8592 (US Toll); +1 346 248 7799 (US Toll) \n  \nMeeting ID: 547 965 2617 \n  \nPlease also stay tuned for our normally scheduled IMPACT Grand Rounds on May 21st at 12pm from our Stakeholder Engagement Team. \nDownload COVID_20200507 GR Announcement.
URL:https://impactcollaboratory.org/event/impact-grand-rounds-covid-19-in-nursing-homes-pragmatic-research-responses-to-the-crisis/
CATEGORIES:Grand Rounds,upcoming
END:VEVENT
BEGIN:VEVENT
DTSTART;TZID=America/New_York:20200506T160000
DTEND;TZID=America/New_York:20200506T170000
DTSTAMP:20260423T171441
CREATED:20200420T131150Z
LAST-MODIFIED:20240619T195945Z
UID:2977-1588780800-1588784400@impactcollaboratory.org
SUMMARY:Pilot Grants Informational Webinar #2
DESCRIPTION:Webinar on May 6\, 2020 @ 4:00 PM Eastern Time\nThe IMPACT Collaboratory will fund up to five 1-year non-renewable pilot grant awards for up to $175\,000 in direct costs. Letters of intent are required and due May 29\, 2020. Full proposal applications are by invitation only and will be due September 4\, 2020. For further details\, please see the on the IMPACT Pilot Grant Program page. \nIn response to the coronavirus disease (COVID-2019) outbreak\, the IMPACT Collaboratory will prioritize applications proposing pilot ePCTs of telemedicine\, telehealth\, and remote technologies interventions aimed at improving health care\, unmet needs\, quality of life and/or health outcomes for people living with dementia and/or their care partners for this award cycle. Applications for pilot ePCTs testing other types of non-pharmacological interventions in this population will also be considered. \nRegistration closed.
URL:https://impactcollaboratory.org/event/pilot-grants-informational-webinar-2/
CATEGORIES:Meetings,upcoming
END:VEVENT
BEGIN:VEVENT
DTSTART;TZID=America/New_York:20200429T150000
DTEND;TZID=America/New_York:20200429T160000
DTSTAMP:20260423T171441
CREATED:20200420T132218Z
LAST-MODIFIED:20240619T152220Z
UID:2983-1588172400-1588176000@impactcollaboratory.org
SUMMARY:Career Development Awards Informational Webinar #1
DESCRIPTION:The IMPACT Collaboratory will fund two to three\, 2-year Career Development Awards (CDAs) to support the development of early-stage MD\, PhD\, or equivalent researchers who seek careers conducting embedded pragmatic clinical trials (ePCTs) for people living with dementia and their care partners. CDAs provide support for up to $100\,000 per year in direct costs and candidates are required to devote a minimum of 75% effort toward the goals of the CDA. The IMPACT Collaboratory will prioritize applications that address dementia care for people of all backgrounds and promote health equity. \nFull Applications are due July 15\, 2020. There is no letter of intent. For further details\, go to the IMPACT CDA Program webpage. \nTwo optional informational webinars will be held to provide additional information and answer questions from potential applicants. Registration is required and can be completed through the links below: \n• Informational Webinar #1 for IMPACT CDA  April 29\, 2020 03:00 PM Eastern Time. Registration closed.
URL:https://impactcollaboratory.org/event/career-development-awards-informational-webinar-1/
CATEGORIES:Meetings,upcoming
END:VEVENT
BEGIN:VEVENT
DTSTART;TZID=America/New_York:20200428T133000
DTEND;TZID=America/New_York:20200428T143000
DTSTAMP:20260423T171441
CREATED:20200420T125727Z
LAST-MODIFIED:20240619T200257Z
UID:2973-1588080600-1588084200@impactcollaboratory.org
SUMMARY:Pilot Grants Program Informational Webinar #1
DESCRIPTION:The IMPACT Collaboratory will fund up to five 1-year non-renewable pilot grant awards for up to $175\,000 in direct costs. Letters of intent are required and due May 29\, 2020. Full proposal applications are by invitation only and will be due September 4\, 2020. For further details\, please see the on the IMPACT Pilot Grant Program page. \nIn response to the coronavirus disease (COVID-2019) outbreak\, the IMPACT Collaboratory will prioritize applications proposing pilot ePCTs of telemedicine\, telehealth\, and remote technologies interventions aimed at improving health care\, unmet needs\, quality of life and/or health outcomes for people living with dementia and/or their care partners for this award cycle. Applications for pilot ePCTs testing other types of non-pharmacological interventions in this population will also be considered. \nInformational Webinar #1 for IMPACT Pilot Grant RFA is April 28\, 2020 01:30 PM Eastern Time. Registration closed. \n 
URL:https://impactcollaboratory.org/event/pilot-grants-program-informational-webinar/
CATEGORIES:Meetings,upcoming
END:VEVENT
BEGIN:VEVENT
DTSTART;TZID=America/New_York:20200416T120000
DTEND;TZID=America/New_York:20200416T130000
DTSTAMP:20260423T171441
CREATED:20200226T154726Z
LAST-MODIFIED:20220428T135056Z
UID:2634-1587038400-1587042000@impactcollaboratory.org
SUMMARY:IMPACT Grand Rounds: Health equity as foundational to the design of pragmatic clinical trials
DESCRIPTION:Thursday\, April 16\, 2020\n12:00 – 1:00 pm ET\nAna Quiñones\, PhD\, MS\nAssociate Professor\, Department of Family Medicine\,\nOHSU-PSU School of Public Health\, Oregon Health & Science University \n  \n  \nJonathan Jackson\, PhD\nInstructor in Neurology\, Massachusetts General Hospital\nInstructor\, Harvard Medical School \n  \n  \nZoom Conferencing \nJoin from PC\, Mac\, iOS or Android: https://hebrewseniorlife.zoom.us/j/5479652617     \nDial-In:    +1 646 876 9923 (US Toll) or +1 669 900 6833 (US Toll) \nMeeting ID:  547 965 2617 \nDownload the event flyer \n 
URL:https://impactcollaboratory.org/event/impact-grand-rounds-health-equity-as-foundational-to-the-design-of-pragmatic-clinical-trials/
CATEGORIES:Grand Rounds,upcoming
END:VEVENT
END:VCALENDAR