BEGIN:VCALENDAR
VERSION:2.0
PRODID:-//NIA IMPACT Collaboratory - ECPv6.15.20//NONSGML v1.0//EN
CALSCALE:GREGORIAN
METHOD:PUBLISH
X-WR-CALNAME:NIA IMPACT Collaboratory
X-ORIGINAL-URL:https://impactcollaboratory.org
X-WR-CALDESC:Events for NIA IMPACT Collaboratory
REFRESH-INTERVAL;VALUE=DURATION:PT1H
X-Robots-Tag:noindex
X-PUBLISHED-TTL:PT1H
BEGIN:VTIMEZONE
TZID:America/New_York
BEGIN:DAYLIGHT
TZOFFSETFROM:-0500
TZOFFSETTO:-0400
TZNAME:EDT
DTSTART:20250309T070000
END:DAYLIGHT
BEGIN:STANDARD
TZOFFSETFROM:-0400
TZOFFSETTO:-0500
TZNAME:EST
DTSTART:20251102T060000
END:STANDARD
BEGIN:DAYLIGHT
TZOFFSETFROM:-0500
TZOFFSETTO:-0400
TZNAME:EDT
DTSTART:20260308T070000
END:DAYLIGHT
BEGIN:STANDARD
TZOFFSETFROM:-0400
TZOFFSETTO:-0500
TZNAME:EST
DTSTART:20261101T060000
END:STANDARD
BEGIN:DAYLIGHT
TZOFFSETFROM:-0500
TZOFFSETTO:-0400
TZNAME:EDT
DTSTART:20270314T070000
END:DAYLIGHT
BEGIN:STANDARD
TZOFFSETFROM:-0400
TZOFFSETTO:-0500
TZNAME:EST
DTSTART:20271107T060000
END:STANDARD
END:VTIMEZONE
BEGIN:VEVENT
DTSTART;TZID=America/New_York:20260319T120000
DTEND;TZID=America/New_York:20260319T130000
DTSTAMP:20260423T060712
CREATED:20260303T133403Z
LAST-MODIFIED:20260303T133403Z
UID:17269-1773921600-1773925200@impactcollaboratory.org
SUMMARY:Grand Rounds: Hillary Lum\, MD\, PhD\, Jenny Portz\, PhD\, Julia Burgdorf\, PhD\, MSW\, Jody Long\, MSN\, MBA\, RN\, CEN
DESCRIPTION:Join us for the IMPACT Grand Rounds on Thursday\, March 19\, at 12 p.m. ET\, with IMPACT Patient/Caregiver Relevant Outcomes (PCRO) Core member Hillary Lum\, MD\, PhD\, and guest speakers Jenny Portz\, PhD\, MSW\, Julia Burgdorf\, PhD\, and Jody Long\, MSN\, MBA\, RN\, CEN\, who will be presenting on “Identifying and Engaging Care Partners through Electronic Health Records for Pragmatic Research.” \nHillary Lum\, MD\, PhD\, is a professor of medicine in the Division of Geriatric Medicine\, Department of Medicine at the University of Colorado\, Anschutz. \nJenny Portz\, PhD\, MSW\, is an associate professor of general internal medicine at the University of Colorado Anschutz. \nJulia Burgdorf\, PhD\, is a research scientist at the Center for Home Care Policy Research at VNS Health. \nJody Long\, MSN\, MBA\, RN\, CEN\, is the director of clinical affairs for PointClickCare. \nZoom Conferencing \nJoin from PC\, Mac\, iOS or Android: https://hebrewseniorlife.zoom.us/j/86937720056  \nDial-In:  +1 646 518 9805 US (New York)  or  +1 213 338 8477 US (Los Angeles) \nMeeting ID: 869 3772 0056 \nIMPACT GR_March 2026_Lum & Portz_Flyer_20260225 \n*For print/downloadable purposes only.
URL:https://impactcollaboratory.org/event/grand-rounds-hillary-lum-md-phd-jenny-portz-phd-julia-burgdorf-phd-msw-jody-long-msn-mba-rn-cen/
CATEGORIES:Grand Rounds,upcoming
END:VEVENT
BEGIN:VEVENT
DTSTART;TZID=America/New_York:20260402T200000
DTEND;TZID=America/New_York:20260402T200000
DTSTAMP:20260423T060712
CREATED:20260326T205023Z
LAST-MODIFIED:20260326T205023Z
UID:17387-1775160000-1775160000@impactcollaboratory.org
SUMMARY:Health Care Scholars LOI Due
DESCRIPTION:
URL:https://impactcollaboratory.org/event/health-care-scholars-loi-due/
CATEGORIES:Health Care Systems Scholars,upcoming
END:VEVENT
BEGIN:VEVENT
DTSTART;TZID=America/New_York:20260416T120000
DTEND;TZID=America/New_York:20260416T130000
DTSTAMP:20260423T060712
CREATED:20260320T140104Z
LAST-MODIFIED:20260414T160137Z
UID:17354-1776340800-1776344400@impactcollaboratory.org
SUMMARY:Grand Rounds: David Reuben\, MD and Jeff Williamson\, MD\, MHS
DESCRIPTION:Join us for the IMPACT Grand Rounds on Thursday\, April 16\, at 12 p.m. ET\, with David Reuben\, MD and Jeff Williamson\, MD\, MHS\, who will be presenting on “D-CARE: Results of a Pragmatic Intervention Trial and Implications for the GUIDE model.” \nDavid Reuben\, MD is the Archstone Professor of Medicine at the David Geffen School of Medicine at UCLA. \nJeff Williamson\, MD\, MHS is a professor\, Chief of Geriatric Medicine\, and Director for the Center for Healthcare Innovation at Wake Forest School of Medicine. \n Zoom Conferencing \nJoin from PC\, Mac\, iOS or Android: https://hebrewseniorlife.zoom.us/j/86937720056  \nDial-In:  +1 646 518 9805 US (New York)  or  +1 213 338 8477 US (Los Angeles) \nMeeting ID: 869 3772 0056 \nApril 2026_IMPACT Grand Rounds_Flyer
URL:https://impactcollaboratory.org/event/grand-rounds-david-reuben-md-and-jeff-williamson-md-mhs/
CATEGORIES:Grand Rounds,upcoming
END:VEVENT
BEGIN:VEVENT
DTSTART;TZID=America/New_York:20260521T120000
DTEND;TZID=America/New_York:20260521T130000
DTSTAMP:20260423T060712
CREATED:20260417T160919Z
LAST-MODIFIED:20260417T163740Z
UID:17652-1779364800-1779368400@impactcollaboratory.org
SUMMARY:Grand Rounds: Stephanie Morain\, PhD\, MPH
DESCRIPTION:Join us for the IMPACT Grand Rounds on Thursday\, May 21\, at 12 p.m. ET\, with Stephanie Morain\, PhD\, MPH\, who will be presenting\, “ePCTs and Health Systems’ Ethical Obligations.” \nStephanie Morain\, PhD\, MPH is Associate Professor of Health Policy & Management\, Johns Hopkins Bloomberg School of Public Health\, Dracopoulos Rising Professor of Bioethics\, Berman Institute of Bioethics \n Zoom Conferencing \nJoin from PC\, Mac\, iOS or Android: https://hebrewseniorlife.zoom.us/j/86937720056  \nDial-In:  +1 646 518 9805 US (New York)  or  +1 213 338 8477 US (Los Angeles) \nMeeting ID: 869 3772 0056 \nEvent Flyer: Flyer_May Grand Rounds_Morain_4.16.26
URL:https://impactcollaboratory.org/event/grand-rounds-stephanie-morain-phd-mph/
CATEGORIES:Grand Rounds,upcoming
END:VEVENT
BEGIN:VEVENT
DTSTART;VALUE=DATE:20260527
DTEND;VALUE=DATE:20260529
DTSTAMP:20260423T060712
CREATED:20260327T210820Z
LAST-MODIFIED:20260327T210820Z
UID:17415-1779840000-1780012799@impactcollaboratory.org
SUMMARY:2026 IMPACT Collaboratory Scientific Conference
DESCRIPTION:This is an annual meeting for members of the NIA IMPACT Collaboratory. Registration is invitation-only\, but portions of the event will be broadcast on LinkedIn Live. \nWednesday\, May 27\, 2026 | 8:00 AM – 5:00 PM ET \nThursday\, May 28\, 2026 | 9:00 AM – 3:00 PM ET \nZoom Details for Virtual Attendees: If you have any questions or need assistance\, please email impactcollaboratory@brown.edu.
URL:https://impactcollaboratory.org/event/2026-impact-collaboratory-scientific-conference/
CATEGORIES:upcoming
END:VEVENT
END:VCALENDAR