BEGIN:VCALENDAR
VERSION:2.0
PRODID:-//NIA IMPACT Collaboratory - ECPv6.15.20//NONSGML v1.0//EN
CALSCALE:GREGORIAN
METHOD:PUBLISH
X-ORIGINAL-URL:https://impactcollaboratory.org
X-WR-CALDESC:Events for NIA IMPACT Collaboratory
REFRESH-INTERVAL;VALUE=DURATION:PT1H
X-Robots-Tag:noindex
X-PUBLISHED-TTL:PT1H
BEGIN:VTIMEZONE
TZID:America/New_York
BEGIN:DAYLIGHT
TZOFFSETFROM:-0500
TZOFFSETTO:-0400
TZNAME:EDT
DTSTART:20250309T070000
END:DAYLIGHT
BEGIN:STANDARD
TZOFFSETFROM:-0400
TZOFFSETTO:-0500
TZNAME:EST
DTSTART:20251102T060000
END:STANDARD
BEGIN:DAYLIGHT
TZOFFSETFROM:-0500
TZOFFSETTO:-0400
TZNAME:EDT
DTSTART:20260308T070000
END:DAYLIGHT
BEGIN:STANDARD
TZOFFSETFROM:-0400
TZOFFSETTO:-0500
TZNAME:EST
DTSTART:20261101T060000
END:STANDARD
BEGIN:DAYLIGHT
TZOFFSETFROM:-0500
TZOFFSETTO:-0400
TZNAME:EDT
DTSTART:20270314T070000
END:DAYLIGHT
BEGIN:STANDARD
TZOFFSETFROM:-0400
TZOFFSETTO:-0500
TZNAME:EST
DTSTART:20271107T060000
END:STANDARD
END:VTIMEZONE
BEGIN:VEVENT
DTSTART;VALUE=DATE:20260923
DTEND;VALUE=DATE:20260926
DTSTAMP:20260422T183015
CREATED:20260112T192356Z
LAST-MODIFIED:20260112T192512Z
UID:17059-1790121600-1790380799@impactcollaboratory.org
SUMMARY:4th Biennial Conference on Caregiving Research
DESCRIPTION:The Family Caregiving Collaborative at the University of Utah College of Nursing will host the 4th Biennial Conference on Caregiving Research\, Reaching New Heights: Elevating Caregiving Research\, Policy\, and Practice\, September 23 to 25\, 2026\, in Salt Lake City\, UT. \nVisit the meeting website here. To stay informed about this conference\, sign up for our listserv. \nFor questions\, please contact fcc@nurs.utah.edu
URL:https://impactcollaboratory.org/event/4th-biennial-conference-on-caregiving-research/
CATEGORIES:interest
END:VEVENT
END:VCALENDAR