BEGIN:VCALENDAR
VERSION:2.0
PRODID:-//NIA IMPACT Collaboratory - ECPv6.15.20//NONSGML v1.0//EN
CALSCALE:GREGORIAN
METHOD:PUBLISH
X-WR-CALNAME:NIA IMPACT Collaboratory
X-ORIGINAL-URL:https://impactcollaboratory.org
X-WR-CALDESC:Events for NIA IMPACT Collaboratory
REFRESH-INTERVAL;VALUE=DURATION:PT1H
X-Robots-Tag:noindex
X-PUBLISHED-TTL:PT1H
BEGIN:VTIMEZONE
TZID:America/New_York
BEGIN:DAYLIGHT
TZOFFSETFROM:-0500
TZOFFSETTO:-0400
TZNAME:EDT
DTSTART:20240310T070000
END:DAYLIGHT
BEGIN:STANDARD
TZOFFSETFROM:-0400
TZOFFSETTO:-0500
TZNAME:EST
DTSTART:20241103T060000
END:STANDARD
BEGIN:DAYLIGHT
TZOFFSETFROM:-0500
TZOFFSETTO:-0400
TZNAME:EDT
DTSTART:20250309T070000
END:DAYLIGHT
BEGIN:STANDARD
TZOFFSETFROM:-0400
TZOFFSETTO:-0500
TZNAME:EST
DTSTART:20251102T060000
END:STANDARD
BEGIN:DAYLIGHT
TZOFFSETFROM:-0500
TZOFFSETTO:-0400
TZNAME:EDT
DTSTART:20260308T070000
END:DAYLIGHT
BEGIN:STANDARD
TZOFFSETFROM:-0400
TZOFFSETTO:-0500
TZNAME:EST
DTSTART:20261101T060000
END:STANDARD
END:VTIMEZONE
BEGIN:VEVENT
DTSTART;TZID=America/New_York:20250707T100000
DTEND;TZID=America/New_York:20250711T140000
DTSTAMP:20260423T220308
CREATED:20250422T170911Z
LAST-MODIFIED:20250422T170911Z
UID:15903-1751882400-1752242400@impactcollaboratory.org
SUMMARY:Center for Research on families Workshop - Introduction to Dyadic Data Analysis
DESCRIPTION:Introduction to Dyadic Data Analysis 2025 to be held July 7-11\, 10am to 2pm daily \nThis virtual two and half-day workshop will cover an introduction to conducting dyadic data analysis using a structural equation modeling framework in Mplus. The workshop will introduce the conceptual and statistical background for dyadic data analysis. Common applications of dyadic modeling\, including the Actor-Partner Interdependence Model (APIM)\, decomposition of interdependence effects in APIM\, and power analysis for APIM will be introduced. Longitudinal applications will also be covered with a light touch. Example datasets and associated Mplus syntax will be provided. \nWorkshop Instructors: Niall Bolger\, Columbia University & J.P. Laurenceau\, University of Delaware \nFor more information: https://www.umass.edu/family/events/introduction-dyadic-data-analysis-0 \nFor questions about the workshop or your registration\, please contact crf@umass.edu
URL:https://impactcollaboratory.org/event/center-for-research-on-families-workshop-introduction-to-dyadic-data-analysis/
CATEGORIES:interest
END:VEVENT
BEGIN:VEVENT
DTSTART;TZID=America/New_York:20250710T130000
DTEND;TZID=America/New_York:20250710T140000
DTSTAMP:20260423T220308
CREATED:20250610T162744Z
LAST-MODIFIED:20250610T162744Z
UID:16001-1752152400-1752156000@impactcollaboratory.org
SUMMARY:LTC Data Cooperative | Ask & Explore: Office Hours for Interested Researchers
DESCRIPTION:Are you considering applying to the  Long-Term Care (LTC) Data Cooperative? Have a research proposal you’d like to discuss? \nJoin our new Ask & Explore: Office Hours for Interested Researchers series to: \n Discuss research ideas\n Get questions answered\n Receive expert guidance from the panel of experts: \n\nStephanie Kissam\, MPH\, Executive Director\, Long-Term Care Data Cooperative\nElizabeth White\, APRN\, PhD\, Assistant Professor\, Health Services\, Policy & Practice\, Brown University School of Public Health\nAmy Recker\, MPH\, Project Director\, Brown University School of Public Health\n\nHow to prepare:\nExplore LTC Data Coop training materials ahead of the session. These resources provide essential insights into utilizing the LTC Data Cooperative effectively. \nRegister NOW to secure your spot!
URL:https://impactcollaboratory.org/event/ltc-data-cooperative-ask-explore-office-hours-for-interested-researchers-5/
LOCATION:https://hebrewseniorlife.zoom.us/meeting/register/dpfyH9qlQg6qwHeK6fRboA
CATEGORIES:upcoming
END:VEVENT
END:VCALENDAR