BEGIN:VCALENDAR
VERSION:2.0
PRODID:-//NIA IMPACT Collaboratory - ECPv6.15.20//NONSGML v1.0//EN
CALSCALE:GREGORIAN
METHOD:PUBLISH
X-WR-CALNAME:NIA IMPACT Collaboratory
X-ORIGINAL-URL:https://impactcollaboratory.org
X-WR-CALDESC:Events for NIA IMPACT Collaboratory
REFRESH-INTERVAL;VALUE=DURATION:PT1H
X-Robots-Tag:noindex
X-PUBLISHED-TTL:PT1H
BEGIN:VTIMEZONE
TZID:America/New_York
BEGIN:DAYLIGHT
TZOFFSETFROM:-0500
TZOFFSETTO:-0400
TZNAME:EDT
DTSTART:20240310T070000
END:DAYLIGHT
BEGIN:STANDARD
TZOFFSETFROM:-0400
TZOFFSETTO:-0500
TZNAME:EST
DTSTART:20241103T060000
END:STANDARD
BEGIN:DAYLIGHT
TZOFFSETFROM:-0500
TZOFFSETTO:-0400
TZNAME:EDT
DTSTART:20250309T070000
END:DAYLIGHT
BEGIN:STANDARD
TZOFFSETFROM:-0400
TZOFFSETTO:-0500
TZNAME:EST
DTSTART:20251102T060000
END:STANDARD
BEGIN:DAYLIGHT
TZOFFSETFROM:-0500
TZOFFSETTO:-0400
TZNAME:EDT
DTSTART:20260308T070000
END:DAYLIGHT
BEGIN:STANDARD
TZOFFSETFROM:-0400
TZOFFSETTO:-0500
TZNAME:EST
DTSTART:20261101T060000
END:STANDARD
END:VTIMEZONE
BEGIN:VEVENT
DTSTART;TZID=America/New_York:20250911T130000
DTEND;TZID=America/New_York:20250911T140000
DTSTAMP:20260423T182045
CREATED:20250610T163225Z
LAST-MODIFIED:20250610T163225Z
UID:16007-1757595600-1757599200@impactcollaboratory.org
SUMMARY:LTC Data Cooperative | Ask & Explore: Office Hours for Interested Researchers
DESCRIPTION:Are you considering applying to the  Long-Term Care (LTC) Data Cooperative? Have a research proposal you’d like to discuss? \nJoin our new Ask & Explore: Office Hours for Interested Researchers series to: \n Discuss research ideas\n Get questions answered\n Receive expert guidance from the panel of experts: \n\nStephanie Kissam\, MPH\, Executive Director\, Long-Term Care Data Cooperative\nElizabeth White\, APRN\, PhD\, Assistant Professor\, Health Services\, Policy & Practice\, Brown University School of Public Health\nAmy Recker\, MPH\, Project Director\, Brown University School of Public Health\n\nHow to prepare:\nExplore LTC Data Coop training materials ahead of the session. These resources provide essential insights into utilizing the LTC Data Cooperative effectively. \nRegister NOW to secure your spot!
URL:https://impactcollaboratory.org/event/ltc-data-cooperative-ask-explore-office-hours-for-interested-researchers-7/
LOCATION:https://hebrewseniorlife.zoom.us/meeting/register/M8RTpUuUS8Kzogxv9l2xcA
CATEGORIES:upcoming
END:VEVENT
BEGIN:VEVENT
DTSTART;TZID=America/New_York:20250924T140000
DTEND;TZID=America/New_York:20250924T150000
DTSTAMP:20260423T182045
CREATED:20250919T211117Z
LAST-MODIFIED:20250919T211117Z
UID:16106-1758722400-1758726000@impactcollaboratory.org
SUMMARY:ASCENT Consortium for Palliative Care Informational Webinars for Funding Opportunities
DESCRIPTION:The ASCENT Consortium is officially accepting applications for the first ASCENT funding opportunities. Letters of Intent are due October 15\, 2025. Learn more below and at ascentpalliativecare.org. \nResearch Scholar Award\nThis opportunity offers protected time\, mentorship\, and training to help early-career palliative care researchers develop competitive research programs and transition to larger\, extramurally funded grants. \nPilot and Exploratory Studies Award\nThis opportunity offers resources\, mentorship\, and community to support palliative care researchers—whether transitioning from a K to an R award or exploring new directions—in building foundational evidence that can lead to larger\, externally funded studies. \nRegister here for our informational webinar on September 24\, 2025\, at 2-3 PM ET.
URL:https://impactcollaboratory.org/event/ascent-consortium-for-palliative-care-informational-webinars-for-funding-opportunities/
CATEGORIES:interest
END:VEVENT
BEGIN:VEVENT
DTSTART;TZID=America/New_York:20250926T130000
DTEND;TZID=America/New_York:20250926T140000
DTSTAMP:20260423T182045
CREATED:20250912T213936Z
LAST-MODIFIED:20250912T214116Z
UID:16084-1758891600-1758895200@impactcollaboratory.org
SUMMARY:Rethinking Clinical Trials Grand Rounds: Significance in Pragmatic Clinical Trials: P Values vs Decision-Maker Perspectives
DESCRIPTION:In a special session of Rethinking Clinical Trials Grand Rounds on September 26\, longtime leaders from the NIH Pragmatic Trials Collaboratory will present “Significance in Pragmatic Clinical Trials: P Values vs Decision-Maker Perspectives.” The Grand Rounds session will be held on Friday\, September 26\, 2025\, at 1:00 pm eastern. Learn more and register at: https://duke.is/pctnews20250926.
URL:https://impactcollaboratory.org/event/rethinking-clinical-trials-grand-rounds-significance-in-pragmatic-clinical-trials-p-values-vs-decision-maker-perspectives/
CATEGORIES:interest
ATTACH;FMTTYPE=image/png:https://impactcollaboratory.org/wp-content/uploads/2025/09/20250926-Simon-Huang-Turner-Grand-Rounds.png
END:VEVENT
END:VCALENDAR