BEGIN:VCALENDAR
VERSION:2.0
PRODID:-//NIA IMPACT Collaboratory - ECPv6.15.20//NONSGML v1.0//EN
CALSCALE:GREGORIAN
METHOD:PUBLISH
X-WR-CALNAME:NIA IMPACT Collaboratory
X-ORIGINAL-URL:https://impactcollaboratory.org
X-WR-CALDESC:Events for NIA IMPACT Collaboratory
REFRESH-INTERVAL;VALUE=DURATION:PT1H
X-Robots-Tag:noindex
X-PUBLISHED-TTL:PT1H
BEGIN:VTIMEZONE
TZID:America/New_York
BEGIN:DAYLIGHT
TZOFFSETFROM:-0500
TZOFFSETTO:-0400
TZNAME:EDT
DTSTART:20240310T070000
END:DAYLIGHT
BEGIN:STANDARD
TZOFFSETFROM:-0400
TZOFFSETTO:-0500
TZNAME:EST
DTSTART:20241103T060000
END:STANDARD
BEGIN:DAYLIGHT
TZOFFSETFROM:-0500
TZOFFSETTO:-0400
TZNAME:EDT
DTSTART:20250309T070000
END:DAYLIGHT
BEGIN:STANDARD
TZOFFSETFROM:-0400
TZOFFSETTO:-0500
TZNAME:EST
DTSTART:20251102T060000
END:STANDARD
BEGIN:DAYLIGHT
TZOFFSETFROM:-0500
TZOFFSETTO:-0400
TZNAME:EDT
DTSTART:20260308T070000
END:DAYLIGHT
BEGIN:STANDARD
TZOFFSETFROM:-0400
TZOFFSETTO:-0500
TZNAME:EST
DTSTART:20261101T060000
END:STANDARD
END:VTIMEZONE
BEGIN:VEVENT
DTSTART;VALUE=DATE:20251104
DTEND;VALUE=DATE:20251106
DTSTAMP:20260423T151039
CREATED:20250918T230431Z
LAST-MODIFIED:20250918T230631Z
UID:16099-1762214400-1762387199@impactcollaboratory.org
SUMMARY:NIH Pragmatic Trials Collaboratory 2025 Virtual Workshop
DESCRIPTION:November 4th and 5th — Join the NIH Pragmatic Trials Collaboratory for virtual workshop Digging into Dilemmas of Pragmatic Clinical Trials! \nExperts\, including IMPACT Principal Investigator Vincent Mor\, PhD\, will discuss the state of healthcare delivery in the United States and the constraints on healthcare delivery systems that researchers must understand.  \nSpeakers will explore:   \n\nChallenges and emerging opportunities in pragmatic clinical trials \n\n\nPlatform trials as an emerging method \n\n\nWhat can be learned from pragmatic trials with null findings \n\n\nRole of pragmatic trials in a time of increasing use of artificial intelligence\n \n\nAll sessions are free and open to the public. Learn more and register today!   \n“Digging into Dilemmas of Pragmatic Clinical Trials.” 
URL:https://impactcollaboratory.org/event/nih-pragmatic-trials-collaboratory-2025-virtual-workshop/
CATEGORIES:interest
ATTACH;FMTTYPE=image/png:https://impactcollaboratory.org/wp-content/uploads/2025/09/2025-NIH-Workshop-Social-Graphic.png
END:VEVENT
BEGIN:VEVENT
DTSTART;VALUE=DATE:20251106
DTEND;VALUE=DATE:20251107
DTSTAMP:20260423T151039
CREATED:20251010T182540Z
LAST-MODIFIED:20251105T191146Z
UID:16239-1762387200-1762473599@impactcollaboratory.org
SUMMARY:Pilot Grant LOI Due
DESCRIPTION:
URL:https://impactcollaboratory.org/event/pilot-grant-loi-due/
CATEGORIES:Event Grants,Pilot Grants
END:VEVENT
BEGIN:VEVENT
DTSTART;VALUE=DATE:20251113
DTEND;VALUE=DATE:20251114
DTSTAMP:20260423T151039
CREATED:20251010T182944Z
LAST-MODIFIED:20251105T191129Z
UID:16247-1762992000-1763078399@impactcollaboratory.org
SUMMARY:Demonstration Project LOI Due
DESCRIPTION:
URL:https://impactcollaboratory.org/event/demonstration-project-loi-due/
CATEGORIES:Demonstration Projects,Event Grants
END:VEVENT
BEGIN:VEVENT
DTSTART;VALUE=DATE:20251118
DTEND;VALUE=DATE:20251119
DTSTAMP:20260423T151039
CREATED:20251105T195045Z
LAST-MODIFIED:20251105T195140Z
UID:16434-1763424000-1763510399@impactcollaboratory.org
SUMMARY:Career Development Award RFA Release
DESCRIPTION:
URL:https://impactcollaboratory.org/event/career-development-award-rfa-release/
CATEGORIES:Career Development Awards,Event Grants
END:VEVENT
BEGIN:VEVENT
DTSTART;TZID=America/New_York:20251120T120000
DTEND;TZID=America/New_York:20251120T130000
DTSTAMP:20260423T151039
CREATED:20251029T215844Z
LAST-MODIFIED:20251118T194914Z
UID:16378-1763640000-1763643600@impactcollaboratory.org
SUMMARY:Grand Rounds: Richard W. Grant MD MPH | Using pragmatic trials to address prescription safety in older patients with diabetes
DESCRIPTION:Join us for IMPACT Grand Rounds on Thursday\, November 20 at 12:00 PM ET\, with Richard W. Grant MD MPH who will be presenting on Using pragmatic trials to address prescription safety in older patients with diabetes. \nRichard W. Grant\, MD\, MPH\, is a research scientist at the Kaiser Permanente Division of Research\, Kaiser Permanente Northern California and The Permanente Medical Group regional director of Research and Evaluation for Complex Needs. Dr. Grant is a board-certified primary care physician. He received his medical degree from University of California\, San Francisco\, completed his medical residency training at Massachusetts General Hospital\, and received his MPH from the Harvard School of Public Health. His research focuses on identifying and overcoming barriers to effective primary care in patients with complex diseases. He has a special interest in type 2 diabetes and related chronic conditions. Dr. Grant has published over 120 peer-reviewed scientific papers and is an Associate Editor for JAMA Internal Medicine. He is the past chair of the American Diabetes Association’s Profession Practice Committee and has served on the editorial board for Diabetes Care. \nZoom Conferencing\nJoin from PC\, Mac\, iOS or Android: https://hebrewseniorlife.zoom.us/j/86937720056 \nDial-In:  +1 646 518 9805 US (New York)  or  +1 213 338 8477 US (Los Angeles) \nMeeting ID:  869 3772 0056 \nEvent Flyer: IMPACT GR_Nov20_2025_Grant_website
URL:https://impactcollaboratory.org/event/grand-rounds-richard-w-grant-md-mph-using-pragmatic-trials-to-address-deprescribing-in-older-patients-with-diabetes/
LOCATION:https://hebrewseniorlife.zoom.us/j/86937720056
CATEGORIES:Grand Rounds,upcoming
END:VEVENT
END:VCALENDAR