BEGIN:VCALENDAR
VERSION:2.0
PRODID:-//NIA IMPACT Collaboratory - ECPv6.15.20//NONSGML v1.0//EN
CALSCALE:GREGORIAN
METHOD:PUBLISH
X-WR-CALNAME:NIA IMPACT Collaboratory
X-ORIGINAL-URL:https://impactcollaboratory.org
X-WR-CALDESC:Events for NIA IMPACT Collaboratory
REFRESH-INTERVAL;VALUE=DURATION:PT1H
X-Robots-Tag:noindex
X-PUBLISHED-TTL:PT1H
BEGIN:VTIMEZONE
TZID:America/New_York
BEGIN:DAYLIGHT
TZOFFSETFROM:-0500
TZOFFSETTO:-0400
TZNAME:EDT
DTSTART:20230312T070000
END:DAYLIGHT
BEGIN:STANDARD
TZOFFSETFROM:-0400
TZOFFSETTO:-0500
TZNAME:EST
DTSTART:20231105T060000
END:STANDARD
BEGIN:DAYLIGHT
TZOFFSETFROM:-0500
TZOFFSETTO:-0400
TZNAME:EDT
DTSTART:20240310T070000
END:DAYLIGHT
BEGIN:STANDARD
TZOFFSETFROM:-0400
TZOFFSETTO:-0500
TZNAME:EST
DTSTART:20241103T060000
END:STANDARD
BEGIN:DAYLIGHT
TZOFFSETFROM:-0500
TZOFFSETTO:-0400
TZNAME:EDT
DTSTART:20250309T070000
END:DAYLIGHT
BEGIN:STANDARD
TZOFFSETFROM:-0400
TZOFFSETTO:-0500
TZNAME:EST
DTSTART:20251102T060000
END:STANDARD
END:VTIMEZONE
BEGIN:VEVENT
DTSTART;TZID=America/New_York:20240425T173000
DTEND;TZID=America/New_York:20240425T193000
DTSTAMP:20260425T210530
CREATED:20240417T200827Z
LAST-MODIFIED:20240417T201230Z
UID:14298-1714066200-1714073400@impactcollaboratory.org
SUMMARY:Movie Night and Discussion about Early-Onset Dementia
DESCRIPTION:Screen a short film – Pedacito de Carne – a story that follows a young millennial Hispanic woman caregiving for her mother. The film will be followed by a live question and answer session with the filmmakers and an MGH Neurology Department doctor to raise awareness about young-onset dementia\, its impact on caregivers and brain health for all. The screening is offered in-person and virtually. It is presented by MGHFrontotemporal Disorders Unit\, Massachusetts Alzheimer’s Disease Research Center and Union Capital Boston. \nDate:  Thursday\, April 25\, 2024\nTime:  5:30 PM – 7:30 PM\nIn-Person Location: Thomas Merino Community Room\nEast Boston Branch of the Boston Public Library\n365 Bremen St.\, East Boston\, MA 02128\nOnline: Livestream link will be sent after registration \nRegister for the screening 
URL:https://impactcollaboratory.org/event/movie-night-and-discussion-about-early-onset-dementia-april-25/
LOCATION:Hybrid
CATEGORIES:interest
END:VEVENT
END:VCALENDAR